PDS_VERSION_ID = PDS3
/* FILE DATA ELEMENTS */
RECORD_TYPE = UNDEFINED
/* POINTERS TO DATA OBJECTS */
^IMAGE = ("H9472_0000_S24.TIF")
/* IDENTIFICATION DATA ELEMENTS */
DATA_SET_ID = "MEX-M-HRSC-4-REFDR-MAPPROJECT-EXT3-V4.0"
DATA_SET_NAME = "MARS EXPRESS HRSC MAP PROJECTED REFDR EXTENSION3 V4.0"
DETECTOR_ID = MEX_HRSC_S2
EVENT_TYPE = "MARS-REGIONAL-MAPPING-Vo-Te-Pf"
INSTRUMENT_HOST_ID = MEX
INSTRUMENT_HOST_NAME = "MARS EXPRESS"
INSTRUMENT_ID = HRSC
INSTRUMENT_NAME = "HIGH RESOLUTION STEREO CAMERA"
MISSION_NAME = "MARS EXPRESS"
MISSION_PHASE_NAME = ME_Phase_23
PROCESSING_LEVEL_ID = 4
PRODUCT_CREATION_TIME = 2023-02-04T05:05:37.000Z
PRODUCT_ID = "H9472_0000_S24.TIF"
RELEASE_ID = 0006
REVISION_ID = 0000
/* QUALITY DATA ELEMENTS */
DATA_QUALITY_ID = 1
DATA_QUALITY_DESC = "Data calculated based on original SPICE kernels"
/* TIME DATA ELEMENTS */
SPACECRAFT_CLOCK_START_COUNT = "1/0255196922.09047"
SPACECRAFT_CLOCK_STOP_COUNT = "1/0255197141.41242"
START_TIME = 2011-06-03T16:03:11.495Z
STOP_TIME = 2011-06-03T16:05:42.642Z
/* ORBITAL DATA ELEMENTS */
ASCENDING_NODE_LONGITUDE = 36.39
MAXIMUM_RESOLUTION = 0.0313
FOOTPRINT_POINT_LATITUDE = (37.8341,37.836,37.8378,37.8392,37.8405 ,37.8416,37.8425,37.8426,37.9148, 37.6442,37.4639,37.1932,37.0129,36.8326 ,36.5628,36.3829,36.2031,35.9338, 35.7543,35.4853,35.2169,34.8588,34.5013 ,34.2334,33.9656,33.6092,33.2532, 32.8978,32.6304,32.4507,32.2396,32.0279 ,31.8169,31.6056,31.3944,31.1835, 30.9732,30.7629,30.5526,30.3427,30.1332 ,29.9238,29.7144,29.5055,29.2964,29.088 ,28.8795,28.6713,28.463,28.3591,28.3406 ,28.3353,28.3269,28.3224,28.3185, 28.3145,28.3142,28.3147,28.5227,28.7313 ,29.0444,29.2533,29.4626,29.6719, 29.8818,30.0916,30.4069,30.6172,30.8276 ,31.0384,31.3527,31.5649,31.7758, 32.0948,32.3071,32.5081,32.8637,33.2198 ,33.5764,33.8441,34.2911,34.5596, 34.9179,35.0972,35.2766,35.4561,35.7256 ,35.9058,36.0856,36.2657,36.4459, 36.6262,36.8969,37.0774,37.258,37.4387, 37.6195,37.8003,37.8907,37.8341)
FOOTPRINT_POINT_LONGITUDE = (167.697,167.454,167.209,166.962, 166.715,166.465,166.12,166.104,166.048, 166.06,166.068,166.079,166.087,166.094, 166.105,166.112,166.119,166.129,166.135 ,166.145,166.154,166.166,166.177, 166.185,166.193,166.204,166.213,166.223 ,166.23,166.234,166.239,166.244,166.248 ,166.253,166.258,166.262,166.266,166.27 ,166.274,166.278,166.282,166.285, 166.288,166.292,166.295,166.298,166.3, 166.303,166.306,166.307,166.307,166.63, 167.073,167.375,167.616,167.855,167.87, 167.875,167.872,167.869,167.865,167.862 ,167.859,167.856,167.852,167.849, 167.844,167.841,167.838,167.834,167.829 ,167.826,167.822,167.817,167.814,167.81 ,167.804,167.798,167.791,167.786, 167.778,167.773,167.766,167.763,167.759 ,167.756,167.75,167.746,167.743,167.739 ,167.735,167.731,167.726,167.722, 167.718,167.714,167.71,167.706,167.704, 167.697)
ORBIT_NUMBER = 9472
ORBITAL_ECCENTRICITY = 0.575
ORBITAL_INCLINATION = 86.87
ORBITAL_SEMIMAJOR_AXIS = 8818.59
PERIAPSIS_ALTITUDE = 362.8
PERIAPSIS_ARGUMENT_ANGLE = 142.96
PERIAPSIS_TIME = 2011-06-03T16:02:52.000Z
SPACECRAFT_ORIENTATION = (0.0,-1.0,0.0)
^MEX_ORIENTATION_DESC = "MEX_ORIENTATION_DESC.TXT"
SPACECRAFT_POINTING_MODE = ACROSSTRACK
^MEX_POINTING_DESC = "MEX_POINTING_DESC.TXT"
RIGHT_ASCENSION = -1e+32
DECLINATION = -1e+32
OFFSET_ANGLE = -0.45
SPACECRAFT_SOLAR_DISTANCE = 2.14023e+08
TARGET_NAME = MARS
/* CAMERA DATA ELEMENTS */
DETECTOR_TEMPERATURE = 18.9822
FOCAL_PLANE_TEMPERATURE = 9.8067
INST_CMPRS_NAME = "DISCRETE COSINE TRANSFORMATION (DCT)"
INST_CMPRS_RATIO = 8.60938
INST_CMPRS_QUALITY = 0
INST_CMPRS_QUANTZ_TBL_ID = 0
INSTRUMENT_TEMPERATURE = 11.8457
LENS_TEMPERATURE = 10.0106
MACROPIXEL_SIZE = 2
MISSING_FRAMES = 0
PIXEL_SUBSAMPLING_FLAG = N
SIGNAL_CHAIN_ID = 1
/* RADIOMETRIC DATA ELEMENTS */
BANDWIDTH = 178.0
CENTER_FILTER_WAVELENGTH = 679.0
RADIANCE_OFFSET = 2.72566
RADIANCE_SCALING_FACTOR = 0.0229731
REFLECTANCE_SCALING_FACTOR = 0.000557273
MEX:REFLECTANCE_OFFSET = 0.0661181
/* IMAGE OBJECT DEFINITIONS */
OBJECT = IMAGE
  INTERCHANGE_FORMAT = BINARY
  LINES = 22804
  LINE_SAMPLES = 3543
  SAMPLE_TYPE = UNSIGNED_INTEGER
  SAMPLE_BITS = 8
  BANDS = 1
  BAND_STORAGE_TYPE = BAND_SEQUENTIAL
  MAXIMUM = 255
  MEAN = 98.1952
  MINIMUM = 1
  STANDARD_DEVIATION = 37.249
END_OBJECT = IMAGE
/* MAP OBJECT DEFINITIONS */
OBJECT = IMAGE_MAP_PROJECTION
  ^DATA_SET_MAP_PROJECTION_CATALOG= "DSMAP.CAT"
  A_AXIS_RADIUS = 3396.0
  B_AXIS_RADIUS = 3396.0
  C_AXIS_RADIUS = 3396.0
  CENTER_LATITUDE = 0.0
  CENTER_LONGITUDE = 167.0
  COORDINATE_SYSTEM_NAME = PLANETOGRAPHIC
  COORDINATE_SYSTEM_TYPE = "BODY-FIXED ROTATING"
  EASTERNMOST_LONGITUDE = 167.875
  FIRST_STANDARD_PARALLEL = "N/A"
  LINE_FIRST_PIXEL = 1
  LINE_LAST_PIXEL = 22804
  LINE_PROJECTION_OFFSET = 89893.25
  MAP_PROJECTION_ROTATION = 0.0
  MAP_PROJECTION_TYPE = SINUSOIDAL
  MAP_RESOLUTION = 2370.85521546667
  MAP_SCALE = 0.025
  MAXIMUM_LATITUDE = 37.9148
  MINIMUM_LATITUDE = 28.3142
  POSITIVE_LONGITUDE_DIRECTION = EAST
  REFERENCE_LATITUDE = "N/A"
  REFERENCE_LONGITUDE = "N/A"
  SAMPLE_FIRST_PIXEL = 1
  SAMPLE_LAST_PIXEL = 3543
  SAMPLE_PROJECTION_OFFSET = 1762.75
  SECOND_STANDARD_PARALLEL = "N/A"
  WESTERNMOST_LONGITUDE = 166.048
END_OBJECT = IMAGE_MAP_PROJECTION
END
