PDS_VERSION_ID = PDS3
/* FILE DATA ELEMENTS */
RECORD_TYPE = UNDEFINED
/* POINTERS TO DATA OBJECTS */
^IMAGE = ("H9472_0000_P14.TIF")
/* IDENTIFICATION DATA ELEMENTS */
DATA_SET_ID = "MEX-M-HRSC-4-REFDR-MAPPROJECT-EXT3-V4.0"
DATA_SET_NAME = "MARS EXPRESS HRSC MAP PROJECTED REFDR EXTENSION3 V4.0"
DETECTOR_ID = MEX_HRSC_P1
EVENT_TYPE = "MARS-REGIONAL-MAPPING-Vo-Te-Pf"
INSTRUMENT_HOST_ID = MEX
INSTRUMENT_HOST_NAME = "MARS EXPRESS"
INSTRUMENT_ID = HRSC
INSTRUMENT_NAME = "HIGH RESOLUTION STEREO CAMERA"
MISSION_NAME = "MARS EXPRESS"
MISSION_PHASE_NAME = ME_Phase_23
PROCESSING_LEVEL_ID = 4
PRODUCT_CREATION_TIME = 2023-02-04T05:05:37.000Z
PRODUCT_ID = "H9472_0000_P14.TIF"
RELEASE_ID = 0006
REVISION_ID = 0000
/* QUALITY DATA ELEMENTS */
DATA_QUALITY_ID = 1
DATA_QUALITY_DESC = "Data calculated based on original SPICE kernels"
/* TIME DATA ELEMENTS */
SPACECRAFT_CLOCK_START_COUNT = "1/0255196922.09047"
SPACECRAFT_CLOCK_STOP_COUNT = "1/0255197141.41242"
START_TIME = 2011-06-03T16:02:16.571Z
STOP_TIME = 2011-06-03T16:04:44.848Z
/* ORBITAL DATA ELEMENTS */
ASCENDING_NODE_LONGITUDE = 36.39
MAXIMUM_RESOLUTION = 0.0601
FOOTPRINT_POINT_LATITUDE = (37.9568,37.9425,37.9258,37.8998, 37.8991,37.8503,37.2854,36.9087,36.5315 ,36.0595,35.4924,35.303,35.1138,34.9246 ,34.7354,34.546,34.3567,34.1672,33.9777 ,33.7881,33.5986,33.4089,33.2193, 32.9346,32.7447,32.4604,32.2702,31.9853 ,31.7953,31.6056,31.4159,31.2259, 31.0358,30.8458,30.6557,30.4658,30.2756 ,29.9903,29.7999,29.6097,29.4196, 29.2294,29.039,28.8488,28.6308,28.4039, 28.2904,28.2801,28.2931,28.3006,28.3098 ,28.3148,28.319,28.3192,28.3203,28.6616 ,28.8816,29.1674,29.358,29.5486,29.8343 ,30.0248,30.2153,30.4057,30.5962, 30.7867,30.9772,31.1676,31.3593,31.6443 ,31.835,32.0245,32.2145,32.4046,32.6899 ,32.8802,33.0704,33.2605,33.4505, 33.6406,33.8307,34.0207,34.2105,34.4004 ,34.5903,34.7801,35.0646,35.2543, 35.4439,35.6334,35.9175,36.107,36.2963, 36.4854,36.6746,37.0528,37.4305,37.8082 ,37.9024,37.9568)
FOOTPRINT_POINT_LONGITUDE = (167.694,167.226,166.754,166.127, 166.112,166.063,166.089,166.106,166.122 ,166.142,166.164,166.171,166.177, 166.184,166.191,166.198,166.204,166.21, 166.217,166.223,166.229,166.234,166.24, 166.248,166.254,166.262,166.267,166.274 ,166.279,166.284,166.289,166.293, 166.298,166.302,166.306,166.31,166.314, 166.32,166.323,166.327,166.33,166.334, 166.337,166.34,166.344,166.347,166.349, 166.349,166.744,167.009,167.371,167.606 ,167.826,167.84,167.844,167.84,167.838, 167.835,167.833,167.83,167.827,167.825, 167.822,167.82,167.818,167.815,167.813, 167.81,167.808,167.804,167.801,167.799, 167.796,167.794,167.79,167.787,167.784, 167.781,167.779,167.776,167.773,167.77, 167.767,167.764,167.761,167.758,167.753 ,167.75,167.747,167.744,167.739,167.736 ,167.732,167.729,167.726,167.719, 167.712,167.704,167.703,167.694)
ORBIT_NUMBER = 9472
ORBITAL_ECCENTRICITY = 0.575
ORBITAL_INCLINATION = 86.87
ORBITAL_SEMIMAJOR_AXIS = 8818.59
PERIAPSIS_ALTITUDE = 362.8
PERIAPSIS_ARGUMENT_ANGLE = 142.96
PERIAPSIS_TIME = 2011-06-03T16:02:52.000Z
SPACECRAFT_ORIENTATION = (0.0,-1.0,0.0)
^MEX_ORIENTATION_DESC = "MEX_ORIENTATION_DESC.TXT"
SPACECRAFT_POINTING_MODE = ACROSSTRACK
^MEX_POINTING_DESC = "MEX_POINTING_DESC.TXT"
RIGHT_ASCENSION = -1e+32
DECLINATION = -1e+32
OFFSET_ANGLE = -0.45
SPACECRAFT_SOLAR_DISTANCE = 2.14023e+08
TARGET_NAME = MARS
/* CAMERA DATA ELEMENTS */
DETECTOR_TEMPERATURE = 17.9627
FOCAL_PLANE_TEMPERATURE = 9.8067
INST_CMPRS_NAME = "DISCRETE COSINE TRANSFORMATION (DCT)"
INST_CMPRS_RATIO = 8.81778
INST_CMPRS_QUALITY = 0
INST_CMPRS_QUANTZ_TBL_ID = 0
INSTRUMENT_TEMPERATURE = 11.8457
LENS_TEMPERATURE = 10.0106
MACROPIXEL_SIZE = 4
MISSING_FRAMES = 0
PIXEL_SUBSAMPLING_FLAG = N
SIGNAL_CHAIN_ID = 3
/* RADIOMETRIC DATA ELEMENTS */
BANDWIDTH = 174.0
CENTER_FILTER_WAVELENGTH = 675.0
RADIANCE_OFFSET = 2.75997
RADIANCE_SCALING_FACTOR = 0.0229997
REFLECTANCE_SCALING_FACTOR = 0.000566667
MEX:REFLECTANCE_OFFSET = 0.068
/* IMAGE OBJECT DEFINITIONS */
OBJECT = IMAGE
  INTERCHANGE_FORMAT = BINARY
  LINES = 11402
  LINE_SAMPLES = 1772
  SAMPLE_TYPE = UNSIGNED_INTEGER
  SAMPLE_BITS = 8
  BANDS = 1
  BAND_STORAGE_TYPE = BAND_SEQUENTIAL
  MAXIMUM = 255
  MEAN = 90.7708
  MINIMUM = 1
  STANDARD_DEVIATION = 36.1013
END_OBJECT = IMAGE
/* MAP OBJECT DEFINITIONS */
OBJECT = IMAGE_MAP_PROJECTION
  ^DATA_SET_MAP_PROJECTION_CATALOG= "DSMAP.CAT"
  A_AXIS_RADIUS = 3396.0
  B_AXIS_RADIUS = 3396.0
  C_AXIS_RADIUS = 3396.0
  CENTER_LATITUDE = 0.0
  CENTER_LONGITUDE = 167.0
  COORDINATE_SYSTEM_NAME = PLANETOGRAPHIC
  COORDINATE_SYSTEM_TYPE = "BODY-FIXED ROTATING"
  EASTERNMOST_LONGITUDE = 167.844
  FIRST_STANDARD_PARALLEL = "N/A"
  LINE_FIRST_PIXEL = 1
  LINE_LAST_PIXEL = 11402
  LINE_PROJECTION_OFFSET = 44946.375
  MAP_PROJECTION_ROTATION = 0.0
  MAP_PROJECTION_TYPE = SINUSOIDAL
  MAP_RESOLUTION = 1185.42760773333
  MAP_SCALE = 0.05
  MAXIMUM_LATITUDE = 37.9568
  MINIMUM_LATITUDE = 28.2801
  POSITIVE_LONGITUDE_DIRECTION = EAST
  REFERENCE_LATITUDE = "N/A"
  REFERENCE_LONGITUDE = "N/A"
  SAMPLE_FIRST_PIXEL = 1
  SAMPLE_LAST_PIXEL = 1772
  SAMPLE_PROJECTION_OFFSET = 881.125
  SECOND_STANDARD_PARALLEL = "N/A"
  WESTERNMOST_LONGITUDE = 166.063
END_OBJECT = IMAGE_MAP_PROJECTION
END
