PDS_VERSION_ID = PDS3
/* FILE DATA ELEMENTS */
RECORD_TYPE = UNDEFINED
/* POINTERS TO DATA OBJECTS */
^IMAGE = ("H9465_0000_S24.TIF")
/* IDENTIFICATION DATA ELEMENTS */
DATA_SET_ID = "MEX-M-HRSC-4-REFDR-MAPPROJECT-EXT3-V4.0"
DATA_SET_NAME = "MARS EXPRESS HRSC MAP PROJECTED REFDR EXTENSION3 V4.0"
DETECTOR_ID = MEX_HRSC_S2
EVENT_TYPE = "MARS-REGIONAL-MAPPING-Vo-Te-Pf"
INSTRUMENT_HOST_ID = MEX
INSTRUMENT_HOST_NAME = "MARS EXPRESS"
INSTRUMENT_ID = HRSC
INSTRUMENT_NAME = "HIGH RESOLUTION STEREO CAMERA"
MISSION_NAME = "MARS EXPRESS"
MISSION_PHASE_NAME = ME_Phase_23
PROCESSING_LEVEL_ID = 4
PRODUCT_CREATION_TIME = 2023-02-04T05:05:37.000Z
PRODUCT_ID = "H9465_0000_S24.TIF"
RELEASE_ID = 0006
REVISION_ID = 0000
/* QUALITY DATA ELEMENTS */
DATA_QUALITY_ID = 1
DATA_QUALITY_DESC = "Data calculated based on original SPICE kernels"
/* TIME DATA ELEMENTS */
SPACECRAFT_CLOCK_START_COUNT = "1/0255020576.08256"
SPACECRAFT_CLOCK_STOP_COUNT = "1/0255020867.17385"
START_TIME = 2011-06-01T15:04:10.986Z
STOP_TIME = 2011-06-01T15:07:48.211Z
/* ORBITAL DATA ELEMENTS */
ASCENDING_NODE_LONGITUDE = 36.52
MAXIMUM_RESOLUTION = 0.0315
FOOTPRINT_POINT_LATITUDE = (43.094,43.1156,43.1364,43.1598,43.1604 ,43.2413,42.9598,42.537,42.2543,41.9712 ,41.6907,41.4093,40.9896,40.7053, 40.2839,40.0028,39.7234,39.4433,39.1639 ,38.8838,38.4642,38.0443,37.6249, 37.3453,36.9264,36.5081,36.2293,35.9505 ,35.672,35.3939,35.114,34.8385,34.5604, 34.1449,33.8675,33.5911,33.177,32.9004, 32.6242,32.3486,32.0734,31.6609,31.2445 ,30.9687,30.5624,30.1554,29.8852, 29.4773,29.341,29.3321,29.2882,29.2512, 29.2224,29.2214,29.2215,29.6306,29.9037 ,30.1775,30.4542,30.7321,31.0063, 31.2735,31.5493,31.9633,32.3744,32.6522 ,32.9208,33.1986,33.6159,33.8936,34.174 ,34.5936,34.8716,35.1501,35.4292, 35.7069,36.1191,36.4013,36.6853,36.9661 ,37.2459,37.5266,37.9477,38.2284, 38.6495,38.9292,39.2104,39.632,39.9135, 40.1942,40.4779,40.7594,41.1826,41.4646 ,41.7462,42.1708,42.5957,43.0198, 43.1615,43.094)
FOOTPRINT_POINT_LONGITUDE = (161.977,161.416,160.833,160.107, 160.087,159.952,159.98,160.022,160.051, 160.08,160.105,160.13,160.165,160.194, 160.229,160.253,160.273,160.295,160.315 ,160.336,160.366,160.396,160.425, 160.444,160.472,160.499,160.516,160.533 ,160.55,160.566,160.585,160.597,160.613 ,160.635,160.65,160.663,160.683,160.697 ,160.71,160.722,160.734,160.752,160.775 ,160.788,160.798,160.809,160.816, 160.829,160.833,160.834,161.501,162.057 ,162.471,162.486,162.492,162.48,162.473 ,162.464,162.455,162.445,162.437, 162.432,162.423,162.41,162.398,162.388, 162.383,162.373,162.358,162.348,162.336 ,162.32,162.31,162.299,162.289,162.279, 162.266,162.254,162.24,162.228,162.216, 162.204,162.186,162.173,162.155,162.143 ,162.13,162.111,162.097,162.084,162.069 ,162.055,162.034,162.02,162.005,161.982 ,161.958,161.934,161.926,161.977)
ORBIT_NUMBER = 9465
ORBITAL_ECCENTRICITY = 0.575
ORBITAL_INCLINATION = 86.87
ORBITAL_SEMIMAJOR_AXIS = 8821.11
PERIAPSIS_ALTITUDE = 362.14
PERIAPSIS_ARGUMENT_ANGLE = 144.18
PERIAPSIS_TIME = 2011-06-01T15:05:32.000Z
SPACECRAFT_ORIENTATION = (0.0,-1.0,0.0)
^MEX_ORIENTATION_DESC = "MEX_ORIENTATION_DESC.TXT"
SPACECRAFT_POINTING_MODE = ACROSSTRACK
^MEX_POINTING_DESC = "MEX_POINTING_DESC.TXT"
RIGHT_ASCENSION = -1e+32
DECLINATION = -1e+32
OFFSET_ANGLE = -1.6
SPACECRAFT_SOLAR_DISTANCE = 2.13705e+08
TARGET_NAME = MARS
/* CAMERA DATA ELEMENTS */
DETECTOR_TEMPERATURE = 18.7783
FOCAL_PLANE_TEMPERATURE = 8.3794
INST_CMPRS_NAME = "DISCRETE COSINE TRANSFORMATION (DCT)"
INST_CMPRS_RATIO = 5.4698
INST_CMPRS_QUALITY = 0
INST_CMPRS_QUANTZ_TBL_ID = 0
INSTRUMENT_TEMPERATURE = 11.4379
LENS_TEMPERATURE = 9.3989
MACROPIXEL_SIZE = 2
MISSING_FRAMES = 0
PIXEL_SUBSAMPLING_FLAG = N
SIGNAL_CHAIN_ID = 1
/* RADIOMETRIC DATA ELEMENTS */
BANDWIDTH = 178.0
CENTER_FILTER_WAVELENGTH = 679.0
RADIANCE_OFFSET = 2.76634
RADIANCE_SCALING_FACTOR = 0.0260043
REFLECTANCE_SCALING_FACTOR = 0.000628929
MEX:REFLECTANCE_OFFSET = 0.0669057
/* IMAGE OBJECT DEFINITIONS */
OBJECT = IMAGE
  INTERCHANGE_FORMAT = BINARY
  LINES = 33197
  LINE_SAMPLES = 4844
  SAMPLE_TYPE = UNSIGNED_INTEGER
  SAMPLE_BITS = 8
  BANDS = 1
  BAND_STORAGE_TYPE = BAND_SEQUENTIAL
  MAXIMUM = 255
  MEAN = 90.5222
  MINIMUM = 1
  STANDARD_DEVIATION = 31.284
END_OBJECT = IMAGE
/* MAP OBJECT DEFINITIONS */
OBJECT = IMAGE_MAP_PROJECTION
  ^DATA_SET_MAP_PROJECTION_CATALOG= "DSMAP.CAT"
  A_AXIS_RADIUS = 3396.0
  B_AXIS_RADIUS = 3396.0
  C_AXIS_RADIUS = 3396.0
  CENTER_LATITUDE = 0.0
  CENTER_LONGITUDE = 161.0
  COORDINATE_SYSTEM_NAME = PLANETOGRAPHIC
  COORDINATE_SYSTEM_TYPE = "BODY-FIXED ROTATING"
  EASTERNMOST_LONGITUDE = 162.492
  FIRST_STANDARD_PARALLEL = "N/A"
  LINE_FIRST_PIXEL = 1
  LINE_LAST_PIXEL = 33197
  LINE_PROJECTION_OFFSET = 102500.75
  MAP_PROJECTION_ROTATION = 0.0
  MAP_PROJECTION_TYPE = SINUSOIDAL
  MAP_RESOLUTION = 2370.85521546667
  MAP_SCALE = 0.025
  MAXIMUM_LATITUDE = 43.2413
  MINIMUM_LATITUDE = 29.2214
  POSITIVE_LONGITUDE_DIRECTION = EAST
  REFERENCE_LATITUDE = "N/A"
  REFERENCE_LONGITUDE = "N/A"
  SAMPLE_FIRST_PIXEL = 1
  SAMPLE_LAST_PIXEL = 4844
  SAMPLE_PROJECTION_OFFSET = 1778.75
  SECOND_STANDARD_PARALLEL = "N/A"
  WESTERNMOST_LONGITUDE = 159.952
END_OBJECT = IMAGE_MAP_PROJECTION
END
