PDS_VERSION_ID = PDS3
/* FILE DATA ELEMENTS */
RECORD_TYPE = UNDEFINED
/* POINTERS TO DATA OBJECTS */
^IMAGE = ("H9462_0000_IR4.TIF")
/* IDENTIFICATION DATA ELEMENTS */
DATA_SET_ID = "MEX-M-HRSC-4-REFDR-MAPPROJECT-EXT3-V4.0"
DATA_SET_NAME = "MARS EXPRESS HRSC MAP PROJECTED REFDR EXTENSION3 V4.0"
DETECTOR_ID = MEX_HRSC_IR
EVENT_TYPE = "MARS-REGIONAL-MAPPING-Vo-Te"
INSTRUMENT_HOST_ID = MEX
INSTRUMENT_HOST_NAME = "MARS EXPRESS"
INSTRUMENT_ID = HRSC
INSTRUMENT_NAME = "HIGH RESOLUTION STEREO CAMERA"
MISSION_NAME = "MARS EXPRESS"
MISSION_PHASE_NAME = ME_Phase_23
PROCESSING_LEVEL_ID = 4
PRODUCT_CREATION_TIME = 2023-02-04T05:05:37.000Z
PRODUCT_ID = "H9462_0000_IR4.TIF"
RELEASE_ID = 0006
REVISION_ID = 0000
/* QUALITY DATA ELEMENTS */
DATA_QUALITY_ID = 1
DATA_QUALITY_DESC = "Data calculated based on original SPICE kernels"
/* TIME DATA ELEMENTS */
SPACECRAFT_CLOCK_START_COUNT = "1/0254945349.07302"
SPACECRAFT_CLOCK_STOP_COUNT = "1/0254945658.53846"
START_TIME = 2011-05-31T18:09:17.959Z
STOP_TIME = 2011-05-31T18:12:47.914Z
/* ORBITAL DATA ELEMENTS */
ASCENDING_NODE_LONGITUDE = 36.58
MAXIMUM_RESOLUTION = 0.1287
FOOTPRINT_POINT_LATITUDE = (22.9741,22.9509,22.9251,22.888,22.887, 22.8487,22.4674,22.2131,21.8317,21.5774 ,21.323,21.0688,20.6875,20.1796,19.9256 ,19.6716,19.2907,18.7832,18.4029, 17.8961,17.5086,17.2495,16.99,16.6006, 16.341,16.078,15.8118,15.5457,15.1467, 14.881,14.4737,14.2016,13.9285,13.5221, 13.2438,12.8265,12.5491,12.271,11.9871, 11.5618,11.2768,10.995,10.7056,10.4157, 10.1258,9.83104,9.53486,9.38689,9.32979 ,9.34185,9.35297,9.3645,9.3805,9.39401, 9.3945,9.39722,9.69496,10.138,10.4252, 10.7169,11.1507,11.4334,11.7185,12.1465 ,12.4283,12.7057,13.1234,13.4025,13.816 ,14.225,14.4977,14.9067,15.1734,15.4392 ,15.7061,15.9719,16.3701,16.6294, 16.8891,17.1491,17.4097,17.6706,18.183, 18.5644,18.9453,19.3266,19.5807,19.835, 20.0894,20.3438,20.5983,20.8528,21.1074 ,21.3622,21.7444,21.9993,22.3813, 22.7636,22.891,22.9741)
FOOTPRINT_POINT_LONGITUDE = (110.004,109.575,109.134,108.554, 108.539,108.496,108.499,108.502,108.504 ,108.506,108.507,108.508,108.51,108.512 ,108.512,108.513,108.513,108.513, 108.512,108.511,108.51,108.51,108.509, 108.508,108.506,108.505,108.503,108.501 ,108.498,108.495,108.491,108.488, 108.484,108.48,108.476,108.471,108.467, 108.463,108.459,108.453,108.447,108.446 ,108.442,108.437,108.431,108.425, 108.418,108.415,108.414,108.693,108.954 ,109.245,109.706,110.098,110.113, 110.123,110.122,110.118,110.116,110.114 ,110.111,110.108,110.106,110.103, 110.101,110.098,110.095,110.093,110.09, 110.087,110.084,110.081,110.079,110.076 ,110.074,110.071,110.068,110.065, 110.063,110.06,110.058,110.055,110.05, 110.046,110.042,110.038,110.035,110.032 ,110.03,110.027,110.024,110.021,110.018 ,110.015,110.01,110.007,110.002,109.998 ,109.996,110.004)
ORBIT_NUMBER = 9462
ORBITAL_ECCENTRICITY = 0.575
ORBITAL_INCLINATION = 86.86
ORBITAL_SEMIMAJOR_AXIS = 8831.05
PERIAPSIS_ALTITUDE = 360.76
PERIAPSIS_ARGUMENT_ANGLE = 144.68
PERIAPSIS_TIME = 2011-05-31T18:06:35.000Z
SPACECRAFT_ORIENTATION = (0.0,-1.0,0.0)
^MEX_ORIENTATION_DESC = "MEX_ORIENTATION_DESC.TXT"
SPACECRAFT_POINTING_MODE = ACROSSTRACK
^MEX_POINTING_DESC = "MEX_POINTING_DESC.TXT"
RIGHT_ASCENSION = -1e+32
DECLINATION = -1e+32
OFFSET_ANGLE = -1.1
SPACECRAFT_SOLAR_DISTANCE = 2.1357e+08
TARGET_NAME = MARS
/* CAMERA DATA ELEMENTS */
DETECTOR_TEMPERATURE = 17.7588
FOCAL_PLANE_TEMPERATURE = 10.0106
INST_CMPRS_NAME = "DISCRETE COSINE TRANSFORMATION (DCT)"
INST_CMPRS_RATIO = 7.29025
INST_CMPRS_QUALITY = 0
INST_CMPRS_QUANTZ_TBL_ID = 0
INSTRUMENT_TEMPERATURE = 11.8457
LENS_TEMPERATURE = 10.4184
MACROPIXEL_SIZE = 8
MISSING_FRAMES = 0
PIXEL_SUBSAMPLING_FLAG = N
SIGNAL_CHAIN_ID = 2
/* RADIOMETRIC DATA ELEMENTS */
BANDWIDTH = 81.0
CENTER_FILTER_WAVELENGTH = 955.5
RADIANCE_OFFSET = 1.15642
RADIANCE_SCALING_FACTOR = 0.0046745
REFLECTANCE_SCALING_FACTOR = 0.000459988
MEX:REFLECTANCE_OFFSET = 0.113795
/* IMAGE OBJECT DEFINITIONS */
OBJECT = IMAGE
  INTERCHANGE_FORMAT = BINARY
  LINES = 8040
  LINE_SAMPLES = 1057
  SAMPLE_TYPE = UNSIGNED_INTEGER
  SAMPLE_BITS = 8
  BANDS = 1
  BAND_STORAGE_TYPE = BAND_SEQUENTIAL
  MAXIMUM = 255
  MEAN = 124.81
  MINIMUM = 1
  STANDARD_DEVIATION = 34.1274
END_OBJECT = IMAGE
/* MAP OBJECT DEFINITIONS */
OBJECT = IMAGE_MAP_PROJECTION
  ^DATA_SET_MAP_PROJECTION_CATALOG= "DSMAP.CAT"
  A_AXIS_RADIUS = 3396.0
  B_AXIS_RADIUS = 3396.0
  C_AXIS_RADIUS = 3396.0
  CENTER_LATITUDE = 0.0
  CENTER_LONGITUDE = 109.0
  COORDINATE_SYSTEM_NAME = PLANETOGRAPHIC
  COORDINATE_SYSTEM_TYPE = "BODY-FIXED ROTATING"
  EASTERNMOST_LONGITUDE = 110.123
  FIRST_STANDARD_PARALLEL = "N/A"
  LINE_FIRST_PIXEL = 1
  LINE_LAST_PIXEL = 8040
  LINE_PROJECTION_OFFSET = 13579.9375
  MAP_PROJECTION_ROTATION = 0.0
  MAP_PROJECTION_TYPE = SINUSOIDAL
  MAP_RESOLUTION = 592.713803866667
  MAP_SCALE = 0.1
  MAXIMUM_LATITUDE = 22.9741
  MINIMUM_LATITUDE = 9.329789999999999
  POSITIVE_LONGITUDE_DIRECTION = EAST
  REFERENCE_LATITUDE = "N/A"
  REFERENCE_LONGITUDE = "N/A"
  SAMPLE_FIRST_PIXEL = 1
  SAMPLE_LAST_PIXEL = 1057
  SAMPLE_PROJECTION_OFFSET = 372.8125
  SECOND_STANDARD_PARALLEL = "N/A"
  WESTERNMOST_LONGITUDE = 108.414
END_OBJECT = IMAGE_MAP_PROJECTION
END
