PDS_VERSION_ID = PDS3
/* FILE DATA ELEMENTS */
RECORD_TYPE = UNDEFINED
/* POINTERS TO DATA OBJECTS */
^IMAGE = ("H9459_0000_RE4.TIF")
/* IDENTIFICATION DATA ELEMENTS */
DATA_SET_ID = "MEX-M-HRSC-4-REFDR-MAPPROJECT-EXT3-V4.0"
DATA_SET_NAME = "MARS EXPRESS HRSC MAP PROJECTED REFDR EXTENSION3 V4.0"
DETECTOR_ID = MEX_HRSC_RED
EVENT_TYPE = "MARS-REGIONAL-MAPPING-Im-Fl"
INSTRUMENT_HOST_ID = MEX
INSTRUMENT_HOST_NAME = "MARS EXPRESS"
INSTRUMENT_ID = HRSC
INSTRUMENT_NAME = "HIGH RESOLUTION STEREO CAMERA"
MISSION_NAME = "MARS EXPRESS"
MISSION_PHASE_NAME = ME_Phase_23
PROCESSING_LEVEL_ID = 4
PRODUCT_CREATION_TIME = 2023-02-04T05:05:37.000Z
PRODUCT_ID = "H9459_0000_RE4.TIF"
RELEASE_ID = 0006
REVISION_ID = 0000
/* QUALITY DATA ELEMENTS */
DATA_QUALITY_ID = 1
DATA_QUALITY_DESC = "Data calculated based on original SPICE kernels"
/* TIME DATA ELEMENTS */
SPACECRAFT_CLOCK_START_COUNT = "1/0254869816.08248"
SPACECRAFT_CLOCK_STOP_COUNT = "1/0254870108.38947"
START_TIME = 2011-05-30T21:11:24.097Z
STOP_TIME = 2011-05-30T21:15:00.209Z
/* ORBITAL DATA ELEMENTS */
ASCENDING_NODE_LONGITUDE = 36.64
MAXIMUM_RESOLUTION = 0.0664
FOOTPRINT_POINT_LATITUDE = (22.6147,22.6156,22.6165,22.6171, 22.6171,22.6213,22.381,22.141,21.662, 21.3032,20.9448,20.4687,20.2261,19.9809 ,19.7402,19.3794,19.138,18.8898,18.5173 ,18.1443,17.8976,17.6461,17.2693, 16.8895,16.6358,16.3809,16.1294,15.8735 ,15.6162,15.2255,14.8374,14.578,14.3136 ,13.9174,13.6543,13.3857,12.9832, 12.5835,12.3157,12.0497,11.7833,11.5172 ,11.1226,10.8592,10.597,10.3303,10.0694 ,9.93907,9.89915,9.89433,9.88577,9.8816 ,9.87965,9.87947,9.88047,10.1399,10.401 ,10.6638,10.9237,11.191,11.4671,11.7257 ,12.1237,12.3903,12.7949,13.1937, 13.4628,13.7298,13.9938,14.2583,14.5235 ,14.7846,15.0442,15.3054,15.5661, 15.8219,16.0777,16.4613,16.7173,16.9688 ,17.2208,17.4732,17.8519,18.099,18.3501 ,18.5987,18.8423,19.0908,19.4574, 19.7027,20.0657,20.309,20.5515,20.9147, 21.156,21.397,21.8652,22.4663,22.5871, 22.6147)
FOOTPRINT_POINT_LONGITUDE = (58.0707,57.6924,57.1744,56.586,56.572, 56.5664,56.565,56.5634,56.56,56.5572, 56.5543,56.5496,56.5466,56.5446,56.541, 56.5354,56.5321,56.5291,56.5244,56.52, 56.5163,56.5125,56.5061,56.5008,56.4971 ,56.4919,56.4856,56.4809,56.4767,56.469 ,56.4603,56.4547,56.4487,56.4398, 56.4336,56.4272,56.4174,56.4069,56.4004 ,56.3934,56.3867,56.3799,56.3683, 56.3609,56.3531,56.347,56.339,56.335, 56.3337,56.8093,57.3367,57.7794,58.138, 58.155,58.1607,58.1577,58.1551,58.1529, 58.1494,58.1485,58.1507,58.1461,58.1427 ,58.1405,58.1388,58.1344,58.1324, 58.1305,58.1286,58.1266,58.1248,58.1231 ,58.1211,58.1196,58.1177,58.116,58.1142 ,58.1113,58.1097,58.1081,58.1067, 58.1052,58.1028,58.1013,58.1013,58.1001 ,58.0968,58.0953,58.0939,58.0933, 58.0902,58.0885,58.0869,58.087,58.0865, 58.0858,58.0787,58.0751,58.0746, 58.0707)
ORBIT_NUMBER = 9459
ORBITAL_ECCENTRICITY = 0.575
ORBITAL_INCLINATION = 86.88
ORBITAL_SEMIMAJOR_AXIS = 8830.71
PERIAPSIS_ALTITUDE = 360.61
PERIAPSIS_ARGUMENT_ANGLE = 145.23
PERIAPSIS_TIME = 2011-05-30T21:07:45.000Z
SPACECRAFT_ORIENTATION = (0.0,-1.0,0.0)
^MEX_ORIENTATION_DESC = "MEX_ORIENTATION_DESC.TXT"
SPACECRAFT_POINTING_MODE = NADIR
^MEX_POINTING_DESC = "MEX_POINTING_DESC.TXT"
RIGHT_ASCENSION = -1e+32
DECLINATION = -1e+32
OFFSET_ANGLE = -1e+32
SPACECRAFT_SOLAR_DISTANCE = 2.13437e+08
TARGET_NAME = MARS
/* CAMERA DATA ELEMENTS */
DETECTOR_TEMPERATURE = 18.7783
FOCAL_PLANE_TEMPERATURE = 9.195
INST_CMPRS_NAME = "DISCRETE COSINE TRANSFORMATION (DCT)"
INST_CMPRS_RATIO = 8.34729
INST_CMPRS_QUALITY = 0
INST_CMPRS_QUANTZ_TBL_ID = 0
INSTRUMENT_TEMPERATURE = 11.4379
LENS_TEMPERATURE = 9.3989
MACROPIXEL_SIZE = 4
MISSING_FRAMES = 0
PIXEL_SUBSAMPLING_FLAG = N
SIGNAL_CHAIN_ID = 2
/* RADIOMETRIC DATA ELEMENTS */
BANDWIDTH = 48.0
CENTER_FILTER_WAVELENGTH = 748.0
RADIANCE_OFFSET = 1.06338
RADIANCE_SCALING_FACTOR = 0.00695021
REFLECTANCE_SCALING_FACTOR = 0.00072254
MEX:REFLECTANCE_OFFSET = 0.110549
/* IMAGE OBJECT DEFINITIONS */
OBJECT = IMAGE
  INTERCHANGE_FORMAT = BINARY
  LINES = 15114
  LINE_SAMPLES = 2008
  SAMPLE_TYPE = UNSIGNED_INTEGER
  SAMPLE_BITS = 8
  BANDS = 1
  BAND_STORAGE_TYPE = BAND_SEQUENTIAL
  MAXIMUM = 255
  MEAN = 129.354
  MINIMUM = 1
  STANDARD_DEVIATION = 28.5679
END_OBJECT = IMAGE
/* MAP OBJECT DEFINITIONS */
OBJECT = IMAGE_MAP_PROJECTION
  ^DATA_SET_MAP_PROJECTION_CATALOG= "DSMAP.CAT"
  A_AXIS_RADIUS = 3396.0
  B_AXIS_RADIUS = 3396.0
  C_AXIS_RADIUS = 3396.0
  CENTER_LATITUDE = 0.0
  CENTER_LONGITUDE = 57.0
  COORDINATE_SYSTEM_NAME = PLANETOGRAPHIC
  COORDINATE_SYSTEM_TYPE = "BODY-FIXED ROTATING"
  EASTERNMOST_LONGITUDE = 58.1607
  FIRST_STANDARD_PARALLEL = "N/A"
  LINE_FIRST_PIXEL = 1
  LINE_LAST_PIXEL = 15114
  LINE_PROJECTION_OFFSET = 26834.125
  MAP_PROJECTION_ROTATION = 0.0
  MAP_PROJECTION_TYPE = SINUSOIDAL
  MAP_RESOLUTION = 1185.42760773333
  MAP_SCALE = 0.05
  MAXIMUM_LATITUDE = 22.6213
  MINIMUM_LATITUDE = 9.87947
  POSITIVE_LONGITUDE_DIRECTION = EAST
  REFERENCE_LATITUDE = "N/A"
  REFERENCE_LONGITUDE = "N/A"
  SAMPLE_FIRST_PIXEL = 1
  SAMPLE_LAST_PIXEL = 2008
  SAMPLE_PROJECTION_OFFSET = 717.125
  SECOND_STANDARD_PARALLEL = "N/A"
  WESTERNMOST_LONGITUDE = 56.3337
END_OBJECT = IMAGE_MAP_PROJECTION
END
