PDS_VERSION_ID = PDS3
/* FILE DATA ELEMENTS */
RECORD_TYPE = UNDEFINED
/* POINTERS TO DATA OBJECTS */
^IMAGE = ("H9453_0000_S24.TIF")
/* IDENTIFICATION DATA ELEMENTS */
DATA_SET_ID = "MEX-M-HRSC-4-REFDR-MAPPROJECT-EXT3-V4.0"
DATA_SET_NAME = "MARS EXPRESS HRSC MAP PROJECTED REFDR EXTENSION3 V4.0"
DETECTOR_ID = MEX_HRSC_S2
EVENT_TYPE = "MARS-REGIONAL-MAPPING-Im-Fl"
INSTRUMENT_HOST_ID = MEX
INSTRUMENT_HOST_NAME = "MARS EXPRESS"
INSTRUMENT_ID = HRSC
INSTRUMENT_NAME = "HIGH RESOLUTION STEREO CAMERA"
MISSION_NAME = "MARS EXPRESS"
MISSION_PHASE_NAME = ME_Phase_23
PROCESSING_LEVEL_ID = 4
PRODUCT_CREATION_TIME = 2023-02-04T05:05:37.000Z
PRODUCT_ID = "H9453_0000_S24.TIF"
RELEASE_ID = 0006
REVISION_ID = 0000
/* QUALITY DATA ELEMENTS */
DATA_QUALITY_ID = 1
DATA_QUALITY_DESC = "Data calculated based on original SPICE kernels"
/* TIME DATA ELEMENTS */
SPACECRAFT_CLOCK_START_COUNT = "1/0254718844.08257"
SPACECRAFT_CLOCK_STOP_COUNT = "1/0254718984.29769"
START_TIME = 2011-05-29T03:15:27.504Z
STOP_TIME = 2011-05-29T03:16:25.466Z
/* ORBITAL DATA ELEMENTS */
ASCENDING_NODE_LONGITUDE = 36.76
MAXIMUM_RESOLUTION = 0.0386
FOOTPRINT_POINT_LATITUDE = (15.428,15.4286,15.4291,15.4296,15.4305 ,15.4314,15.4324,15.4339,15.435,15.4361 ,15.4372,15.4384,15.4398,15.4413, 15.4415,15.4709,15.3421,15.1814,15.0533 ,14.9224,14.7914,14.6933,14.5299, 14.3992,14.2688,14.1053,14.0062,13.9396 ,13.8392,13.7383,13.6384,13.5717,13.439 ,13.3393,13.2084,13.0755,13.008,12.907, 12.8395,12.7364,12.6677,12.5649,12.4973 ,12.3965,12.2947,12.1937,12.1602,12.129 ,12.1278,12.1268,12.1261,12.1243, 12.1235,12.1229,12.1219,12.1209,12.1192 ,12.118,12.1168,12.1143,12.1137,12.1118 ,12.1117,12.1121,12.2135,12.3221, 12.3913,12.461,12.5285,12.5953,12.7572, 12.8566,12.9245,12.9919,13.0597,13.1617 ,13.2283,13.3285,13.4294,13.5294,13.596 ,13.6625,13.729,13.829,13.9292,13.9958, 14.1599,14.2904,14.421,14.5848,14.6832, 14.7816,14.9129,15.0115,15.1085,15.2049 ,15.3013,15.3977,15.4298,15.428)
FOOTPRINT_POINT_LONGITUDE = (311.814,311.735,311.656,311.577,311.45 ,311.324,311.197,311.007,310.881, 310.754,310.628,310.501,310.358,310.2, 310.184,310.17,310.167,310.164,310.162, 310.159,310.156,310.154,310.151,310.148 ,310.145,310.142,310.139,310.138, 310.136,310.134,310.132,310.13,310.127, 310.125,310.121,310.118,310.116,310.114 ,310.112,310.11,310.109,310.107,310.105 ,310.103,310.101,310.098,310.097, 310.097,310.231,310.35,310.435,310.587, 310.672,310.756,310.875,311.01,311.18, 311.264,311.349,311.535,311.654,311.823 ,311.84,311.846,311.846,311.847,311.847 ,311.848,311.847,311.846,311.843, 311.841,311.841,311.84,311.84,311.84, 311.839,311.839,311.839,311.838,311.837 ,311.837,311.836,311.836,311.835, 311.835,311.833,311.832,311.831,311.83, 311.83,311.829,311.828,311.827,311.827, 311.826,311.825,311.825,311.825, 311.814)
ORBIT_NUMBER = 9453
ORBITAL_ECCENTRICITY = 0.575
ORBITAL_INCLINATION = 86.87
ORBITAL_SEMIMAJOR_AXIS = 8825.32
PERIAPSIS_ALTITUDE = 360.36
PERIAPSIS_ARGUMENT_ANGLE = 146.27
PERIAPSIS_TIME = 2011-05-29T03:09:59.000Z
SPACECRAFT_ORIENTATION = (0.0,-1.0,0.0)
^MEX_ORIENTATION_DESC = "MEX_ORIENTATION_DESC.TXT"
SPACECRAFT_POINTING_MODE = NADIR
^MEX_POINTING_DESC = "MEX_POINTING_DESC.TXT"
RIGHT_ASCENSION = -1e+32
DECLINATION = -1e+32
OFFSET_ANGLE = -1e+32
SPACECRAFT_SOLAR_DISTANCE = 2.13172e+08
TARGET_NAME = MARS
/* CAMERA DATA ELEMENTS */
DETECTOR_TEMPERATURE = 18.7783
FOCAL_PLANE_TEMPERATURE = 8.9911
INST_CMPRS_NAME = "DISCRETE COSINE TRANSFORMATION (DCT)"
INST_CMPRS_RATIO = 8.39585
INST_CMPRS_QUALITY = 0
INST_CMPRS_QUANTZ_TBL_ID = 0
INSTRUMENT_TEMPERATURE = 11.4379
LENS_TEMPERATURE = 9.195
MACROPIXEL_SIZE = 2
MISSING_FRAMES = 0
PIXEL_SUBSAMPLING_FLAG = N
SIGNAL_CHAIN_ID = 1
/* RADIOMETRIC DATA ELEMENTS */
BANDWIDTH = 178.0
CENTER_FILTER_WAVELENGTH = 679.0
RADIANCE_OFFSET = 4.21344
RADIANCE_SCALING_FACTOR = 0.0178527
REFLECTANCE_SCALING_FACTOR = 0.000429632
MEX:REFLECTANCE_OFFSET = 0.101398
/* IMAGE OBJECT DEFINITIONS */
OBJECT = IMAGE
  INTERCHANGE_FORMAT = BINARY
  LINES = 7917
  LINE_SAMPLES = 3785
  SAMPLE_TYPE = UNSIGNED_INTEGER
  SAMPLE_BITS = 8
  BANDS = 1
  BAND_STORAGE_TYPE = BAND_SEQUENTIAL
  MAXIMUM = 255
  MEAN = 138.197
  MINIMUM = 1
  STANDARD_DEVIATION = 18.5055
END_OBJECT = IMAGE
/* MAP OBJECT DEFINITIONS */
OBJECT = IMAGE_MAP_PROJECTION
  ^DATA_SET_MAP_PROJECTION_CATALOG= "DSMAP.CAT"
  A_AXIS_RADIUS = 3396.0
  B_AXIS_RADIUS = 3396.0
  C_AXIS_RADIUS = 3396.0
  CENTER_LATITUDE = 0.0
  CENTER_LONGITUDE = 311.0
  COORDINATE_SYSTEM_NAME = PLANETOGRAPHIC
  COORDINATE_SYSTEM_TYPE = "BODY-FIXED ROTATING"
  EASTERNMOST_LONGITUDE = 311.848
  FIRST_STANDARD_PARALLEL = "N/A"
  LINE_FIRST_PIXEL = 1
  LINE_LAST_PIXEL = 7917
  LINE_PROJECTION_OFFSET = 36608.75
  MAP_PROJECTION_ROTATION = 0.0
  MAP_PROJECTION_TYPE = SINUSOIDAL
  MAP_RESOLUTION = 2370.85521546667
  MAP_SCALE = 0.025
  MAXIMUM_LATITUDE = 15.4709
  MINIMUM_LATITUDE = 12.1117
  POSITIVE_LONGITUDE_DIRECTION = EAST
  REFERENCE_LATITUDE = "N/A"
  REFERENCE_LONGITUDE = "N/A"
  SAMPLE_FIRST_PIXEL = 1
  SAMPLE_LAST_PIXEL = 3785
  SAMPLE_PROJECTION_OFFSET = 1961.25
  SECOND_STANDARD_PARALLEL = "N/A"
  WESTERNMOST_LONGITUDE = 310.097
END_OBJECT = IMAGE_MAP_PROJECTION
END
