PDS_VERSION_ID = PDS3
/* FILE DATA ELEMENTS */
RECORD_TYPE = UNDEFINED
/* POINTERS TO DATA OBJECTS */
^IMAGE = ("H9453_0000_ND4.TIF")
/* IDENTIFICATION DATA ELEMENTS */
DATA_SET_ID = "MEX-M-HRSC-4-REFDR-MAPPROJECT-EXT3-V4.0"
DATA_SET_NAME = "MARS EXPRESS HRSC MAP PROJECTED REFDR EXTENSION3 V4.0"
DETECTOR_ID = MEX_HRSC_NADIR
EVENT_TYPE = "MARS-REGIONAL-MAPPING-Im-Fl"
INSTRUMENT_HOST_ID = MEX
INSTRUMENT_HOST_NAME = "MARS EXPRESS"
INSTRUMENT_ID = HRSC
INSTRUMENT_NAME = "HIGH RESOLUTION STEREO CAMERA"
MISSION_NAME = "MARS EXPRESS"
MISSION_PHASE_NAME = ME_Phase_23
PROCESSING_LEVEL_ID = 4
PRODUCT_CREATION_TIME = 2023-02-04T05:05:37.000Z
PRODUCT_ID = "H9453_0000_ND4.TIF"
RELEASE_ID = 0006
REVISION_ID = 0000
/* QUALITY DATA ELEMENTS */
DATA_QUALITY_ID = 1
DATA_QUALITY_DESC = "Data calculated based on original SPICE kernels"
/* TIME DATA ELEMENTS */
SPACECRAFT_CLOCK_START_COUNT = "1/0254718844.08257"
SPACECRAFT_CLOCK_STOP_COUNT = "1/0254718984.29769"
START_TIME = 2011-05-29T03:14:45.237Z
STOP_TIME = 2011-05-29T03:15:39.046Z
/* ORBITAL DATA ELEMENTS */
ASCENDING_NODE_LONGITUDE = 36.76
MAXIMUM_RESOLUTION = 0.0172
FOOTPRINT_POINT_LATITUDE = (15.4318,15.4332,15.4342,15.435,15.4359 ,15.4366,15.4374,15.4383,15.439,15.4397 ,15.4403,15.4405,15.4408,15.4408, 15.4411,15.247,15.1176,14.9884,14.8592, 14.73,14.5979,14.4657,14.3334,14.2013, 14.0692,13.9373,13.8053,13.6735,13.5417 ,13.4073,13.3399,13.2725,13.2051, 13.1377,13.0703,13.003,12.9357,12.8684, 12.8011,12.7002,12.5657,12.4314,12.3638 ,12.295,12.2263,12.1576,12.1232,12.1161 ,12.1155,12.1146,12.114,12.113,12.1123, 12.1112,12.1103,12.1088,12.1081,12.1073 ,12.1065,12.1052,12.1036,12.1024, 12.1022,12.1024,12.1712,12.24,12.3089, 12.4113,12.4785,12.5458,12.6131,12.6804 ,12.7477,12.815,12.8824,12.9498,13.0172 ,13.0847,13.1522,13.2197,13.2872, 13.3548,13.4223,13.5233,13.6552,13.7873 ,13.9194,14.0515,14.1838,14.3161, 14.4485,14.581,14.7134,14.8427,14.9721, 15.1016,15.2311,15.3931,15.4255, 15.4318)
FOOTPRINT_POINT_LONGITUDE = (311.765,311.613,311.492,311.386, 311.264,311.158,311.036,310.87,310.748, 310.581,310.429,310.353,310.247,310.232 ,310.216,310.213,310.21,310.208,310.206 ,310.203,310.201,310.199,310.196, 310.194,310.192,310.189,310.187,310.185 ,310.182,310.179,310.178,310.176, 310.175,310.173,310.172,310.17,310.169, 310.168,310.166,310.165,310.163,310.16, 310.158,310.157,310.156,310.154,310.154 ,310.154,310.25,310.395,310.491,310.62, 310.716,310.861,310.973,311.134,311.215 ,311.295,311.375,311.504,311.649, 311.761,311.777,311.785,311.785,311.786 ,311.787,311.788,311.788,311.787, 311.787,311.787,311.785,311.783,311.783 ,311.783,311.783,311.782,311.782, 311.782,311.782,311.782,311.782,311.782 ,311.781,311.781,311.78,311.78,311.779, 311.779,311.778,311.778,311.777,311.777 ,311.776,311.776,311.775,311.775, 311.775,311.765)
ORBIT_NUMBER = 9453
ORBITAL_ECCENTRICITY = 0.575
ORBITAL_INCLINATION = 86.87
ORBITAL_SEMIMAJOR_AXIS = 8825.32
PERIAPSIS_ALTITUDE = 360.36
PERIAPSIS_ARGUMENT_ANGLE = 146.27
PERIAPSIS_TIME = 2011-05-29T03:09:59.000Z
SPACECRAFT_ORIENTATION = (0.0,-1.0,0.0)
^MEX_ORIENTATION_DESC = "MEX_ORIENTATION_DESC.TXT"
SPACECRAFT_POINTING_MODE = NADIR
^MEX_POINTING_DESC = "MEX_POINTING_DESC.TXT"
RIGHT_ASCENSION = -1e+32
DECLINATION = -1e+32
OFFSET_ANGLE = -1e+32
SPACECRAFT_SOLAR_DISTANCE = 2.13172e+08
TARGET_NAME = MARS
/* CAMERA DATA ELEMENTS */
DETECTOR_TEMPERATURE = 18.3705
FOCAL_PLANE_TEMPERATURE = 8.9911
INST_CMPRS_NAME = "DISCRETE COSINE TRANSFORMATION (DCT)"
INST_CMPRS_RATIO = 6.88597
INST_CMPRS_QUALITY = 0
INST_CMPRS_QUANTZ_TBL_ID = 0
INSTRUMENT_TEMPERATURE = 11.4379
LENS_TEMPERATURE = 9.195
MACROPIXEL_SIZE = 1
MISSING_FRAMES = 0
PIXEL_SUBSAMPLING_FLAG = N
SIGNAL_CHAIN_ID = 0
/* RADIOMETRIC DATA ELEMENTS */
BANDWIDTH = 177.0
CENTER_FILTER_WAVELENGTH = 677.5
RADIANCE_OFFSET = 3.5145
RADIANCE_SCALING_FACTOR = 0.018444
REFLECTANCE_SCALING_FACTOR = 0.000445251
MEX:REFLECTANCE_OFFSET = 0.0848422
/* IMAGE OBJECT DEFINITIONS */
OBJECT = IMAGE
  INTERCHANGE_FORMAT = BINARY
  LINES = 15834
  LINE_SAMPLES = 7569
  SAMPLE_TYPE = UNSIGNED_INTEGER
  SAMPLE_BITS = 8
  BANDS = 1
  BAND_STORAGE_TYPE = BAND_SEQUENTIAL
  MAXIMUM = 255
  MEAN = 131.719
  MINIMUM = 1
  STANDARD_DEVIATION = 18.8809
END_OBJECT = IMAGE
/* MAP OBJECT DEFINITIONS */
OBJECT = IMAGE_MAP_PROJECTION
  ^DATA_SET_MAP_PROJECTION_CATALOG= "DSMAP.CAT"
  A_AXIS_RADIUS = 3396.0
  B_AXIS_RADIUS = 3396.0
  C_AXIS_RADIUS = 3396.0
  CENTER_LATITUDE = 0.0
  CENTER_LONGITUDE = 311.0
  COORDINATE_SYSTEM_NAME = PLANETOGRAPHIC
  COORDINATE_SYSTEM_TYPE = "BODY-FIXED ROTATING"
  EASTERNMOST_LONGITUDE = 311.788
  FIRST_STANDARD_PARALLEL = "N/A"
  LINE_FIRST_PIXEL = 1
  LINE_LAST_PIXEL = 15834
  LINE_PROJECTION_OFFSET = 73218.0
  MAP_PROJECTION_ROTATION = 0.0
  MAP_PROJECTION_TYPE = SINUSOIDAL
  MAP_RESOLUTION = 4741.71043093333
  MAP_SCALE = 0.0125
  MAXIMUM_LATITUDE = 15.4411
  MINIMUM_LATITUDE = 12.1022
  POSITIVE_LONGITUDE_DIRECTION = EAST
  REFERENCE_LATITUDE = "N/A"
  REFERENCE_LONGITUDE = "N/A"
  SAMPLE_FIRST_PIXEL = 1
  SAMPLE_LAST_PIXEL = 7569
  SAMPLE_PROJECTION_OFFSET = 3923.0
  SECOND_STANDARD_PARALLEL = "N/A"
  WESTERNMOST_LONGITUDE = 310.154
END_OBJECT = IMAGE_MAP_PROJECTION
END
