PDS_VERSION_ID = PDS3
/* FILE DATA ELEMENTS */
RECORD_TYPE = UNDEFINED
/* POINTERS TO DATA OBJECTS */
^IMAGE = ("H9451_0001_S14.TIF")
/* IDENTIFICATION DATA ELEMENTS */
DATA_SET_ID = "MEX-M-HRSC-4-REFDR-MAPPROJECT-EXT3-V4.0"
DATA_SET_NAME = "MARS EXPRESS HRSC MAP PROJECTED REFDR EXTENSION3 V4.0"
DETECTOR_ID = MEX_HRSC_S1
EVENT_TYPE = "MARS-REGIONAL-MAPPING-Vo-Te"
INSTRUMENT_HOST_ID = MEX
INSTRUMENT_HOST_NAME = "MARS EXPRESS"
INSTRUMENT_ID = HRSC
INSTRUMENT_NAME = "HIGH RESOLUTION STEREO CAMERA"
MISSION_NAME = "MARS EXPRESS"
MISSION_PHASE_NAME = ME_Phase_23
PROCESSING_LEVEL_ID = 4
PRODUCT_CREATION_TIME = 2023-02-04T05:05:37.000Z
PRODUCT_ID = "H9451_0001_S14.TIF"
RELEASE_ID = 0006
REVISION_ID = 0000
/* QUALITY DATA ELEMENTS */
DATA_QUALITY_ID = 1
DATA_QUALITY_DESC = "Data calculated based on original SPICE kernels"
/* TIME DATA ELEMENTS */
SPACECRAFT_CLOCK_START_COUNT = "1/0254668390.09132"
SPACECRAFT_CLOCK_STOP_COUNT = "1/0254668595.24737"
START_TIME = 2011-05-28T13:13:13.126Z
STOP_TIME = 2011-05-28T13:15:13.259Z
/* ORBITAL DATA ELEMENTS */
ASCENDING_NODE_LONGITUDE = 36.79
MAXIMUM_RESOLUTION = 0.0321
FOOTPRINT_POINT_LATITUDE = (21.6593,21.6606,21.6611,21.661,21.6603 ,21.659,21.6576,21.6575,21.6336,21.3216 ,21.1655,21.0094,20.8533,20.6973, 20.5412,20.3851,20.229,20.0729,19.9168, 19.605,19.4489,19.2149,19.0587,18.9026, 18.7465,18.5906,18.4345,18.2784,18.1224 ,17.8885,17.7325,17.5765,17.4204, 17.2644,17.0304,16.8744,16.6407,16.3292 ,16.0177,15.706,15.3941,15.0831,14.7711 ,14.5315,14.3719,14.1324,13.8928, 13.8127,13.7778,13.7781,13.7779,13.7769 ,13.7749,13.7726,13.7689,13.7694, 13.7699,13.9281,14.0894,14.2493,14.4891 ,14.6491,14.8866,15.0425,15.3543, 15.5103,15.7444,15.9004,16.1344,16.4463 ,16.6025,16.8368,16.9929,17.1489, 17.3831,17.5392,17.6954,17.8516,18.0076 ,18.3195,18.4757,18.6319,18.7881, 18.9444,19.1007,19.257,19.4132,19.6476, 19.8039,19.9602,20.1165,20.3507,20.5069 ,20.7412,20.8974,21.0534,21.2096, 21.5217,21.5997,21.6593)
FOOTPRINT_POINT_LONGITUDE = (156.276,156.003,155.785,155.498,155.28 ,155.061,154.884,154.87,154.858,154.857 ,154.857,154.856,154.855,154.855, 154.854,154.853,154.852,154.851,154.85, 154.848,154.847,154.846,154.844,154.843 ,154.842,154.841,154.839,154.838, 154.836,154.834,154.833,154.831,154.829 ,154.828,154.825,154.823,154.82,154.817 ,154.813,154.808,154.804,154.799, 154.795,154.791,154.789,154.785,154.781 ,154.779,154.779,155.014,155.294, 155.485,155.764,156.0,156.28,156.294, 156.299,156.3,156.299,156.298,156.298, 156.298,156.297,156.297,156.296,156.296 ,156.295,156.295,156.295,156.294, 156.294,156.293,156.293,156.293,156.292 ,156.292,156.292,156.291,156.291, 156.291,156.29,156.29,156.29,156.29, 156.289,156.289,156.289,156.288,156.288 ,156.288,156.287,156.287,156.287, 156.286,156.286,156.286,156.285,156.285 ,156.285,156.276)
ORBIT_NUMBER = 9451
ORBITAL_ECCENTRICITY = 0.575
ORBITAL_INCLINATION = 86.86
ORBITAL_SEMIMAJOR_AXIS = 8826.75
PERIAPSIS_ALTITUDE = 360.62
PERIAPSIS_ARGUMENT_ANGLE = 146.62
PERIAPSIS_TIME = 2011-05-28T13:10:45.000Z
SPACECRAFT_ORIENTATION = (0.0,-1.0,0.0)
^MEX_ORIENTATION_DESC = "MEX_ORIENTATION_DESC.TXT"
SPACECRAFT_POINTING_MODE = NADIR
^MEX_POINTING_DESC = "MEX_POINTING_DESC.TXT"
RIGHT_ASCENSION = -1e+32
DECLINATION = -1e+32
OFFSET_ANGLE = -1e+32
SPACECRAFT_SOLAR_DISTANCE = 2.13085e+08
TARGET_NAME = MARS
/* CAMERA DATA ELEMENTS */
DETECTOR_TEMPERATURE = 18.7783
FOCAL_PLANE_TEMPERATURE = 10.4184
INST_CMPRS_NAME = "DISCRETE COSINE TRANSFORMATION (DCT)"
INST_CMPRS_RATIO = 11.2096
INST_CMPRS_QUALITY = 0
INST_CMPRS_QUANTZ_TBL_ID = 0
INSTRUMENT_TEMPERATURE = 12.6613
LENS_TEMPERATURE = 9.8067
MACROPIXEL_SIZE = 2
MISSING_FRAMES = 0
PIXEL_SUBSAMPLING_FLAG = N
SIGNAL_CHAIN_ID = 1
/* RADIOMETRIC DATA ELEMENTS */
BANDWIDTH = 180.0
CENTER_FILTER_WAVELENGTH = 677.0
RADIANCE_OFFSET = 4.40835
RADIANCE_SCALING_FACTOR = 0.0164339
REFLECTANCE_SCALING_FACTOR = 0.000389306
MEX:REFLECTANCE_OFFSET = 0.10443
/* IMAGE OBJECT DEFINITIONS */
OBJECT = IMAGE
  INTERCHANGE_FORMAT = BINARY
  LINES = 18647
  LINE_SAMPLES = 3646
  SAMPLE_TYPE = UNSIGNED_INTEGER
  SAMPLE_BITS = 8
  BANDS = 1
  BAND_STORAGE_TYPE = BAND_SEQUENTIAL
  MAXIMUM = 255
  MEAN = 129.341
  MINIMUM = 1
  STANDARD_DEVIATION = 20.3099
END_OBJECT = IMAGE
/* MAP OBJECT DEFINITIONS */
OBJECT = IMAGE_MAP_PROJECTION
  ^DATA_SET_MAP_PROJECTION_CATALOG= "DSMAP.CAT"
  A_AXIS_RADIUS = 3396.0
  B_AXIS_RADIUS = 3396.0
  C_AXIS_RADIUS = 3396.0
  CENTER_LATITUDE = 0.0
  CENTER_LONGITUDE = 156.0
  COORDINATE_SYSTEM_NAME = PLANETOGRAPHIC
  COORDINATE_SYSTEM_TYPE = "BODY-FIXED ROTATING"
  EASTERNMOST_LONGITUDE = 156.3
  FIRST_STANDARD_PARALLEL = "N/A"
  LINE_FIRST_PIXEL = 1
  LINE_LAST_PIXEL = 18647
  LINE_PROJECTION_OFFSET = 51310.75
  MAP_PROJECTION_ROTATION = 0.0
  MAP_PROJECTION_TYPE = SINUSOIDAL
  MAP_RESOLUTION = 2370.85521546667
  MAP_SCALE = 0.025
  MAXIMUM_LATITUDE = 21.6611
  MINIMUM_LATITUDE = 13.7689
  POSITIVE_LONGITUDE_DIRECTION = EAST
  REFERENCE_LATITUDE = "N/A"
  REFERENCE_LONGITUDE = "N/A"
  SAMPLE_FIRST_PIXEL = 1
  SAMPLE_LAST_PIXEL = 3646
  SAMPLE_PROJECTION_OFFSET = 2890.75
  SECOND_STANDARD_PARALLEL = "N/A"
  WESTERNMOST_LONGITUDE = 154.779
END_OBJECT = IMAGE_MAP_PROJECTION
END
