PDS_VERSION_ID = PDS3
/* FILE DATA ELEMENTS */
RECORD_TYPE = UNDEFINED
/* POINTERS TO DATA OBJECTS */
^IMAGE = ("H9445_0000_P24.TIF")
/* IDENTIFICATION DATA ELEMENTS */
DATA_SET_ID = "MEX-M-HRSC-4-REFDR-MAPPROJECT-EXT3-V4.0"
DATA_SET_NAME = "MARS EXPRESS HRSC MAP PROJECTED REFDR EXTENSION3 V4.0"
DETECTOR_ID = MEX_HRSC_P2
EVENT_TYPE = "MARS-REGIONAL-MAPPING-Im-Fl-La"
INSTRUMENT_HOST_ID = MEX
INSTRUMENT_HOST_NAME = "MARS EXPRESS"
INSTRUMENT_ID = HRSC
INSTRUMENT_NAME = "HIGH RESOLUTION STEREO CAMERA"
MISSION_NAME = "MARS EXPRESS"
MISSION_PHASE_NAME = ME_Phase_23
PROCESSING_LEVEL_ID = 4
PRODUCT_CREATION_TIME = 2023-02-04T05:05:37.000Z
PRODUCT_ID = "H9445_0000_P24.TIF"
RELEASE_ID = 0006
REVISION_ID = 0000
/* QUALITY DATA ELEMENTS */
DATA_QUALITY_ID = 1
DATA_QUALITY_DESC = "Data calculated based on original SPICE kernels"
/* TIME DATA ELEMENTS */
SPACECRAFT_CLOCK_START_COUNT = "1/0254517250.09053"
SPACECRAFT_CLOCK_STOP_COUNT = "1/0254517509.46805"
START_TIME = 2011-05-26T19:15:08.256Z
STOP_TIME = 2011-05-26T19:18:15.418Z
/* ORBITAL DATA ELEMENTS */
ASCENDING_NODE_LONGITUDE = 36.91
MAXIMUM_RESOLUTION = 0.0617
FOOTPRINT_POINT_LATITUDE = (24.906,24.9058,24.9052,24.9044,24.9035 ,24.9034,24.921,24.6889,24.3405,23.9928 ,23.7585,23.4105,23.1819,22.8373, 22.4932,22.2637,22.0349,21.8055,21.5763 ,21.349,21.1233,20.896,20.6638,20.4351, 20.2079,19.9813,19.7542,19.3045,19.0786 ,18.6295,18.404,17.955,17.5066,17.1634, 16.9343,16.5908,16.3623,16.1343,15.7852 ,15.5517,15.3184,15.0857,14.8541, 14.6173,14.3778,14.1411,13.9039,13.547, 13.4265,13.3952,13.3932,13.3901,13.385, 13.382,13.3819,13.3829,13.744,14.0995, 14.4559,14.6944,14.9305,15.1627,15.3957 ,15.6293,15.863,16.096,16.3247,16.5535, 16.7823,17.0117,17.2415,17.5832,18.1449 ,18.3707,18.8215,19.1606,19.5008,19.728 ,19.9542,20.1818,20.409,20.637,20.8632, 21.0913,21.3181,21.5506,21.8962,22.1254 ,22.3544,22.6962,22.925,23.1518,23.3824 ,23.6126,23.9601,24.1935,24.4233, 24.7708,24.8866,24.906)
FOOTPRINT_POINT_LONGITUDE = (50.0132,49.6142,49.2022,48.87,48.6038, 48.5905,48.5779,48.5787,48.5801,48.581, 48.5828,48.5838,48.5828,48.5821,48.5812 ,48.5807,48.5797,48.5791,48.5784, 48.5768,48.5744,48.5729,48.5736,48.5727 ,48.5711,48.5693,48.5676,48.5624, 48.5603,48.5549,48.5528,48.5475,48.5422 ,48.5377,48.5346,48.5299,48.5265,48.523 ,48.5177,48.514,48.5103,48.5063,48.5019 ,48.4976,48.4941,48.4895,48.4851,48.478 ,48.4753,48.4747,48.7121,49.0247, 49.5155,50.0516,50.0665,50.0715,50.0696 ,50.0676,50.0657,50.0646,50.0639, 50.0624,50.0612,50.0601,50.0589,50.0577 ,50.0567,50.0556,50.0544,50.0533, 50.0523,50.0508,50.0485,50.0478,50.0457 ,50.0444,50.0433,50.0426,50.0413, 50.0405,50.0394,50.0386,50.0368,50.0358 ,50.0341,50.035,50.0346,50.0336,50.0325 ,50.0297,50.0281,50.0254,50.0245, 50.0233,50.0224,50.0224,50.0206,50.0191 ,50.0185,50.0132)
ORBIT_NUMBER = 9445
ORBITAL_ECCENTRICITY = 0.576
ORBITAL_INCLINATION = 86.86
ORBITAL_SEMIMAJOR_AXIS = 8834.75
PERIAPSIS_ALTITUDE = 359.15
PERIAPSIS_ARGUMENT_ANGLE = 147.66
PERIAPSIS_TIME = 2011-05-26T19:12:51.000Z
SPACECRAFT_ORIENTATION = (0.0,-1.0,0.0)
^MEX_ORIENTATION_DESC = "MEX_ORIENTATION_DESC.TXT"
SPACECRAFT_POINTING_MODE = NADIR
^MEX_POINTING_DESC = "MEX_POINTING_DESC.TXT"
RIGHT_ASCENSION = -1e+32
DECLINATION = -1e+32
OFFSET_ANGLE = -1e+32
SPACECRAFT_SOLAR_DISTANCE = 2.12826e+08
TARGET_NAME = MARS
/* CAMERA DATA ELEMENTS */
DETECTOR_TEMPERATURE = 18.7783
FOCAL_PLANE_TEMPERATURE = 8.9911
INST_CMPRS_NAME = "DISCRETE COSINE TRANSFORMATION (DCT)"
INST_CMPRS_RATIO = 6.1797
INST_CMPRS_QUALITY = 0
INST_CMPRS_QUANTZ_TBL_ID = 0
INSTRUMENT_TEMPERATURE = 11.234
LENS_TEMPERATURE = 9.3989
MACROPIXEL_SIZE = 4
MISSING_FRAMES = 0
PIXEL_SUBSAMPLING_FLAG = N
SIGNAL_CHAIN_ID = 3
/* RADIOMETRIC DATA ELEMENTS */
BANDWIDTH = 177.0
CENTER_FILTER_WAVELENGTH = 676.5
RADIANCE_OFFSET = 3.68922
RADIANCE_SCALING_FACTOR = 0.0226968
REFLECTANCE_SCALING_FACTOR = 0.000545094
MEX:REFLECTANCE_OFFSET = 0.0886017
/* IMAGE OBJECT DEFINITIONS */
OBJECT = IMAGE
  INTERCHANGE_FORMAT = BINARY
  LINES = 13681
  LINE_SAMPLES = 1780
  SAMPLE_TYPE = UNSIGNED_INTEGER
  SAMPLE_BITS = 8
  BANDS = 1
  BAND_STORAGE_TYPE = BAND_SEQUENTIAL
  MAXIMUM = 255
  MEAN = 126.624
  MINIMUM = 1
  STANDARD_DEVIATION = 28.6854
END_OBJECT = IMAGE
/* MAP OBJECT DEFINITIONS */
OBJECT = IMAGE_MAP_PROJECTION
  ^DATA_SET_MAP_PROJECTION_CATALOG= "DSMAP.CAT"
  A_AXIS_RADIUS = 3396.0
  B_AXIS_RADIUS = 3396.0
  C_AXIS_RADIUS = 3396.0
  CENTER_LATITUDE = 0.0
  CENTER_LONGITUDE = 49.0
  COORDINATE_SYSTEM_NAME = PLANETOGRAPHIC
  COORDINATE_SYSTEM_TYPE = "BODY-FIXED ROTATING"
  EASTERNMOST_LONGITUDE = 50.0715
  FIRST_STANDARD_PARALLEL = "N/A"
  LINE_FIRST_PIXEL = 1
  LINE_LAST_PIXEL = 13681
  LINE_PROJECTION_OFFSET = 29537.875
  MAP_PROJECTION_ROTATION = 0.0
  MAP_PROJECTION_TYPE = SINUSOIDAL
  MAP_RESOLUTION = 1185.42760773333
  MAP_SCALE = 0.05
  MAXIMUM_LATITUDE = 24.921
  MINIMUM_LATITUDE = 13.3819
  POSITIVE_LONGITUDE_DIRECTION = EAST
  REFERENCE_LATITUDE = "N/A"
  REFERENCE_LONGITUDE = "N/A"
  SAMPLE_FIRST_PIXEL = 1
  SAMPLE_LAST_PIXEL = 1780
  SAMPLE_PROJECTION_OFFSET = 577.375
  SECOND_STANDARD_PARALLEL = "N/A"
  WESTERNMOST_LONGITUDE = 48.4747
END_OBJECT = IMAGE_MAP_PROJECTION
END
