PDS_VERSION_ID = PDS3
/* FILE DATA ELEMENTS */
RECORD_TYPE = UNDEFINED
/* POINTERS TO DATA OBJECTS */
^IMAGE = ("H9442_0000_P24.TIF")
/* IDENTIFICATION DATA ELEMENTS */
DATA_SET_ID = "MEX-M-HRSC-4-REFDR-MAPPROJECT-EXT3-V4.0"
DATA_SET_NAME = "MARS EXPRESS HRSC MAP PROJECTED REFDR EXTENSION3 V4.0"
DETECTOR_ID = MEX_HRSC_P2
EVENT_TYPE = "MARS-REGIONAL-MAPPING-Im-Fl-La"
INSTRUMENT_HOST_ID = MEX
INSTRUMENT_HOST_NAME = "MARS EXPRESS"
INSTRUMENT_ID = HRSC
INSTRUMENT_NAME = "HIGH RESOLUTION STEREO CAMERA"
MISSION_NAME = "MARS EXPRESS"
MISSION_PHASE_NAME = ME_Phase_23
PROCESSING_LEVEL_ID = 4
PRODUCT_CREATION_TIME = 2023-02-04T05:05:37.000Z
PRODUCT_ID = "H9442_0000_P24.TIF"
RELEASE_ID = 0006
REVISION_ID = 0000
/* QUALITY DATA ELEMENTS */
DATA_QUALITY_ID = 1
DATA_QUALITY_DESC = "Data calculated based on original SPICE kernels"
/* TIME DATA ELEMENTS */
SPACECRAFT_CLOCK_START_COUNT = "1/0254441864.08246"
SPACECRAFT_CLOCK_STOP_COUNT = "1/0254442178.12603"
START_TIME = 2011-05-25T22:18:51.452Z
STOP_TIME = 2011-05-25T22:22:36.431Z
/* ORBITAL DATA ELEMENTS */
ASCENDING_NODE_LONGITUDE = 36.97
MAXIMUM_RESOLUTION = 0.0718
FOOTPRINT_POINT_LATITUDE = (14.3041,14.3105,14.3191,14.3279, 14.3329,14.3332,14.3478,13.723,13.222, 12.9678,12.7142,12.3334,11.9474,11.6893 ,11.3026,11.0407,10.7784,10.5162, 10.2535,9.98662,9.58628,9.18778,8.92217 ,8.6576,8.2611,7.99683,7.7337,7.34075, 7.07978,6.81932,6.55934,6.29968,6.04091 ,5.78277,5.52585,5.26823,4.88342, 4.62797,4.12387,3.73775,3.35935,3.10699 ,2.8555,2.6046,2.10564,1.60858,1.48459, 1.4785,1.46614,1.45389,1.44501,1.43798, 1.42483,1.42443,1.42517,1.92304,2.42253 ,2.67335,2.92471,3.17691,3.42996, 3.68393,3.93793,4.19219,4.4478,4.83112, 5.09174,5.47828,5.73386,5.99242,6.25162 ,6.51138,6.90277,7.16438,7.42622, 7.68882,8.08347,8.34743,8.61227,8.87776 ,9.14394,9.4099,9.67648,9.94321,10.3425 ,10.6048,10.9985,11.2614,11.5195, 11.7783,12.0356,12.3015,12.5567,12.8098 ,13.0651,13.3202,13.8116,14.1866, 14.3114,14.3041)
FOOTPRINT_POINT_LONGITUDE = (356.555,356.208,355.744,355.276,355.01 ,354.995,354.981,354.971,354.962, 354.957,354.952,354.945,354.937,354.932 ,354.923,354.918,354.911,354.905, 354.899,354.892,354.883,354.873,354.866 ,354.859,354.849,354.842,354.835, 354.823,354.816,354.808,354.8,354.792, 354.783,354.775,354.766,354.758,354.745 ,354.736,354.715,354.704,354.69,354.681 ,354.671,354.662,354.642,354.622, 354.617,354.616,355.022,355.465,355.81, 356.116,356.649,356.668,356.675,356.669 ,356.663,356.66,356.657,356.654,356.651 ,356.649,356.646,356.643,356.641, 356.636,356.635,356.631,356.628,356.625 ,356.623,356.62,356.617,356.615,356.612 ,356.61,356.607,356.604,356.602,356.6, 356.598,356.596,356.594,356.591,356.588 ,356.586,356.583,356.581,356.579, 356.577,356.575,356.575,356.573,356.571 ,356.569,356.568,356.562,356.559, 356.558,356.555)
ORBIT_NUMBER = 9442
ORBITAL_ECCENTRICITY = 0.575
ORBITAL_INCLINATION = 86.86
ORBITAL_SEMIMAJOR_AXIS = 8829.23
PERIAPSIS_ALTITUDE = 359.16
PERIAPSIS_ARGUMENT_ANGLE = 148.14
PERIAPSIS_TIME = 2011-05-25T22:13:51.000Z
SPACECRAFT_ORIENTATION = (0.0,-1.0,0.0)
^MEX_ORIENTATION_DESC = "MEX_ORIENTATION_DESC.TXT"
SPACECRAFT_POINTING_MODE = ACROSSTRACK
^MEX_POINTING_DESC = "MEX_POINTING_DESC.TXT"
RIGHT_ASCENSION = -1e+32
DECLINATION = -1e+32
OFFSET_ANGLE = -0.37
SPACECRAFT_SOLAR_DISTANCE = 2.12698e+08
TARGET_NAME = MARS
/* CAMERA DATA ELEMENTS */
DETECTOR_TEMPERATURE = 18.9822
FOCAL_PLANE_TEMPERATURE = 9.3989
INST_CMPRS_NAME = "DISCRETE COSINE TRANSFORMATION (DCT)"
INST_CMPRS_RATIO = 6.68127
INST_CMPRS_QUALITY = 0
INST_CMPRS_QUANTZ_TBL_ID = 0
INSTRUMENT_TEMPERATURE = 11.6418
LENS_TEMPERATURE = 9.6028
MACROPIXEL_SIZE = 4
MISSING_FRAMES = 0
PIXEL_SUBSAMPLING_FLAG = N
SIGNAL_CHAIN_ID = 3
/* RADIOMETRIC DATA ELEMENTS */
BANDWIDTH = 177.0
CENTER_FILTER_WAVELENGTH = 676.5
RADIANCE_OFFSET = 3.6302
RADIANCE_SCALING_FACTOR = 0.0219869
REFLECTANCE_SCALING_FACTOR = 0.000527411
MEX:REFLECTANCE_OFFSET = 0.0870797
/* IMAGE OBJECT DEFINITIONS */
OBJECT = IMAGE
  INTERCHANGE_FORMAT = BINARY
  LINES = 15303
  LINE_SAMPLES = 2304
  SAMPLE_TYPE = UNSIGNED_INTEGER
  SAMPLE_BITS = 8
  BANDS = 1
  BAND_STORAGE_TYPE = BAND_SEQUENTIAL
  MAXIMUM = 255
  MEAN = 124.324
  MINIMUM = 1
  STANDARD_DEVIATION = 26.4557
END_OBJECT = IMAGE
/* MAP OBJECT DEFINITIONS */
OBJECT = IMAGE_MAP_PROJECTION
  ^DATA_SET_MAP_PROJECTION_CATALOG= "DSMAP.CAT"
  A_AXIS_RADIUS = 3396.0
  B_AXIS_RADIUS = 3396.0
  C_AXIS_RADIUS = 3396.0
  CENTER_LATITUDE = 0.0
  CENTER_LONGITUDE = 356.0
  COORDINATE_SYSTEM_NAME = PLANETOGRAPHIC
  COORDINATE_SYSTEM_TYPE = "BODY-FIXED ROTATING"
  EASTERNMOST_LONGITUDE = 356.675
  FIRST_STANDARD_PARALLEL = "N/A"
  LINE_FIRST_PIXEL = 1
  LINE_LAST_PIXEL = 15303
  LINE_PROJECTION_OFFSET = 16992.875
  MAP_PROJECTION_ROTATION = 0.0
  MAP_PROJECTION_TYPE = SINUSOIDAL
  MAP_RESOLUTION = 1185.42760773333
  MAP_SCALE = 0.05
  MAXIMUM_LATITUDE = 14.3478
  MINIMUM_LATITUDE = 1.42443
  POSITIVE_LONGITUDE_DIRECTION = EAST
  REFERENCE_LATITUDE = "N/A"
  REFERENCE_LONGITUDE = "N/A"
  SAMPLE_FIRST_PIXEL = 1
  SAMPLE_LAST_PIXEL = 2304
  SAMPLE_PROJECTION_OFFSET = 1573.125
  SECOND_STANDARD_PARALLEL = "N/A"
  WESTERNMOST_LONGITUDE = 354.616
END_OBJECT = IMAGE_MAP_PROJECTION
END
