PDS_VERSION_ID = PDS3
/* FILE DATA ELEMENTS */
RECORD_TYPE = UNDEFINED
/* POINTERS TO DATA OBJECTS */
^IMAGE = ("H9438_0000_S14.TIF")
/* IDENTIFICATION DATA ELEMENTS */
DATA_SET_ID = "MEX-M-HRSC-4-REFDR-MAPPROJECT-EXT3-V4.0"
DATA_SET_NAME = "MARS EXPRESS HRSC MAP PROJECTED REFDR EXTENSION3 V4.0"
DETECTOR_ID = MEX_HRSC_S1
EVENT_TYPE = "MARS-REGIONAL-MAPPING-Im-Fl-La"
INSTRUMENT_HOST_ID = MEX
INSTRUMENT_HOST_NAME = "MARS EXPRESS"
INSTRUMENT_ID = HRSC
INSTRUMENT_NAME = "HIGH RESOLUTION STEREO CAMERA"
MISSION_NAME = "MARS EXPRESS"
MISSION_PHASE_NAME = ME_Phase_23
PROCESSING_LEVEL_ID = 4
PRODUCT_CREATION_TIME = 2023-02-04T05:05:37.000Z
PRODUCT_ID = "H9438_0000_S14.TIF"
RELEASE_ID = 0006
REVISION_ID = 0000
/* QUALITY DATA ELEMENTS */
DATA_QUALITY_ID = 1
DATA_QUALITY_DESC = "Data calculated based on original SPICE kernels"
/* TIME DATA ELEMENTS */
SPACECRAFT_CLOCK_START_COUNT = "1/0254341113.07299"
SPACECRAFT_CLOCK_STOP_COUNT = "1/0254341406.06104"
START_TIME = 2011-05-24T18:18:36.083Z
STOP_TIME = 2011-05-24T18:21:44.955Z
/* ORBITAL DATA ELEMENTS */
ASCENDING_NODE_LONGITUDE = 37.04
MAXIMUM_RESOLUTION = 0.0331
FOOTPRINT_POINT_LATITUDE = (16.0299,16.0337,16.0351,16.0344, 16.0343,16.0263,15.7967,15.5684,15.339, 14.9958,14.7672,14.5345,14.1891,13.9566 ,13.6196,13.2791,13.0498,12.8201,12.591 ,12.2475,12.0132,11.7782,11.5435, 11.3078,10.9563,10.6011,10.2417,10.0023 ,9.76162,9.52183,9.27596,9.0294,8.78375 ,8.53764,8.29193,8.0417,7.79072,7.53988 ,7.16438,6.91027,6.52501,6.26844, 6.01182,5.75088,5.40315,4.99992,4.60014 ,4.33202,3.93231,3.79673,3.76837, 3.76472,3.76012,3.75362,3.74621,3.74592 ,3.74643,4.01698,4.28508,4.55371, 4.95467,5.34888,5.70592,5.96878,6.22477 ,6.61061,6.86773,7.24877,7.50036, 7.75182,8.00414,8.25627,8.62436,8.99181 ,9.23717,9.60338,9.84364,10.0839, 10.3249,10.5655,10.8066,11.0417,11.2775 ,11.5118,11.7478,12.1004,12.3325, 12.7896,13.0187,13.2485,13.4782,13.8224 ,14.2784,14.6252,14.8564,15.3134, 15.6564,15.8853,15.9998,16.0299)
FOOTPRINT_POINT_LONGITUDE = (46.0239,45.5307,45.0241,44.6265, 44.6128,44.606,44.6035,44.6012,44.5985, 44.5946,44.5919,44.5878,44.5826,44.5784 ,44.5755,44.5713,44.5676,44.5638,44.56, 44.5544,44.5506,44.5464,44.5423,44.5377 ,44.5312,44.5251,44.5184,44.5138, 44.5088,44.5039,44.4984,44.4929,44.4876 ,44.4821,44.4765,44.4706,44.4649, 44.4591,44.4505,44.4442,44.4346,44.4281 ,44.4215,44.4147,44.4053,44.3941, 44.3829,44.3752,44.3641,44.3601,44.3593 ,44.8654,45.208,45.6329,46.0254,46.0418 ,46.0477,46.0467,46.0458,46.0448, 46.0434,46.0422,46.0413,46.0403,46.04, 46.039,46.0384,46.0375,46.0369,46.0365, 46.0358,46.0348,46.0344,46.0342,46.034, 46.0333,46.033,46.0326,46.0321,46.0318, 46.0313,46.0309,46.0302,46.0301,46.0294 ,46.0289,46.029,46.0288,46.0285,46.028, 46.0276,46.0272,46.0275,46.0263,46.0256 ,46.0258,46.0259,46.0259,46.0259, 46.0239)
ORBIT_NUMBER = 9438
ORBITAL_ECCENTRICITY = 0.576
ORBITAL_INCLINATION = 86.86
ORBITAL_SEMIMAJOR_AXIS = 8836.59
PERIAPSIS_ALTITUDE = 358.35
PERIAPSIS_ARGUMENT_ANGLE = 148.87
PERIAPSIS_TIME = 2011-05-24T18:15:17.000Z
SPACECRAFT_ORIENTATION = (0.0,-1.0,0.0)
^MEX_ORIENTATION_DESC = "MEX_ORIENTATION_DESC.TXT"
SPACECRAFT_POINTING_MODE = NADIR
^MEX_POINTING_DESC = "MEX_POINTING_DESC.TXT"
RIGHT_ASCENSION = -1e+32
DECLINATION = -1e+32
OFFSET_ANGLE = -1e+32
SPACECRAFT_SOLAR_DISTANCE = 2.12529e+08
TARGET_NAME = MARS
/* CAMERA DATA ELEMENTS */
DETECTOR_TEMPERATURE = 17.5549
FOCAL_PLANE_TEMPERATURE = 8.5833
INST_CMPRS_NAME = "DISCRETE COSINE TRANSFORMATION (DCT)"
INST_CMPRS_RATIO = 9.29669
INST_CMPRS_QUALITY = 0
INST_CMPRS_QUANTZ_TBL_ID = 0
INSTRUMENT_TEMPERATURE = 11.234
LENS_TEMPERATURE = 8.7872
MACROPIXEL_SIZE = 2
MISSING_FRAMES = 20
PIXEL_SUBSAMPLING_FLAG = N
SIGNAL_CHAIN_ID = 1
/* RADIOMETRIC DATA ELEMENTS */
BANDWIDTH = 180.0
CENTER_FILTER_WAVELENGTH = 677.0
RADIANCE_OFFSET = 5.02935
RADIANCE_SCALING_FACTOR = 0.0243311
REFLECTANCE_SCALING_FACTOR = 0.000573382
MEX:REFLECTANCE_OFFSET = 0.118521
/* IMAGE OBJECT DEFINITIONS */
OBJECT = IMAGE
  INTERCHANGE_FORMAT = BINARY
  LINES = 29162
  LINE_SAMPLES = 4237
  SAMPLE_TYPE = UNSIGNED_INTEGER
  SAMPLE_BITS = 8
  BANDS = 1
  BAND_STORAGE_TYPE = BAND_SEQUENTIAL
  MAXIMUM = 255
  MEAN = 126.998
  MINIMUM = 1
  STANDARD_DEVIATION = 21.348
END_OBJECT = IMAGE
/* MAP OBJECT DEFINITIONS */
OBJECT = IMAGE_MAP_PROJECTION
  ^DATA_SET_MAP_PROJECTION_CATALOG= "DSMAP.CAT"
  A_AXIS_RADIUS = 3396.0
  B_AXIS_RADIUS = 3396.0
  C_AXIS_RADIUS = 3396.0
  CENTER_LATITUDE = 0.0
  CENTER_LONGITUDE = 45.0
  COORDINATE_SYSTEM_NAME = PLANETOGRAPHIC
  COORDINATE_SYSTEM_TYPE = "BODY-FIXED ROTATING"
  EASTERNMOST_LONGITUDE = 46.0477
  FIRST_STANDARD_PARALLEL = "N/A"
  LINE_FIRST_PIXEL = 1
  LINE_LAST_PIXEL = 29162
  LINE_PROJECTION_OFFSET = 38004.25
  MAP_PROJECTION_ROTATION = 0.0
  MAP_PROJECTION_TYPE = SINUSOIDAL
  MAP_RESOLUTION = 2370.85521546667
  MAP_SCALE = 0.025
  MAXIMUM_LATITUDE = 16.0351
  MINIMUM_LATITUDE = 3.74592
  POSITIVE_LONGITUDE_DIRECTION = EAST
  REFERENCE_LATITUDE = "N/A"
  REFERENCE_LONGITUDE = "N/A"
  SAMPLE_FIRST_PIXEL = 1
  SAMPLE_LAST_PIXEL = 4237
  SAMPLE_PROJECTION_OFFSET = 1644.75
  SECOND_STANDARD_PARALLEL = "N/A"
  WESTERNMOST_LONGITUDE = 44.3593
END_OBJECT = IMAGE_MAP_PROJECTION
END
