PDS_VERSION_ID = PDS3
/* FILE DATA ELEMENTS */
RECORD_TYPE = UNDEFINED
/* POINTERS TO DATA OBJECTS */
^IMAGE = ("H9436_0000_IR4.TIF")
/* IDENTIFICATION DATA ELEMENTS */
DATA_SET_ID = "MEX-M-HRSC-4-REFDR-MAPPROJECT-EXT3-V4.0"
DATA_SET_NAME = "MARS EXPRESS HRSC MAP PROJECTED REFDR EXTENSION3 V4.0"
DETECTOR_ID = MEX_HRSC_IR
EVENT_TYPE = "MARS-REGIONAL-MAPPING-Vo-Gl-Eo"
INSTRUMENT_HOST_ID = MEX
INSTRUMENT_HOST_NAME = "MARS EXPRESS"
INSTRUMENT_ID = HRSC
INSTRUMENT_NAME = "HIGH RESOLUTION STEREO CAMERA"
MISSION_NAME = "MARS EXPRESS"
MISSION_PHASE_NAME = ME_Phase_23
PROCESSING_LEVEL_ID = 4
PRODUCT_CREATION_TIME = 2023-02-04T05:05:37.000Z
PRODUCT_ID = "H9436_0000_IR4.TIF"
RELEASE_ID = 0006
REVISION_ID = 0000
/* QUALITY DATA ELEMENTS */
DATA_QUALITY_ID = 1
DATA_QUALITY_DESC = "Data calculated based on original SPICE kernels"
/* TIME DATA ELEMENTS */
SPACECRAFT_CLOCK_START_COUNT = "1/0254290676.08251"
SPACECRAFT_CLOCK_STOP_COUNT = "1/0254290928.39851"
START_TIME = 2011-05-24T04:18:04.805Z
STOP_TIME = 2011-05-24T04:20:51.039Z
/* ORBITAL DATA ELEMENTS */
ASCENDING_NODE_LONGITUDE = 37.09
MAXIMUM_RESOLUTION = 0.1222
FOOTPRINT_POINT_LATITUDE = (20.7242,20.7257,20.7261,20.725,20.7235 ,20.7235,20.7297,20.3707,19.9499, 19.7351,19.5205,19.3062,19.0916,18.8771 ,18.5554,18.3412,18.1272,17.9081, 17.4844,17.2702,17.0561,16.842,16.628, 16.414,16.2002,15.9862,15.7723,15.4517, 15.1313,14.9176,14.704,14.3836,14.17, 13.7431,13.4232,13.1033,12.6773,12.358, 12.1435,11.9253,11.7068,11.4888,11.2705 ,11.0526,10.835,10.6138,10.3903,10.0557 ,9.94402,9.92264,9.92142,9.92022, 9.91822,9.91425,9.91418,9.91621,10.1382 ,10.3608,10.584,10.8053,11.0229,11.2411 ,11.5683,11.8957,12.1143,12.5427, 12.8628,13.0762,13.2897,13.7164,13.9301 ,14.1438,14.3576,14.5715,14.7854, 15.1062,15.3201,15.5341,15.7483,15.9624 ,16.1765,16.3907,16.712,16.9263,17.1406 ,17.3551,17.5695,17.891,18.2126,18.4271 ,18.6417,18.9638,19.2861,19.5011, 19.7159,19.9309,20.1456,20.6252,20.7149 ,20.7242)
FOOTPRINT_POINT_LONGITUDE = (250.604,250.284,249.837,249.492, 249.262,249.249,249.246,249.245,249.243 ,249.242,249.241,249.24,249.239,249.238 ,249.236,249.234,249.233,249.229, 249.228,249.226,249.224,249.222,249.22, 249.218,249.216,249.214,249.211,249.208 ,249.204,249.202,249.199,249.195, 249.192,249.186,249.181,249.176,249.17, 249.165,249.161,249.158,249.154,249.15, 249.146,249.142,249.138,249.134,249.13, 249.124,249.121,249.121,249.624,249.876 ,250.157,250.591,250.605,250.614, 250.614,250.614,250.614,250.614,250.614 ,250.613,250.613,250.613,250.612, 250.612,250.611,250.611,250.611,250.61, 250.61,250.609,250.609,250.609,250.609, 250.608,250.608,250.608,250.607,250.607 ,250.607,250.607,250.606,250.606, 250.606,250.605,250.605,250.605,250.605 ,250.604,250.604,250.603,250.603, 250.602,250.602,250.602,250.601,250.601 ,250.601,250.604)
ORBIT_NUMBER = 9436
ORBITAL_ECCENTRICITY = 0.576
ORBITAL_INCLINATION = 86.85
ORBITAL_SEMIMAJOR_AXIS = 8843.33
PERIAPSIS_ALTITUDE = 357.68
PERIAPSIS_ARGUMENT_ANGLE = 149.18
PERIAPSIS_TIME = 2011-05-24T04:15:56.000Z
SPACECRAFT_ORIENTATION = (0.0,-1.0,0.0)
^MEX_ORIENTATION_DESC = "MEX_ORIENTATION_DESC.TXT"
SPACECRAFT_POINTING_MODE = NADIR
^MEX_POINTING_DESC = "MEX_POINTING_DESC.TXT"
RIGHT_ASCENSION = -1e+32
DECLINATION = -1e+32
OFFSET_ANGLE = -1e+32
SPACECRAFT_SOLAR_DISTANCE = 2.12445e+08
TARGET_NAME = MARS
/* CAMERA DATA ELEMENTS */
DETECTOR_TEMPERATURE = 18.3705
FOCAL_PLANE_TEMPERATURE = 9.3989
INST_CMPRS_NAME = "DISCRETE COSINE TRANSFORMATION (DCT)"
INST_CMPRS_RATIO = 8.3298
INST_CMPRS_QUALITY = 0
INST_CMPRS_QUANTZ_TBL_ID = 0
INSTRUMENT_TEMPERATURE = 11.6418
LENS_TEMPERATURE = 9.8067
MACROPIXEL_SIZE = 8
MISSING_FRAMES = 0
PIXEL_SUBSAMPLING_FLAG = N
SIGNAL_CHAIN_ID = 2
/* RADIOMETRIC DATA ELEMENTS */
BANDWIDTH = 81.0
CENTER_FILTER_WAVELENGTH = 955.5
RADIANCE_OFFSET = 0.973204
RADIANCE_SCALING_FACTOR = 0.00638846
REFLECTANCE_SCALING_FACTOR = 0.000622039
MEX:REFLECTANCE_OFFSET = 0.09476
/* IMAGE OBJECT DEFINITIONS */
OBJECT = IMAGE
  INTERCHANGE_FORMAT = BINARY
  LINES = 6423
  LINE_SAMPLES = 914
  SAMPLE_TYPE = UNSIGNED_INTEGER
  SAMPLE_BITS = 8
  BANDS = 1
  BAND_STORAGE_TYPE = BAND_SEQUENTIAL
  MAXIMUM = 255
  MEAN = 162.379
  MINIMUM = 1
  STANDARD_DEVIATION = 21.3916
END_OBJECT = IMAGE
/* MAP OBJECT DEFINITIONS */
OBJECT = IMAGE_MAP_PROJECTION
  ^DATA_SET_MAP_PROJECTION_CATALOG= "DSMAP.CAT"
  A_AXIS_RADIUS = 3396.0
  B_AXIS_RADIUS = 3396.0
  C_AXIS_RADIUS = 3396.0
  CENTER_LATITUDE = 0.0
  CENTER_LONGITUDE = 250.0
  COORDINATE_SYSTEM_NAME = PLANETOGRAPHIC
  COORDINATE_SYSTEM_TYPE = "BODY-FIXED ROTATING"
  EASTERNMOST_LONGITUDE = 250.614
  FIRST_STANDARD_PARALLEL = "N/A"
  LINE_FIRST_PIXEL = 1
  LINE_LAST_PIXEL = 6423
  LINE_PROJECTION_OFFSET = 12283.0625
  MAP_PROJECTION_ROTATION = 0.0
  MAP_PROJECTION_TYPE = SINUSOIDAL
  MAP_RESOLUTION = 592.713803866667
  MAP_SCALE = 0.1
  MAXIMUM_LATITUDE = 20.7297
  MINIMUM_LATITUDE = 9.91418
  POSITIVE_LONGITUDE_DIRECTION = EAST
  REFERENCE_LATITUDE = "N/A"
  REFERENCE_LONGITUDE = "N/A"
  SAMPLE_FIRST_PIXEL = 1
  SAMPLE_LAST_PIXEL = 914
  SAMPLE_PROJECTION_OFFSET = 539.1875
  SECOND_STANDARD_PARALLEL = "N/A"
  WESTERNMOST_LONGITUDE = 249.121
END_OBJECT = IMAGE_MAP_PROJECTION
END
