PDS_VERSION_ID = PDS3
/* FILE DATA ELEMENTS */
RECORD_TYPE = UNDEFINED
/* POINTERS TO DATA OBJECTS */
^IMAGE = ("H9435_0009_BL4.TIF")
/* IDENTIFICATION DATA ELEMENTS */
DATA_SET_ID = "MEX-M-HRSC-4-REFDR-MAPPROJECT-EXT3-V4.0"
DATA_SET_NAME = "MARS EXPRESS HRSC MAP PROJECTED REFDR EXTENSION3 V4.0"
DETECTOR_ID = MEX_HRSC_BLUE
EVENT_TYPE = "MARS-REGIONAL-MAPPING-Im-Fl-La"
INSTRUMENT_HOST_ID = MEX
INSTRUMENT_HOST_NAME = "MARS EXPRESS"
INSTRUMENT_ID = HRSC
INSTRUMENT_NAME = "HIGH RESOLUTION STEREO CAMERA"
MISSION_NAME = "MARS EXPRESS"
MISSION_PHASE_NAME = ME_Phase_23
PROCESSING_LEVEL_ID = 4
PRODUCT_CREATION_TIME = 2023-02-04T05:05:37.000Z
PRODUCT_ID = "H9435_0009_BL4.TIF"
RELEASE_ID = 0006
REVISION_ID = 0000
/* QUALITY DATA ELEMENTS */
DATA_QUALITY_ID = 1
DATA_QUALITY_DESC = "Data calculated based on original SPICE kernels"
/* TIME DATA ELEMENTS */
SPACECRAFT_CLOCK_START_COUNT = "1/0254265598.09064"
SPACECRAFT_CLOCK_STOP_COUNT = "1/0254265872.15328"
START_TIME = 2011-05-23T21:20:44.694Z
STOP_TIME = 2011-05-23T21:23:45.838Z
/* ORBITAL DATA ELEMENTS */
ASCENDING_NODE_LONGITUDE = 37.11
MAXIMUM_RESOLUTION = 0.0672
FOOTPRINT_POINT_LATITUDE = (13.7703,13.774,13.776,13.7774,13.7801, 13.7802,13.7834,13.4783,12.8608,12.4455 ,12.0311,11.6088,11.1857,10.763,10.5468 ,10.3307,10.1151,9.8993,9.68411,9.35455 ,9.13472,8.91531,8.69617,8.47401, 8.25021,8.02655,7.8032,7.57829,7.35031, 7.12251,6.89697,6.66821,6.44167,6.21563 ,5.98942,5.76333,5.53793,5.31294, 5.08834,4.75202,4.52769,4.30405,4.08063 ,3.85734,3.63464,3.4124,3.19039,2.97012 ,2.85963,2.85744,2.85271,2.84606, 2.84179,2.83908,2.83123,2.83099,2.83202 ,3.05369,3.27572,3.49826,3.7212,3.94439 ,4.27965,4.6158,4.84031,5.06532,5.29055 ,5.51591,5.85472,6.08071,6.30716, 6.64821,6.87616,7.10226,7.33021,7.55991 ,7.78517,8.00922,8.23325,8.45548, 8.67819,8.8977,9.11764,9.33789,9.6679, 9.88354,10.0994,10.3152,10.5323,10.7493 ,11.1707,11.7008,11.913,12.3303,12.6431 ,13.0592,13.3667,13.6699,13.7722, 13.7703)
FOOTPRINT_POINT_LONGITUDE = (352.938,352.494,352.217,351.995, 351.467,351.453,351.443,351.438,351.427 ,351.42,351.412,351.403,351.395,351.386 ,351.381,351.377,351.372,351.367, 351.362,351.355,351.35,351.344,351.339, 351.333,351.327,351.321,351.316,351.311 ,351.304,351.299,351.289,351.286, 351.279,351.272,351.266,351.26,351.253, 351.246,351.239,351.228,351.221,351.214 ,351.207,351.201,351.193,351.186, 351.178,351.169,351.165,351.165,351.388 ,351.867,352.175,352.415,352.98,352.997 ,353.003,353.001,352.999,352.997, 352.996,352.994,352.992,352.989,352.988 ,352.987,352.985,352.984,352.982,352.98 ,352.978,352.977,352.977,352.973, 352.972,352.973,352.973,352.972,352.971 ,352.966,352.966,352.965,352.964, 352.963,352.961,352.961,352.96,352.959, 352.959,352.959,352.954,352.953,352.951 ,352.953,352.953,352.952,352.949, 352.945,352.945,352.938)
ORBIT_NUMBER = 9435
ORBITAL_ECCENTRICITY = 0.575
ORBITAL_INCLINATION = 86.86
ORBITAL_SEMIMAJOR_AXIS = 8830.53
PERIAPSIS_ALTITUDE = 358.25
PERIAPSIS_ARGUMENT_ANGLE = 149.35
PERIAPSIS_TIME = 2011-05-23T21:16:15.000Z
SPACECRAFT_ORIENTATION = (0.0,-1.0,0.0)
^MEX_ORIENTATION_DESC = "MEX_ORIENTATION_DESC.TXT"
SPACECRAFT_POINTING_MODE = NADIR
^MEX_POINTING_DESC = "MEX_POINTING_DESC.TXT"
RIGHT_ASCENSION = -1e+32
DECLINATION = -1e+32
OFFSET_ANGLE = -1e+32
SPACECRAFT_SOLAR_DISTANCE = 2.12404e+08
TARGET_NAME = MARS
/* CAMERA DATA ELEMENTS */
DETECTOR_TEMPERATURE = 18.5744
FOCAL_PLANE_TEMPERATURE = 9.6028
INST_CMPRS_NAME = "DISCRETE COSINE TRANSFORMATION (DCT)"
INST_CMPRS_RATIO = 8.69789
INST_CMPRS_QUALITY = 0
INST_CMPRS_QUANTZ_TBL_ID = 0
INSTRUMENT_TEMPERATURE = 12.0496
LENS_TEMPERATURE = 9.8067
MACROPIXEL_SIZE = 4
MISSING_FRAMES = 0
PIXEL_SUBSAMPLING_FLAG = N
SIGNAL_CHAIN_ID = 2
/* RADIOMETRIC DATA ELEMENTS */
BANDWIDTH = 76.0
CENTER_FILTER_WAVELENGTH = 444.0
RADIANCE_OFFSET = 0.583807
RADIANCE_SCALING_FACTOR = 0.00184716
REFLECTANCE_SCALING_FACTOR = 8.56221e-05
MEX:REFLECTANCE_OFFSET = 0.0270614
/* IMAGE OBJECT DEFINITIONS */
OBJECT = IMAGE
  INTERCHANGE_FORMAT = BINARY
  LINES = 12984
  LINE_SAMPLES = 2163
  SAMPLE_TYPE = UNSIGNED_INTEGER
  SAMPLE_BITS = 8
  BANDS = 1
  BAND_STORAGE_TYPE = BAND_SEQUENTIAL
  MAXIMUM = 255
  MEAN = 111.846
  MINIMUM = 1
  STANDARD_DEVIATION = 19.9132
END_OBJECT = IMAGE
/* MAP OBJECT DEFINITIONS */
OBJECT = IMAGE_MAP_PROJECTION
  ^DATA_SET_MAP_PROJECTION_CATALOG= "DSMAP.CAT"
  A_AXIS_RADIUS = 3396.0
  B_AXIS_RADIUS = 3396.0
  C_AXIS_RADIUS = 3396.0
  CENTER_LATITUDE = 0.0
  CENTER_LONGITUDE = 352.0
  COORDINATE_SYSTEM_NAME = PLANETOGRAPHIC
  COORDINATE_SYSTEM_TYPE = "BODY-FIXED ROTATING"
  EASTERNMOST_LONGITUDE = 353.003
  FIRST_STANDARD_PARALLEL = "N/A"
  LINE_FIRST_PIXEL = 1
  LINE_LAST_PIXEL = 12984
  LINE_PROJECTION_OFFSET = 16346.375
  MAP_PROJECTION_ROTATION = 0.0
  MAP_PROJECTION_TYPE = SINUSOIDAL
  MAP_RESOLUTION = 1185.42760773333
  MAP_SCALE = 0.05
  MAXIMUM_LATITUDE = 13.7834
  MINIMUM_LATITUDE = 2.83099
  POSITIVE_LONGITUDE_DIRECTION = EAST
  REFERENCE_LATITUDE = "N/A"
  REFERENCE_LONGITUDE = "N/A"
  SAMPLE_FIRST_PIXEL = 1
  SAMPLE_LAST_PIXEL = 2163
  SAMPLE_PROJECTION_OFFSET = 988.875
  SECOND_STANDARD_PARALLEL = "N/A"
  WESTERNMOST_LONGITUDE = 351.165
END_OBJECT = IMAGE_MAP_PROJECTION
END
