PDS_VERSION_ID = PDS3
/* FILE DATA ELEMENTS */
RECORD_TYPE = UNDEFINED
/* POINTERS TO DATA OBJECTS */
^IMAGE = ("H9433_0000_S24.TIF")
/* IDENTIFICATION DATA ELEMENTS */
DATA_SET_ID = "MEX-M-HRSC-4-REFDR-MAPPROJECT-EXT3-V4.0"
DATA_SET_NAME = "MARS EXPRESS HRSC MAP PROJECTED REFDR EXTENSION3 V4.0"
DETECTOR_ID = MEX_HRSC_S2
EVENT_TYPE = "MARS-REGIONAL-MAPPING-Vo-Pf"
INSTRUMENT_HOST_ID = MEX
INSTRUMENT_HOST_NAME = "MARS EXPRESS"
INSTRUMENT_ID = HRSC
INSTRUMENT_NAME = "HIGH RESOLUTION STEREO CAMERA"
MISSION_NAME = "MARS EXPRESS"
MISSION_PHASE_NAME = ME_Phase_23
PROCESSING_LEVEL_ID = 4
PRODUCT_CREATION_TIME = 2023-02-04T05:05:37.000Z
PRODUCT_ID = "H9433_0000_S24.TIF"
RELEASE_ID = 0006
REVISION_ID = 0000
/* QUALITY DATA ELEMENTS */
DATA_QUALITY_ID = 1
DATA_QUALITY_DESC = "Data calculated based on original SPICE kernels"
/* TIME DATA ELEMENTS */
SPACECRAFT_CLOCK_START_COUNT = "1/0254215098.09048"
SPACECRAFT_CLOCK_STOP_COUNT = "1/0254215333.55165"
START_TIME = 2011-05-23T07:19:28.711Z
STOP_TIME = 2011-05-23T07:22:14.840Z
/* ORBITAL DATA ELEMENTS */
ASCENDING_NODE_LONGITUDE = 37.14
MAXIMUM_RESOLUTION = 0.0324
FOOTPRINT_POINT_LATITUDE = (22.6595,22.6676,22.6758,22.684,22.6923 ,22.7007,22.7123,22.7128,22.7611,22.558 ,22.3552,22.0508,21.8477,21.545,21.3435 ,21.0409,20.8396,20.6381,20.4366, 20.2365,20.0363,19.736,19.5362,19.2368, 19.0375,18.7386,18.2424,17.847,17.4514, 16.96,16.5674,16.3667,16.1653,15.9654, 15.765,15.565,15.365,15.0635,14.8592, 14.6551,14.4513,14.2479,14.0447,13.8398 ,13.6321,13.4246,13.2175,13.0107, 12.8043,12.6993,12.6836,12.6612,12.6451 ,12.6342,12.6237,12.6133,12.6127, 12.6129,12.9251,13.1322,13.3397,13.6514 ,13.8593,14.0626,14.2663,14.4703, 14.6746,14.8793,15.1845,15.3845,15.5848 ,15.8859,16.0869,16.2883,16.4892, 16.8825,17.2767,17.6719,18.0682,18.4651 ,18.6642,18.8634,19.1629,19.3627, 19.5627,19.8632,20.0637,20.2648,20.4659 ,20.6672,20.8687,21.0704,21.2726, 21.4746,21.6773,21.9812,22.2856,22.5903 ,22.692,22.6595)
FOOTPRINT_POINT_LONGITUDE = (196.734,196.516,196.295,196.073, 195.849,195.623,195.308,195.294,195.256 ,195.257,195.258,195.26,195.261,195.261 ,195.262,195.263,195.263,195.263, 195.264,195.263,195.263,195.263,195.262 ,195.262,195.261,195.26,195.258,195.256 ,195.254,195.25,195.246,195.245,195.243 ,195.241,195.239,195.236,195.234, 195.231,195.228,195.225,195.223,195.22, 195.217,195.214,195.211,195.208,195.205 ,195.202,195.198,195.196,195.196, 195.693,196.041,196.307,196.556,196.803 ,196.818,196.824,196.821,196.819, 196.817,196.815,196.813,196.811,196.809 ,196.808,196.806,196.804,196.801,196.8, 196.798,196.795,196.793,196.792,196.79, 196.786,196.783,196.78,196.776,196.773, 196.771,196.769,196.766,196.765,196.763 ,196.76,196.758,196.756,196.755,196.753 ,196.751,196.749,196.747,196.745, 196.743,196.74,196.737,196.734,196.733, 196.734)
ORBIT_NUMBER = 9433
ORBITAL_ECCENTRICITY = 0.575
ORBITAL_INCLINATION = 86.87
ORBITAL_SEMIMAJOR_AXIS = 8829.32
PERIAPSIS_ALTITUDE = 357.81
PERIAPSIS_ARGUMENT_ANGLE = 149.71
PERIAPSIS_TIME = 2011-05-23T07:16:57.000Z
SPACECRAFT_ORIENTATION = (0.0,-1.0,0.0)
^MEX_ORIENTATION_DESC = "MEX_ORIENTATION_DESC.TXT"
SPACECRAFT_POINTING_MODE = ACROSSTRACK
^MEX_POINTING_DESC = "MEX_POINTING_DESC.TXT"
RIGHT_ASCENSION = -1e+32
DECLINATION = -1e+32
OFFSET_ANGLE = -0.7
SPACECRAFT_SOLAR_DISTANCE = 2.12321e+08
TARGET_NAME = MARS
/* CAMERA DATA ELEMENTS */
DETECTOR_TEMPERATURE = 18.5744
FOCAL_PLANE_TEMPERATURE = 8.7872
INST_CMPRS_NAME = "DISCRETE COSINE TRANSFORMATION (DCT)"
INST_CMPRS_RATIO = 9.19537
INST_CMPRS_QUALITY = 0
INST_CMPRS_QUANTZ_TBL_ID = 0
INSTRUMENT_TEMPERATURE = 11.4379
LENS_TEMPERATURE = 9.195
MACROPIXEL_SIZE = 2
MISSING_FRAMES = 0
PIXEL_SUBSAMPLING_FLAG = N
SIGNAL_CHAIN_ID = 1
/* RADIOMETRIC DATA ELEMENTS */
BANDWIDTH = 178.0
CENTER_FILTER_WAVELENGTH = 679.0
RADIANCE_OFFSET = 4.55633
RADIANCE_SCALING_FACTOR = 0.0172298
REFLECTANCE_SCALING_FACTOR = 0.000411334
MEX:REFLECTANCE_OFFSET = 0.108775
/* IMAGE OBJECT DEFINITIONS */
OBJECT = IMAGE
  INTERCHANGE_FORMAT = BINARY
  LINES = 23940
  LINE_SAMPLES = 3559
  SAMPLE_TYPE = UNSIGNED_INTEGER
  SAMPLE_BITS = 8
  BANDS = 1
  BAND_STORAGE_TYPE = BAND_SEQUENTIAL
  MAXIMUM = 255
  MEAN = 118.637
  MINIMUM = 1
  STANDARD_DEVIATION = 31.6498
END_OBJECT = IMAGE
/* MAP OBJECT DEFINITIONS */
OBJECT = IMAGE_MAP_PROJECTION
  ^DATA_SET_MAP_PROJECTION_CATALOG= "DSMAP.CAT"
  A_AXIS_RADIUS = 3396.0
  B_AXIS_RADIUS = 3396.0
  C_AXIS_RADIUS = 3396.0
  CENTER_LATITUDE = 0.0
  CENTER_LONGITUDE = 196.0
  COORDINATE_SYSTEM_NAME = PLANETOGRAPHIC
  COORDINATE_SYSTEM_TYPE = "BODY-FIXED ROTATING"
  EASTERNMOST_LONGITUDE = 196.824
  FIRST_STANDARD_PARALLEL = "N/A"
  LINE_FIRST_PIXEL = 1
  LINE_LAST_PIXEL = 23940
  LINE_PROJECTION_OFFSET = 53851.25
  MAP_PROJECTION_ROTATION = 0.0
  MAP_PROJECTION_TYPE = SINUSOIDAL
  MAP_RESOLUTION = 2370.85521546667
  MAP_SCALE = 0.025
  MAXIMUM_LATITUDE = 22.7611
  MINIMUM_LATITUDE = 12.6127
  POSITIVE_LONGITUDE_DIRECTION = EAST
  REFERENCE_LATITUDE = "N/A"
  REFERENCE_LONGITUDE = "N/A"
  SAMPLE_FIRST_PIXEL = 1
  SAMPLE_LAST_PIXEL = 3559
  SAMPLE_PROJECTION_OFFSET = 1745.25
  SECOND_STANDARD_PARALLEL = "N/A"
  WESTERNMOST_LONGITUDE = 195.196
END_OBJECT = IMAGE_MAP_PROJECTION
END
