PDS_VERSION_ID = PDS3
/* FILE DATA ELEMENTS */
RECORD_TYPE = UNDEFINED
/* POINTERS TO DATA OBJECTS */
^IMAGE = ("H9433_0000_S14.TIF")
/* IDENTIFICATION DATA ELEMENTS */
DATA_SET_ID = "MEX-M-HRSC-4-REFDR-MAPPROJECT-EXT3-V4.0"
DATA_SET_NAME = "MARS EXPRESS HRSC MAP PROJECTED REFDR EXTENSION3 V4.0"
DETECTOR_ID = MEX_HRSC_S1
EVENT_TYPE = "MARS-REGIONAL-MAPPING-Vo-Pf"
INSTRUMENT_HOST_ID = MEX
INSTRUMENT_HOST_NAME = "MARS EXPRESS"
INSTRUMENT_ID = HRSC
INSTRUMENT_NAME = "HIGH RESOLUTION STEREO CAMERA"
MISSION_NAME = "MARS EXPRESS"
MISSION_PHASE_NAME = ME_Phase_23
PROCESSING_LEVEL_ID = 4
PRODUCT_CREATION_TIME = 2023-02-04T05:05:37.000Z
PRODUCT_ID = "H9433_0000_S14.TIF"
RELEASE_ID = 0006
REVISION_ID = 0000
/* QUALITY DATA ELEMENTS */
DATA_QUALITY_ID = 1
DATA_QUALITY_DESC = "Data calculated based on original SPICE kernels"
/* TIME DATA ELEMENTS */
SPACECRAFT_CLOCK_START_COUNT = "1/0254215098.09048"
SPACECRAFT_CLOCK_STOP_COUNT = "1/0254215333.55165"
START_TIME = 2011-05-23T07:18:21.089Z
STOP_TIME = 2011-05-23T07:20:55.469Z
/* ORBITAL DATA ELEMENTS */
ASCENDING_NODE_LONGITUDE = 37.14
MAXIMUM_RESOLUTION = 0.0311
FOOTPRINT_POINT_LATITUDE = (22.762,22.7532,22.744,22.7342,22.7237, 22.7127,22.6964,22.6957,22.6477,22.296, 22.0324,21.5046,21.0646,20.7124,20.3609 ,20.1734,19.963,19.7527,19.5423,19.2267 ,19.0162,18.8061,18.5954,18.385,18.0689 ,17.8582,17.6482,17.4373,17.1212, 16.9103,16.6997,16.4894,16.28,16.068, 15.8575,15.6467,15.4361,15.2255,14.9095 ,14.5936,14.3831,14.1727,13.8571, 13.6467,13.3312,13.1208,12.9108,12.7007 ,12.5953,12.5633,12.5755,12.5903, 12.5979,12.6095,12.6165,12.6169,12.6176 ,12.828,13.0387,13.2492,13.46,13.6706, 13.8814,14.0921,14.303,14.5136,14.7243, 14.935,15.1459,15.3566,15.673,15.8839, 16.0946,16.4109,16.6218,16.8328,17.0436 ,17.2546,17.571,17.7819,17.9927,18.3093 ,18.5202,18.8363,19.0472,19.2578, 19.4686,19.6793,19.9953,20.3102,20.5748 ,20.9279,21.2802,21.4567,21.7208,21.985 ,22.3374,22.6017,22.6898,22.762)
FOOTPRINT_POINT_LONGITUDE = (196.707,196.498,196.286,196.073, 195.858,195.641,195.339,195.325,195.288 ,195.291,195.294,195.297,195.3,195.302, 195.304,195.304,195.305,195.305,195.306 ,195.306,195.307,195.307,195.307, 195.307,195.306,195.306,195.306,195.305 ,195.304,195.303,195.303,195.302, 195.302,195.3,195.298,195.297,195.296, 195.294,195.292,195.289,195.287,195.286 ,195.283,195.281,195.277,195.275, 195.273,195.271,195.269,195.269,195.562 ,195.925,196.155,196.51,196.736,196.75, 196.755,196.754,196.753,196.752,196.752 ,196.751,196.75,196.749,196.748,196.747 ,196.746,196.745,196.745,196.744, 196.742,196.741,196.74,196.739,196.738, 196.737,196.736,196.735,196.734,196.733 ,196.732,196.73,196.729,196.728,196.726 ,196.725,196.724,196.723,196.721,196.72 ,196.718,196.716,196.714,196.713, 196.712,196.71,196.708,196.706,196.706, 196.707)
ORBIT_NUMBER = 9433
ORBITAL_ECCENTRICITY = 0.575
ORBITAL_INCLINATION = 86.87
ORBITAL_SEMIMAJOR_AXIS = 8829.32
PERIAPSIS_ALTITUDE = 357.81
PERIAPSIS_ARGUMENT_ANGLE = 149.71
PERIAPSIS_TIME = 2011-05-23T07:16:57.000Z
SPACECRAFT_ORIENTATION = (0.0,-1.0,0.0)
^MEX_ORIENTATION_DESC = "MEX_ORIENTATION_DESC.TXT"
SPACECRAFT_POINTING_MODE = ACROSSTRACK
^MEX_POINTING_DESC = "MEX_POINTING_DESC.TXT"
RIGHT_ASCENSION = -1e+32
DECLINATION = -1e+32
OFFSET_ANGLE = -0.7
SPACECRAFT_SOLAR_DISTANCE = 2.12321e+08
TARGET_NAME = MARS
/* CAMERA DATA ELEMENTS */
DETECTOR_TEMPERATURE = 17.7588
FOCAL_PLANE_TEMPERATURE = 8.7872
INST_CMPRS_NAME = "DISCRETE COSINE TRANSFORMATION (DCT)"
INST_CMPRS_RATIO = 7.43511
INST_CMPRS_QUALITY = 0
INST_CMPRS_QUANTZ_TBL_ID = 0
INSTRUMENT_TEMPERATURE = 11.4379
LENS_TEMPERATURE = 9.195
MACROPIXEL_SIZE = 2
MISSING_FRAMES = 0
PIXEL_SUBSAMPLING_FLAG = N
SIGNAL_CHAIN_ID = 1
/* RADIOMETRIC DATA ELEMENTS */
BANDWIDTH = 180.0
CENTER_FILTER_WAVELENGTH = 677.0
RADIANCE_OFFSET = 4.89588
RADIANCE_SCALING_FACTOR = 0.018735
REFLECTANCE_SCALING_FACTOR = 0.000440636
MEX:REFLECTANCE_OFFSET = 0.115148
/* IMAGE OBJECT DEFINITIONS */
OBJECT = IMAGE
  INTERCHANGE_FORMAT = BINARY
  LINES = 23940
  LINE_SAMPLES = 3559
  SAMPLE_TYPE = UNSIGNED_INTEGER
  SAMPLE_BITS = 8
  BANDS = 1
  BAND_STORAGE_TYPE = BAND_SEQUENTIAL
  MAXIMUM = 255
  MEAN = 117.938
  MINIMUM = 1
  STANDARD_DEVIATION = 30.8134
END_OBJECT = IMAGE
/* MAP OBJECT DEFINITIONS */
OBJECT = IMAGE_MAP_PROJECTION
  ^DATA_SET_MAP_PROJECTION_CATALOG= "DSMAP.CAT"
  A_AXIS_RADIUS = 3396.0
  B_AXIS_RADIUS = 3396.0
  C_AXIS_RADIUS = 3396.0
  CENTER_LATITUDE = 0.0
  CENTER_LONGITUDE = 196.0
  COORDINATE_SYSTEM_NAME = PLANETOGRAPHIC
  COORDINATE_SYSTEM_TYPE = "BODY-FIXED ROTATING"
  EASTERNMOST_LONGITUDE = 196.755
  FIRST_STANDARD_PARALLEL = "N/A"
  LINE_FIRST_PIXEL = 1
  LINE_LAST_PIXEL = 23940
  LINE_PROJECTION_OFFSET = 53851.25
  MAP_PROJECTION_ROTATION = 0.0
  MAP_PROJECTION_TYPE = SINUSOIDAL
  MAP_RESOLUTION = 2370.85521546667
  MAP_SCALE = 0.025
  MAXIMUM_LATITUDE = 22.762
  MINIMUM_LATITUDE = 12.5633
  POSITIVE_LONGITUDE_DIRECTION = EAST
  REFERENCE_LATITUDE = "N/A"
  REFERENCE_LONGITUDE = "N/A"
  SAMPLE_FIRST_PIXEL = 1
  SAMPLE_LAST_PIXEL = 3559
  SAMPLE_PROJECTION_OFFSET = 1745.25
  SECOND_STANDARD_PARALLEL = "N/A"
  WESTERNMOST_LONGITUDE = 195.269
END_OBJECT = IMAGE_MAP_PROJECTION
END
