PDS_VERSION_ID = PDS3
/* FILE DATA ELEMENTS */
RECORD_TYPE = UNDEFINED
/* POINTERS TO DATA OBJECTS */
^IMAGE = ("H9428_0000_ND4.TIF")
/* IDENTIFICATION DATA ELEMENTS */
DATA_SET_ID = "MEX-M-HRSC-4-REFDR-MAPPROJECT-EXT3-V4.0"
DATA_SET_NAME = "MARS EXPRESS HRSC MAP PROJECTED REFDR EXTENSION3 V4.0"
DETECTOR_ID = MEX_HRSC_NADIR
EVENT_TYPE = "MARS-REGIONAL-MAPPING-Im-Fl-La"
INSTRUMENT_HOST_ID = MEX
INSTRUMENT_HOST_NAME = "MARS EXPRESS"
INSTRUMENT_ID = HRSC
INSTRUMENT_NAME = "HIGH RESOLUTION STEREO CAMERA"
MISSION_NAME = "MARS EXPRESS"
MISSION_PHASE_NAME = ME_Phase_23
PROCESSING_LEVEL_ID = 4
PRODUCT_CREATION_TIME = 2023-02-04T05:05:37.000Z
PRODUCT_ID = "H9428_0000_ND4.TIF"
RELEASE_ID = 0006
REVISION_ID = 0000
/* QUALITY DATA ELEMENTS */
DATA_QUALITY_ID = 1
DATA_QUALITY_DESC = "Data calculated based on original SPICE kernels"
/* TIME DATA ELEMENTS */
SPACECRAFT_CLOCK_START_COUNT = "1/0254089296.08254"
SPACECRAFT_CLOCK_STOP_COUNT = "1/0254089535.56051"
START_TIME = 2011-05-21T20:22:14.216Z
STOP_TIME = 2011-05-21T20:24:48.208Z
/* ORBITAL DATA ELEMENTS */
ASCENDING_NODE_LONGITUDE = 37.24
MAXIMUM_RESOLUTION = 0.0159
FOOTPRINT_POINT_LATITUDE = (15.5733,15.575,15.5766,15.5782,15.5788 ,15.5792,15.5792,15.5795,15.0298, 14.7552,14.3896,14.0244,13.6598,13.2956 ,12.9319,12.6533,12.4669,12.2807, 12.0945,11.9085,11.7227,11.537,11.2526, 11.0623,10.8723,10.6823,10.4926,10.3029 ,10.0138,9.81973,9.62582,9.43208,9.2385 ,9.0451,8.74842,8.55064,8.35304,8.15563 ,7.9584,7.75728,7.55563,7.35419,7.15295 ,6.9519,6.74811,6.54278,6.33757,6.13259 ,6.0302,6.00956,6.00719,6.00333,6.00033 ,5.99758,5.99175,5.99155,5.99173, 6.19684,6.40216,6.6077,6.91507,7.11636, 7.31785,7.51955,7.72145,7.92328,8.12075 ,8.3184,8.51628,8.71426,8.91251,9.10865 ,9.30239,9.49625,9.69024,9.88448, 10.0789,10.2716,10.4615,10.6515,10.8416 ,11.0319,11.2224,11.5076,11.6935, 11.8796,12.0658,12.2521,12.4386,12.6252 ,12.9046,13.2687,13.6334,13.9985,14.364 ,14.73,15.0964,15.4633,15.5551,15.5733)
FOOTPRINT_POINT_LONGITUDE = (348.839,348.587,348.306,347.913, 347.674,347.434,347.42,347.401,347.395, 347.395,347.391,347.386,347.38,347.374, 347.368,347.364,347.361,347.358,347.355 ,347.352,347.349,347.345,347.34,347.337 ,347.333,347.329,347.325,347.322, 347.316,347.311,347.307,347.303,347.299 ,347.295,347.288,347.283,347.279, 347.274,347.269,347.264,347.26,347.255, 347.25,347.245,347.24,347.233,347.228, 347.223,347.22,347.22,347.466,347.843, 348.121,348.366,348.856,348.872,348.88, 348.879,348.878,348.877,348.876,348.875 ,348.874,348.873,348.872,348.871, 348.871,348.87,348.87,348.868,348.868, 348.868,348.867,348.866,348.864,348.863 ,348.862,348.862,348.861,348.86,348.86, 348.859,348.858,348.857,348.857,348.856 ,348.856,348.855,348.854,348.854, 348.853,348.852,348.851,348.85,348.849, 348.848,348.847,348.846,348.846, 348.839)
ORBIT_NUMBER = 9428
ORBITAL_ECCENTRICITY = 0.576
ORBITAL_INCLINATION = 86.86
ORBITAL_SEMIMAJOR_AXIS = 8831.72
PERIAPSIS_ALTITUDE = 357.34
PERIAPSIS_ARGUMENT_ANGLE = 150.56
PERIAPSIS_TIME = 2011-05-21T20:18:39.000Z
SPACECRAFT_ORIENTATION = (0.0,-1.0,0.0)
^MEX_ORIENTATION_DESC = "MEX_ORIENTATION_DESC.TXT"
SPACECRAFT_POINTING_MODE = ACROSSTRACK
^MEX_POINTING_DESC = "MEX_POINTING_DESC.TXT"
RIGHT_ASCENSION = -1e+32
DECLINATION = -1e+32
OFFSET_ANGLE = -0.1
SPACECRAFT_SOLAR_DISTANCE = 2.12115e+08
TARGET_NAME = MARS
/* CAMERA DATA ELEMENTS */
DETECTOR_TEMPERATURE = 18.1666
FOCAL_PLANE_TEMPERATURE = 8.3794
INST_CMPRS_NAME = "DISCRETE COSINE TRANSFORMATION (DCT)"
INST_CMPRS_RATIO = 7.13159
INST_CMPRS_QUALITY = 0
INST_CMPRS_QUANTZ_TBL_ID = 0
INSTRUMENT_TEMPERATURE = 11.0301
LENS_TEMPERATURE = 8.7872
MACROPIXEL_SIZE = 1
MISSING_FRAMES = 0
PIXEL_SUBSAMPLING_FLAG = N
SIGNAL_CHAIN_ID = 0
/* RADIOMETRIC DATA ELEMENTS */
BANDWIDTH = 177.0
CENTER_FILTER_WAVELENGTH = 677.5
RADIANCE_OFFSET = 3.38229
RADIANCE_SCALING_FACTOR = 0.0203908
REFLECTANCE_SCALING_FACTOR = 0.000487372
MEX:REFLECTANCE_OFFSET = 0.0808422
/* IMAGE OBJECT DEFINITIONS */
OBJECT = IMAGE
  INTERCHANGE_FORMAT = BINARY
  LINES = 45465
  LINE_SAMPLES = 7832
  SAMPLE_TYPE = UNSIGNED_INTEGER
  SAMPLE_BITS = 8
  BANDS = 1
  BAND_STORAGE_TYPE = BAND_SEQUENTIAL
  MAXIMUM = 255
  MEAN = 95.1379
  MINIMUM = 1
  STANDARD_DEVIATION = 19.5532
END_OBJECT = IMAGE
/* MAP OBJECT DEFINITIONS */
OBJECT = IMAGE_MAP_PROJECTION
  ^DATA_SET_MAP_PROJECTION_CATALOG= "DSMAP.CAT"
  A_AXIS_RADIUS = 3396.0
  B_AXIS_RADIUS = 3396.0
  C_AXIS_RADIUS = 3396.0
  CENTER_LATITUDE = 0.0
  CENTER_LONGITUDE = 348.0
  COORDINATE_SYSTEM_NAME = PLANETOGRAPHIC
  COORDINATE_SYSTEM_TYPE = "BODY-FIXED ROTATING"
  EASTERNMOST_LONGITUDE = 348.88
  FIRST_STANDARD_PARALLEL = "N/A"
  LINE_FIRST_PIXEL = 1
  LINE_LAST_PIXEL = 45465
  LINE_PROJECTION_OFFSET = 73874.0
  MAP_PROJECTION_ROTATION = 0.0
  MAP_PROJECTION_TYPE = SINUSOIDAL
  MAP_RESOLUTION = 4741.71043093333
  MAP_SCALE = 0.0125
  MAXIMUM_LATITUDE = 15.5795
  MINIMUM_LATITUDE = 5.99155
  POSITIVE_LONGITUDE_DIRECTION = EAST
  REFERENCE_LATITUDE = "N/A"
  REFERENCE_LONGITUDE = "N/A"
  SAMPLE_FIRST_PIXEL = 1
  SAMPLE_LAST_PIXEL = 7832
  SAMPLE_PROJECTION_OFFSET = 3679.0
  SECOND_STANDARD_PARALLEL = "N/A"
  WESTERNMOST_LONGITUDE = 347.22
END_OBJECT = IMAGE_MAP_PROJECTION
END
