PDS_VERSION_ID = PDS3
/* FILE DATA ELEMENTS */
RECORD_TYPE = UNDEFINED
/* POINTERS TO DATA OBJECTS */
^IMAGE = ("H9422_0000_S24.TIF")
/* IDENTIFICATION DATA ELEMENTS */
DATA_SET_ID = "MEX-M-HRSC-4-REFDR-MAPPROJECT-EXT3-V4.0"
DATA_SET_NAME = "MARS EXPRESS HRSC MAP PROJECTED REFDR EXTENSION3 V4.0"
DETECTOR_ID = MEX_HRSC_S2
EVENT_TYPE = "MARS-REGIONAL-MAPPING-Vo-Eo"
INSTRUMENT_HOST_ID = MEX
INSTRUMENT_HOST_NAME = "MARS EXPRESS"
INSTRUMENT_ID = HRSC
INSTRUMENT_NAME = "HIGH RESOLUTION STEREO CAMERA"
MISSION_NAME = "MARS EXPRESS"
MISSION_PHASE_NAME = ME_Phase_23
PROCESSING_LEVEL_ID = 4
PRODUCT_CREATION_TIME = 2023-02-04T05:05:37.000Z
PRODUCT_ID = "H9422_0000_S24.TIF"
RELEASE_ID = 0006
REVISION_ID = 0000
/* QUALITY DATA ELEMENTS */
DATA_QUALITY_ID = 1
DATA_QUALITY_DESC = "Data calculated based on original SPICE kernels"
/* TIME DATA ELEMENTS */
SPACECRAFT_CLOCK_START_COUNT = "1/0253938236.08246"
SPACECRAFT_CLOCK_STOP_COUNT = "1/0253938494.30472"
START_TIME = 2011-05-20T02:25:13.976Z
STOP_TIME = 2011-05-20T02:28:15.462Z
/* ORBITAL DATA ELEMENTS */
ASCENDING_NODE_LONGITUDE = 37.35
MAXIMUM_RESOLUTION = 0.0352
FOOTPRINT_POINT_LATITUDE = (13.5102,13.5211,13.5323,13.5437, 13.5554,13.5674,13.5843,13.585,13.5693, 13.2749,12.8791,12.5789,12.279,11.8803, 11.2709,10.7638,10.455,10.248,10.0417, 9.83521,9.62656,9.41444,9.20153,8.99058 ,8.67442,8.35477,8.14162,7.92883, 7.71662,7.39295,7.06994,6.85464,6.63969 ,6.4251,6.21078,5.99709,5.78381,5.57099 ,5.35856,5.14655,4.93494,4.72367, 4.51295,4.30251,4.09252,3.88312,3.67394 ,3.46518,3.25692,3.15301,3.13341, 3.11901,3.10034,3.08564,3.0715,3.05395, 3.04078,3.03999,3.04022,3.24909,3.45819 ,3.66784,3.87774,4.0881,4.29876,4.50987 ,4.72142,4.93341,5.14573,5.3587,5.57191 ,5.78558,6.1067,6.32113,6.53615,6.85986 ,7.07582,7.29239,7.61702,7.8302,8.04436 ,8.3658,8.58019,8.79111,9.00251,9.2126, 9.42336,9.73528,9.94187,10.1487,10.3559 ,10.6656,11.1734,11.7842,12.1838,12.584 ,12.9854,13.3777,13.476,13.5102)
FOOTPRINT_POINT_LONGITUDE = (241.875,241.644,241.411,241.176,240.94 ,240.701,240.368,240.352,240.357, 240.354,240.349,240.344,240.34,240.334, 240.323,240.314,240.309,240.305,240.301 ,240.297,240.294,240.291,240.288, 240.285,240.279,240.272,240.267,240.262 ,240.257,240.248,240.239,240.234, 240.228,240.222,240.216,240.21,240.203, 240.197,240.191,240.184,240.178,240.171 ,240.165,240.158,240.151,240.144, 240.137,240.13,240.123,240.12,240.119, 240.375,240.719,241.007,241.292,241.664 ,241.945,241.962,241.969,241.966, 241.964,241.962,241.96,241.958,241.955, 241.953,241.951,241.949,241.947,241.945 ,241.943,241.941,241.938,241.936, 241.934,241.931,241.929,241.927,241.924 ,241.922,241.92,241.917,241.915,241.914 ,241.912,241.91,241.908,241.906,241.904 ,241.902,241.9,241.898,241.894,241.889, 241.886,241.882,241.879,241.876,241.875 ,241.875)
ORBIT_NUMBER = 9422
ORBITAL_ECCENTRICITY = 0.576
ORBITAL_INCLINATION = 86.86
ORBITAL_SEMIMAJOR_AXIS = 8846.33
PERIAPSIS_ALTITUDE = 355.87
PERIAPSIS_ARGUMENT_ANGLE = 151.6
PERIAPSIS_TIME = 2011-05-20T02:20:44.000Z
SPACECRAFT_ORIENTATION = (0.0,-1.0,0.0)
^MEX_ORIENTATION_DESC = "MEX_ORIENTATION_DESC.TXT"
SPACECRAFT_POINTING_MODE = ACROSSTRACK
^MEX_POINTING_DESC = "MEX_POINTING_DESC.TXT"
RIGHT_ASCENSION = -1e+32
DECLINATION = -1e+32
OFFSET_ANGLE = -0.8
SPACECRAFT_SOLAR_DISTANCE = 2.11872e+08
TARGET_NAME = MARS
/* CAMERA DATA ELEMENTS */
DETECTOR_TEMPERATURE = 18.9822
FOCAL_PLANE_TEMPERATURE = 8.9911
INST_CMPRS_NAME = "DISCRETE COSINE TRANSFORMATION (DCT)"
INST_CMPRS_RATIO = 7.41994
INST_CMPRS_QUALITY = 0
INST_CMPRS_QUANTZ_TBL_ID = 0
INSTRUMENT_TEMPERATURE = 11.234
LENS_TEMPERATURE = 9.3989
MACROPIXEL_SIZE = 2
MISSING_FRAMES = 0
PIXEL_SUBSAMPLING_FLAG = N
SIGNAL_CHAIN_ID = 1
/* RADIOMETRIC DATA ELEMENTS */
BANDWIDTH = 178.0
CENTER_FILTER_WAVELENGTH = 679.0
RADIANCE_OFFSET = 4.60088
RADIANCE_SCALING_FACTOR = 0.0267791
REFLECTANCE_SCALING_FACTOR = 0.000636612
MEX:REFLECTANCE_OFFSET = 0.109375
/* IMAGE OBJECT DEFINITIONS */
OBJECT = IMAGE
  INTERCHANGE_FORMAT = BINARY
  LINES = 24797
  LINE_SAMPLES = 4038
  SAMPLE_TYPE = UNSIGNED_INTEGER
  SAMPLE_BITS = 8
  BANDS = 1
  BAND_STORAGE_TYPE = BAND_SEQUENTIAL
  MAXIMUM = 255
  MEAN = 128.581
  MINIMUM = 1
  STANDARD_DEVIATION = 21.1688
END_OBJECT = IMAGE
/* MAP OBJECT DEFINITIONS */
OBJECT = IMAGE_MAP_PROJECTION
  ^DATA_SET_MAP_PROJECTION_CATALOG= "DSMAP.CAT"
  A_AXIS_RADIUS = 3396.0
  B_AXIS_RADIUS = 3396.0
  C_AXIS_RADIUS = 3396.0
  CENTER_LATITUDE = 0.0
  CENTER_LONGITUDE = 241.0
  COORDINATE_SYSTEM_NAME = PLANETOGRAPHIC
  COORDINATE_SYSTEM_TYPE = "BODY-FIXED ROTATING"
  EASTERNMOST_LONGITUDE = 241.969
  FIRST_STANDARD_PARALLEL = "N/A"
  LINE_FIRST_PIXEL = 1
  LINE_LAST_PIXEL = 24797
  LINE_PROJECTION_OFFSET = 32165.25
  MAP_PROJECTION_ROTATION = 0.0
  MAP_PROJECTION_TYPE = SINUSOIDAL
  MAP_RESOLUTION = 2370.85521546667
  MAP_SCALE = 0.025
  MAXIMUM_LATITUDE = 13.585
  MINIMUM_LATITUDE = 3.03999
  POSITIVE_LONGITUDE_DIRECTION = EAST
  REFERENCE_LATITUDE = "N/A"
  REFERENCE_LONGITUDE = "N/A"
  SAMPLE_FIRST_PIXEL = 1
  SAMPLE_LAST_PIXEL = 4038
  SAMPLE_PROJECTION_OFFSET = 1894.25
  SECOND_STANDARD_PARALLEL = "N/A"
  WESTERNMOST_LONGITUDE = 240.119
END_OBJECT = IMAGE_MAP_PROJECTION
END
