PDS_VERSION_ID = PDS3
/* FILE DATA ELEMENTS */
RECORD_TYPE = UNDEFINED
/* POINTERS TO DATA OBJECTS */
^IMAGE = ("H9422_0000_IR4.TIF")
/* IDENTIFICATION DATA ELEMENTS */
DATA_SET_ID = "MEX-M-HRSC-4-REFDR-MAPPROJECT-EXT3-V4.0"
DATA_SET_NAME = "MARS EXPRESS HRSC MAP PROJECTED REFDR EXTENSION3 V4.0"
DETECTOR_ID = MEX_HRSC_IR
EVENT_TYPE = "MARS-REGIONAL-MAPPING-Vo-Eo"
INSTRUMENT_HOST_ID = MEX
INSTRUMENT_HOST_NAME = "MARS EXPRESS"
INSTRUMENT_ID = HRSC
INSTRUMENT_NAME = "HIGH RESOLUTION STEREO CAMERA"
MISSION_NAME = "MARS EXPRESS"
MISSION_PHASE_NAME = ME_Phase_23
PROCESSING_LEVEL_ID = 4
PRODUCT_CREATION_TIME = 2023-02-04T05:05:37.000Z
PRODUCT_ID = "H9422_0000_IR4.TIF"
RELEASE_ID = 0006
REVISION_ID = 0000
/* QUALITY DATA ELEMENTS */
DATA_QUALITY_ID = 1
DATA_QUALITY_DESC = "Data calculated based on original SPICE kernels"
/* TIME DATA ELEMENTS */
SPACECRAFT_CLOCK_START_COUNT = "1/0253938236.08246"
SPACECRAFT_CLOCK_STOP_COUNT = "1/0253938494.30472"
START_TIME = 2011-05-20T02:24:05.207Z
STOP_TIME = 2011-05-20T02:26:46.911Z
/* ORBITAL DATA ELEMENTS */
ASCENDING_NODE_LONGITUDE = 37.35
MAXIMUM_RESOLUTION = 0.1286
FOOTPRINT_POINT_LATITUDE = (13.5834,13.577,13.5702,13.563,13.5553, 13.5471,13.5333,13.5327,13.5426,13.0498 ,12.5569,12.1628,11.769,11.3753,10.9818 ,10.6868,10.2938,9.89869,9.69809, 9.49841,9.29928,9.0991,8.79869,8.59792, 8.39363,8.18711,7.87756,7.67114,7.46495 ,7.25807,6.9425,6.7311,6.51987,6.30888, 6.0978,5.88555,5.66948,5.45352,5.23765, 5.02188,4.8063,4.58648,4.36599,4.14571, 3.92545,3.70531,3.48112,3.25611,3.14367 ,3.11086,3.12215,3.12911,3.13439, 3.14169,3.14605,3.14632,3.14884,3.37386 ,3.59918,3.8218,4.04206,4.26261,4.48327 ,4.70412,4.92229,5.13803,5.35394, 5.57006,5.78627,6.00197,6.31899,6.53034 ,6.74181,6.95312,7.26958,7.47608, 7.68249,7.88879,8.19778,8.404,8.60852, 8.80912,9.00914,9.21093,9.5135,9.71533, 9.91715,10.1166,10.4118,10.8055,11.101, 11.4951,11.9879,12.3822,12.5796,12.9745 ,13.2707,13.4683,13.5669,13.5834)
FOOTPRINT_POINT_LONGITUDE = (241.824,241.618,241.411,241.201,240.99 ,240.777,240.439,240.426,240.429, 240.425,240.42,240.416,240.412,240.407, 240.402,240.398,240.393,240.387,240.385 ,240.384,240.382,240.38,240.376,240.373 ,240.37,240.366,240.361,240.357,240.353 ,240.348,240.342,240.337,240.333, 240.328,240.324,240.319,240.314,240.309 ,240.304,240.299,240.293,240.288, 240.283,240.277,240.272,240.266,240.26, 240.255,240.252,240.251,240.681,240.986 ,241.228,241.603,241.841,241.855, 241.865,241.864,241.863,241.862,241.862 ,241.861,241.86,241.859,241.858,241.857 ,241.856,241.856,241.855,241.854, 241.853,241.852,241.851,241.85,241.849, 241.848,241.848,241.847,241.846,241.845 ,241.844,241.843,241.843,241.842, 241.841,241.84,241.839,241.839,241.837, 241.836,241.835,241.833,241.832,241.83, 241.829,241.828,241.827,241.826,241.825 ,241.824)
ORBIT_NUMBER = 9422
ORBITAL_ECCENTRICITY = 0.576
ORBITAL_INCLINATION = 86.86
ORBITAL_SEMIMAJOR_AXIS = 8846.33
PERIAPSIS_ALTITUDE = 355.87
PERIAPSIS_ARGUMENT_ANGLE = 151.6
PERIAPSIS_TIME = 2011-05-20T02:20:44.000Z
SPACECRAFT_ORIENTATION = (0.0,-1.0,0.0)
^MEX_ORIENTATION_DESC = "MEX_ORIENTATION_DESC.TXT"
SPACECRAFT_POINTING_MODE = ACROSSTRACK
^MEX_POINTING_DESC = "MEX_POINTING_DESC.TXT"
RIGHT_ASCENSION = -1e+32
DECLINATION = -1e+32
OFFSET_ANGLE = -0.8
SPACECRAFT_SOLAR_DISTANCE = 2.11872e+08
TARGET_NAME = MARS
/* CAMERA DATA ELEMENTS */
DETECTOR_TEMPERATURE = 16.9432
FOCAL_PLANE_TEMPERATURE = 8.9911
INST_CMPRS_NAME = "DISCRETE COSINE TRANSFORMATION (DCT)"
INST_CMPRS_RATIO = 9.83702
INST_CMPRS_QUALITY = 0
INST_CMPRS_QUANTZ_TBL_ID = 0
INSTRUMENT_TEMPERATURE = 11.234
LENS_TEMPERATURE = 9.3989
MACROPIXEL_SIZE = 8
MISSING_FRAMES = 0
PIXEL_SUBSAMPLING_FLAG = N
SIGNAL_CHAIN_ID = 2
/* RADIOMETRIC DATA ELEMENTS */
BANDWIDTH = 81.0
CENTER_FILTER_WAVELENGTH = 955.5
RADIANCE_OFFSET = 1.15372
RADIANCE_SCALING_FACTOR = 0.00772702
REFLECTANCE_SCALING_FACTOR = 0.000748323
MEX:REFLECTANCE_OFFSET = 0.111731
/* IMAGE OBJECT DEFINITIONS */
OBJECT = IMAGE
  INTERCHANGE_FORMAT = BINARY
  LINES = 6200
  LINE_SAMPLES = 1010
  SAMPLE_TYPE = UNSIGNED_INTEGER
  SAMPLE_BITS = 8
  BANDS = 1
  BAND_STORAGE_TYPE = BAND_SEQUENTIAL
  MAXIMUM = 255
  MEAN = 125.533
  MINIMUM = 1
  STANDARD_DEVIATION = 20.2151
END_OBJECT = IMAGE
/* MAP OBJECT DEFINITIONS */
OBJECT = IMAGE_MAP_PROJECTION
  ^DATA_SET_MAP_PROJECTION_CATALOG= "DSMAP.CAT"
  A_AXIS_RADIUS = 3396.0
  B_AXIS_RADIUS = 3396.0
  C_AXIS_RADIUS = 3396.0
  CENTER_LATITUDE = 0.0
  CENTER_LONGITUDE = 241.0
  COORDINATE_SYSTEM_NAME = PLANETOGRAPHIC
  COORDINATE_SYSTEM_TYPE = "BODY-FIXED ROTATING"
  EASTERNMOST_LONGITUDE = 241.865
  FIRST_STANDARD_PARALLEL = "N/A"
  LINE_FIRST_PIXEL = 1
  LINE_LAST_PIXEL = 6200
  LINE_PROJECTION_OFFSET = 8040.9375
  MAP_PROJECTION_ROTATION = 0.0
  MAP_PROJECTION_TYPE = SINUSOIDAL
  MAP_RESOLUTION = 592.713803866667
  MAP_SCALE = 0.1
  MAXIMUM_LATITUDE = 13.5834
  MINIMUM_LATITUDE = 3.11086
  POSITIVE_LONGITUDE_DIRECTION = EAST
  REFERENCE_LATITUDE = "N/A"
  REFERENCE_LONGITUDE = "N/A"
  SAMPLE_FIRST_PIXEL = 1
  SAMPLE_LAST_PIXEL = 1010
  SAMPLE_PROJECTION_OFFSET = 473.1875
  SECOND_STANDARD_PARALLEL = "N/A"
  WESTERNMOST_LONGITUDE = 240.251
END_OBJECT = IMAGE_MAP_PROJECTION
END
