PDS_VERSION_ID = PDS3
/* FILE DATA ELEMENTS */
RECORD_TYPE = UNDEFINED
/* POINTERS TO DATA OBJECTS */
^IMAGE = ("H9420_0000_S24.TIF")
/* IDENTIFICATION DATA ELEMENTS */
DATA_SET_ID = "MEX-M-HRSC-4-REFDR-MAPPROJECT-EXT3-V4.0"
DATA_SET_NAME = "MARS EXPRESS HRSC MAP PROJECTED REFDR EXTENSION3 V4.0"
DETECTOR_ID = MEX_HRSC_S2
EVENT_TYPE = "MARS-REGIONAL-STEREO-Vo-Im-Pf"
INSTRUMENT_HOST_ID = MEX
INSTRUMENT_HOST_NAME = "MARS EXPRESS"
INSTRUMENT_ID = HRSC
INSTRUMENT_NAME = "HIGH RESOLUTION STEREO CAMERA"
MISSION_NAME = "MARS EXPRESS"
MISSION_PHASE_NAME = ME_Phase_23
PROCESSING_LEVEL_ID = 4
PRODUCT_CREATION_TIME = 2023-02-04T05:05:37.000Z
PRODUCT_ID = "H9420_0000_S24.TIF"
RELEASE_ID = 0006
REVISION_ID = 0000
/* QUALITY DATA ELEMENTS */
DATA_QUALITY_ID = 1
DATA_QUALITY_DESC = "Data calculated based on original SPICE kernels"
/* TIME DATA ELEMENTS */
SPACECRAFT_CLOCK_START_COUNT = "1/0253887788.08244"
SPACECRAFT_CLOCK_STOP_COUNT = "1/0253888103.65127"
START_TIME = 2011-05-19T12:24:18.321Z
STOP_TIME = 2011-05-19T12:28:24.992Z
/* ORBITAL DATA ELEMENTS */
ASCENDING_NODE_LONGITUDE = 37.39
MAXIMUM_RESOLUTION = 0.0326
FOOTPRINT_POINT_LATITUDE = (19.3509,19.3525,19.3538,19.3556, 19.3557,19.3899,18.9607,18.6749,18.389, 18.104,17.677,17.3929,17.1094,16.8266, 16.4031,15.9801,15.699,15.4185,14.8584, 14.3004,13.745,13.4636,13.1792,12.896, 12.6131,12.1867,11.8979,11.4658,11.1786 ,10.886,10.5927,10.3001,10.008,9.70935, 9.41166,9.11485,8.66286,8.36048,8.05853 ,7.75199,7.44475,7.13829,6.82768, 6.51592,6.04647,5.73006,5.41432,5.09409 ,4.93362,4.7744,4.76365,4.7563,4.75083, 4.75071,4.75121,5.07244,5.39333,5.70927 ,6.02615,6.49642,6.80863,7.1202,7.42663 ,7.73441,8.04167,8.34352,8.64626,9.0986 ,9.39587,9.6941,9.99302,10.2853,10.5783 ,10.8719,11.1649,11.4523,11.7406, 12.0293,12.3186,12.6012,13.0268,13.3107 ,13.8736,14.2911,14.7099,15.2697, 15.5505,15.9727,16.3959,16.6785,16.9614 ,17.2452,17.5293,17.814,18.0991,18.3845 ,18.6705,19.1001,19.2436,19.3509)
FOOTPRINT_POINT_LONGITUDE = (87.2402,86.7104,86.3304,85.8547, 85.8411,85.8258,85.8229,85.8209,85.8188 ,85.8165,85.8129,85.8102,85.8074, 85.8044,85.7997,85.7948,85.7912,85.7876 ,85.78,85.7718,85.763,85.7583,85.7536, 85.7486,85.7435,85.7354,85.7299,85.7213 ,85.7154,85.7092,85.7029,85.6964, 85.6898,85.683,85.6759,85.6687,85.6575, 85.6498,85.642,85.6339,85.6255,85.6171, 85.6082,85.5992,85.5854,85.5758,85.5662 ,85.5561,85.551,85.546,86.2,86.785, 87.3015,87.3187,87.3249,87.3221,87.3193 ,87.3166,87.3139,87.3102,87.3078, 87.3055,87.3031,87.301,87.2989,87.2968, 87.2948,87.292,87.2901,87.2883,87.2866, 87.285,87.2834,87.2818,87.2803,87.2788, 87.2774,87.276,87.2746,87.2734,87.2717, 87.2705,87.2682,87.2666,87.2651,87.2631 ,87.2622,87.2609,87.2596,87.2587, 87.2578,87.257,87.2562,87.2555,87.2548, 87.254,87.2533,87.2522,87.2519,87.2402)
ORBIT_NUMBER = 9420
ORBITAL_ECCENTRICITY = 0.576
ORBITAL_INCLINATION = 86.87
ORBITAL_SEMIMAJOR_AXIS = 8841.85
PERIAPSIS_ALTITUDE = 355.39
PERIAPSIS_ARGUMENT_ANGLE = 151.95
PERIAPSIS_TIME = 2011-05-19T12:21:29.000Z
SPACECRAFT_ORIENTATION = (0.0,-1.0,0.0)
^MEX_ORIENTATION_DESC = "MEX_ORIENTATION_DESC.TXT"
SPACECRAFT_POINTING_MODE = NADIR
^MEX_POINTING_DESC = "MEX_POINTING_DESC.TXT"
RIGHT_ASCENSION = -1e+32
DECLINATION = -1e+32
OFFSET_ANGLE = -1e+32
SPACECRAFT_SOLAR_DISTANCE = 2.11792e+08
TARGET_NAME = MARS
/* CAMERA DATA ELEMENTS */
DETECTOR_TEMPERATURE = 18.7783
FOCAL_PLANE_TEMPERATURE = 8.9911
INST_CMPRS_NAME = "DISCRETE COSINE TRANSFORMATION (DCT)"
INST_CMPRS_RATIO = 9.69606
INST_CMPRS_QUALITY = 0
INST_CMPRS_QUANTZ_TBL_ID = 0
INSTRUMENT_TEMPERATURE = 11.4379
LENS_TEMPERATURE = 9.3989
MACROPIXEL_SIZE = 2
MISSING_FRAMES = 0
PIXEL_SUBSAMPLING_FLAG = N
SIGNAL_CHAIN_ID = 1
/* RADIOMETRIC DATA ELEMENTS */
BANDWIDTH = 178.0
CENTER_FILTER_WAVELENGTH = 679.0
RADIANCE_OFFSET = 4.10883
RADIANCE_SCALING_FACTOR = 0.0138796
REFLECTANCE_SCALING_FACTOR = 0.000329706
MEX:REFLECTANCE_OFFSET = 0.0976044
/* IMAGE OBJECT DEFINITIONS */
OBJECT = IMAGE
  INTERCHANGE_FORMAT = BINARY
  LINES = 34726
  LINE_SAMPLES = 3901
  SAMPLE_TYPE = UNSIGNED_INTEGER
  SAMPLE_BITS = 8
  BANDS = 1
  BAND_STORAGE_TYPE = BAND_SEQUENTIAL
  MAXIMUM = 255
  MEAN = 141.574
  MINIMUM = 1
  STANDARD_DEVIATION = 26.0021
END_OBJECT = IMAGE
/* MAP OBJECT DEFINITIONS */
OBJECT = IMAGE_MAP_PROJECTION
  ^DATA_SET_MAP_PROJECTION_CATALOG= "DSMAP.CAT"
  A_AXIS_RADIUS = 3396.0
  B_AXIS_RADIUS = 3396.0
  C_AXIS_RADIUS = 3396.0
  CENTER_LATITUDE = 0.0
  CENTER_LONGITUDE = 87.0
  COORDINATE_SYSTEM_NAME = PLANETOGRAPHIC
  COORDINATE_SYSTEM_TYPE = "BODY-FIXED ROTATING"
  EASTERNMOST_LONGITUDE = 87.3249
  FIRST_STANDARD_PARALLEL = "N/A"
  LINE_FIRST_PIXEL = 1
  LINE_LAST_PIXEL = 34726
  LINE_PROJECTION_OFFSET = 45939.75
  MAP_PROJECTION_ROTATION = 0.0
  MAP_PROJECTION_TYPE = SINUSOIDAL
  MAP_RESOLUTION = 2370.85521546667
  MAP_SCALE = 0.025
  MAXIMUM_LATITUDE = 19.3899
  MINIMUM_LATITUDE = 4.75071
  POSITIVE_LONGITUDE_DIRECTION = EAST
  REFERENCE_LATITUDE = "N/A"
  REFERENCE_LONGITUDE = "N/A"
  SAMPLE_FIRST_PIXEL = 1
  SAMPLE_LAST_PIXEL = 3901
  SAMPLE_PROJECTION_OFFSET = 3285.75
  SECOND_STANDARD_PARALLEL = "N/A"
  WESTERNMOST_LONGITUDE = 85.54600000000001
END_OBJECT = IMAGE_MAP_PROJECTION
END
