PDS_VERSION_ID = PDS3
/* FILE DATA ELEMENTS */
RECORD_TYPE = UNDEFINED
/* POINTERS TO DATA OBJECTS */
^IMAGE = ("H9419_0000_S24.TIF")
/* IDENTIFICATION DATA ELEMENTS */
DATA_SET_ID = "MEX-M-HRSC-4-REFDR-MAPPROJECT-EXT3-V4.0"
DATA_SET_NAME = "MARS EXPRESS HRSC MAP PROJECTED REFDR EXTENSION3 V4.0"
DETECTOR_ID = MEX_HRSC_S2
EVENT_TYPE = "MARS-REGIONAL-MAPPING-Vo-Te-Pf"
INSTRUMENT_HOST_ID = MEX
INSTRUMENT_HOST_NAME = "MARS EXPRESS"
INSTRUMENT_ID = HRSC
INSTRUMENT_NAME = "HIGH RESOLUTION STEREO CAMERA"
MISSION_NAME = "MARS EXPRESS"
MISSION_PHASE_NAME = ME_Phase_23
PROCESSING_LEVEL_ID = 4
PRODUCT_CREATION_TIME = 2023-02-04T05:05:37.000Z
PRODUCT_ID = "H9419_0000_S24.TIF"
RELEASE_ID = 0006
REVISION_ID = 0000
/* QUALITY DATA ELEMENTS */
DATA_QUALITY_ID = 1
DATA_QUALITY_DESC = "Data calculated based on original SPICE kernels"
/* TIME DATA ELEMENTS */
SPACECRAFT_CLOCK_START_COUNT = "1/0253862648.08264"
SPACECRAFT_CLOCK_STOP_COUNT = "1/0253862955.24623"
START_TIME = 2011-05-19T05:25:20.746Z
STOP_TIME = 2011-05-19T05:29:16.376Z
/* ORBITAL DATA ELEMENTS */
ASCENDING_NODE_LONGITUDE = 37.4
MAXIMUM_RESOLUTION = 0.0337
FOOTPRINT_POINT_LATITUDE = (16.7174,16.7193,16.7207,16.725,16.7251 ,16.7627,16.5023,16.2423,15.9826,15.723 ,15.4646,14.8193,14.3049,13.7926, 13.2741,12.8823,12.4907,12.0972,11.8312 ,11.4329,11.0358,10.7651,10.4949, 10.2254,9.95594,9.54427,9.26956,8.99569 ,8.71866,8.4401,8.16176,7.88276,7.59943 ,7.31686,7.03462,6.74654,6.46079, 6.17404,5.88303,5.59274,5.30226,5.00711 ,4.56411,4.26533,3.96339,3.51301,3.2102 ,3.05807,3.01577,3.0114,3.00628,2.99787 ,2.9957,2.99124,2.9911,2.99175,3.44761, 3.75123,4.05086,4.50052,4.94368,5.24027 ,5.53118,5.82297,6.11464,6.40146, 6.68921,6.97692,7.25957,7.54282,7.96674 ,8.24436,8.52398,8.94192,9.21589, 9.49053,9.9036,10.3082,10.5785,10.8492, 11.1181,11.3831,11.6488,11.9149,12.1815 ,12.4433,12.7038,12.9651,13.2269,13.489 ,13.8743,14.3882,14.9034,15.2909, 15.6805,16.0685,16.3276,16.5874,16.7179 ,16.7174)
FOOTPRINT_POINT_LONGITUDE = (189.527,189.097,188.819,188.112, 188.098,188.081,188.079,188.076,188.073 ,188.07,188.066,188.058,188.05,188.042, 188.034,188.027,188.02,188.013,188.008, 188.0,187.992,187.986,187.98,187.974, 187.968,187.959,187.952,187.946,187.939 ,187.932,187.925,187.918,187.91,187.903 ,187.895,187.887,187.879,187.87,187.862 ,187.853,187.844,187.835,187.82,187.811 ,187.802,187.786,187.775,187.77,187.769 ,188.073,188.36,188.807,189.112,189.596 ,189.614,189.621,189.616,189.613,189.61 ,189.606,189.602,189.599,189.597, 189.594,189.592,189.59,189.588,189.585, 189.583,189.581,189.579,189.576,189.575 ,189.572,189.571,189.569,189.567, 189.565,189.563,189.562,189.56,189.559, 189.558,189.557,189.555,189.554,189.553 ,189.552,189.551,189.55,189.548,189.547 ,189.545,189.544,189.543,189.541,189.54 ,189.539,189.539,189.527)
ORBIT_NUMBER = 9419
ORBITAL_ECCENTRICITY = 0.576
ORBITAL_INCLINATION = 86.87
ORBITAL_SEMIMAJOR_AXIS = 8831.51
PERIAPSIS_ALTITUDE = 356.16
PERIAPSIS_ARGUMENT_ANGLE = 152.13
PERIAPSIS_TIME = 2011-05-19T05:21:52.000Z
SPACECRAFT_ORIENTATION = (0.0,-1.0,0.0)
^MEX_ORIENTATION_DESC = "MEX_ORIENTATION_DESC.TXT"
SPACECRAFT_POINTING_MODE = NADIR
^MEX_POINTING_DESC = "MEX_POINTING_DESC.TXT"
RIGHT_ASCENSION = -1e+32
DECLINATION = -1e+32
OFFSET_ANGLE = -1e+32
SPACECRAFT_SOLAR_DISTANCE = 2.11753e+08
TARGET_NAME = MARS
/* CAMERA DATA ELEMENTS */
DETECTOR_TEMPERATURE = 18.9822
FOCAL_PLANE_TEMPERATURE = 9.8067
INST_CMPRS_NAME = "DISCRETE COSINE TRANSFORMATION (DCT)"
INST_CMPRS_RATIO = 9.42671
INST_CMPRS_QUALITY = 0
INST_CMPRS_QUANTZ_TBL_ID = 0
INSTRUMENT_TEMPERATURE = 11.8457
LENS_TEMPERATURE = 10.2145
MACROPIXEL_SIZE = 2
MISSING_FRAMES = 0
PIXEL_SUBSAMPLING_FLAG = N
SIGNAL_CHAIN_ID = 1
/* RADIOMETRIC DATA ELEMENTS */
BANDWIDTH = 178.0
CENTER_FILTER_WAVELENGTH = 679.0
RADIANCE_OFFSET = 4.67837
RADIANCE_SCALING_FACTOR = 0.0185061
REFLECTANCE_SCALING_FACTOR = 0.000439443
MEX:REFLECTANCE_OFFSET = 0.111092
/* IMAGE OBJECT DEFINITIONS */
OBJECT = IMAGE
  INTERCHANGE_FORMAT = BINARY
  LINES = 32674
  LINE_SAMPLES = 4049
  SAMPLE_TYPE = UNSIGNED_INTEGER
  SAMPLE_BITS = 8
  BANDS = 1
  BAND_STORAGE_TYPE = BAND_SEQUENTIAL
  MAXIMUM = 255
  MEAN = 121.778
  MINIMUM = 1
  STANDARD_DEVIATION = 29.3375
END_OBJECT = IMAGE
/* MAP OBJECT DEFINITIONS */
OBJECT = IMAGE_MAP_PROJECTION
  ^DATA_SET_MAP_PROJECTION_CATALOG= "DSMAP.CAT"
  A_AXIS_RADIUS = 3396.0
  B_AXIS_RADIUS = 3396.0
  C_AXIS_RADIUS = 3396.0
  CENTER_LATITUDE = 0.0
  CENTER_LONGITUDE = 189.0
  COORDINATE_SYSTEM_NAME = PLANETOGRAPHIC
  COORDINATE_SYSTEM_TYPE = "BODY-FIXED ROTATING"
  EASTERNMOST_LONGITUDE = 189.621
  FIRST_STANDARD_PARALLEL = "N/A"
  LINE_FIRST_PIXEL = 1
  LINE_LAST_PIXEL = 32674
  LINE_PROJECTION_OFFSET = 39684.25
  MAP_PROJECTION_ROTATION = 0.0
  MAP_PROJECTION_TYPE = SINUSOIDAL
  MAP_RESOLUTION = 2370.85521546667
  MAP_SCALE = 0.025
  MAXIMUM_LATITUDE = 16.7627
  MINIMUM_LATITUDE = 2.9911
  POSITIVE_LONGITUDE_DIRECTION = EAST
  REFERENCE_LATITUDE = "N/A"
  REFERENCE_LONGITUDE = "N/A"
  SAMPLE_FIRST_PIXEL = 1
  SAMPLE_LAST_PIXEL = 4049
  SAMPLE_PROJECTION_OFFSET = 2748.75
  SECOND_STANDARD_PARALLEL = "N/A"
  WESTERNMOST_LONGITUDE = 187.769
END_OBJECT = IMAGE_MAP_PROJECTION
END
