PDS_VERSION_ID = PDS3
/* FILE DATA ELEMENTS */
RECORD_TYPE = UNDEFINED
/* POINTERS TO DATA OBJECTS */
^IMAGE = ("H9419_0000_ND4.TIF")
/* IDENTIFICATION DATA ELEMENTS */
DATA_SET_ID = "MEX-M-HRSC-4-REFDR-MAPPROJECT-EXT3-V4.0"
DATA_SET_NAME = "MARS EXPRESS HRSC MAP PROJECTED REFDR EXTENSION3 V4.0"
DETECTOR_ID = MEX_HRSC_NADIR
EVENT_TYPE = "MARS-REGIONAL-MAPPING-Vo-Te-Pf"
INSTRUMENT_HOST_ID = MEX
INSTRUMENT_HOST_NAME = "MARS EXPRESS"
INSTRUMENT_ID = HRSC
INSTRUMENT_NAME = "HIGH RESOLUTION STEREO CAMERA"
MISSION_NAME = "MARS EXPRESS"
MISSION_PHASE_NAME = ME_Phase_23
PROCESSING_LEVEL_ID = 4
PRODUCT_CREATION_TIME = 2023-02-04T05:05:37.000Z
PRODUCT_ID = "H9419_0000_ND4.TIF"
RELEASE_ID = 0006
REVISION_ID = 0000
/* QUALITY DATA ELEMENTS */
DATA_QUALITY_ID = 1
DATA_QUALITY_DESC = "Data calculated based on original SPICE kernels"
/* TIME DATA ELEMENTS */
SPACECRAFT_CLOCK_START_COUNT = "1/0253862648.08264"
SPACECRAFT_CLOCK_STOP_COUNT = "1/0253862955.24623"
START_TIME = 2011-05-19T05:24:44.721Z
STOP_TIME = 2011-05-19T05:28:25.689Z
/* ORBITAL DATA ELEMENTS */
ASCENDING_NODE_LONGITUDE = 37.4
MAXIMUM_RESOLUTION = 0.0153
FOOTPRINT_POINT_LATITUDE = (16.7332,16.7358,16.7374,16.738,16.738, 16.7383,16.3396,16.0739,15.8085,15.5432 ,15.2782,15.0133,14.7487,14.4842,14.22, 13.6922,13.2929,12.7666,12.2413,11.717, 11.1936,10.7928,10.5248,10.2572,9.85018 ,9.57867,9.30503,9.03171,8.7587,8.48601 ,8.20677,7.92776,7.64912,7.37084, 7.08732,6.8028,6.51873,6.235,5.94526, 5.51074,5.22156,4.77975,4.48481,4.1903, 3.88976,3.58938,3.13731,2.9843,2.97792, 2.97202,2.96756,2.9634,2.95744,2.95722, 2.95741,3.26316,3.5634,3.86413,4.16519, 4.46003,4.7553,5.19781,5.48734,5.92242, 6.21261,6.49667,6.78111,7.06593,7.34992 ,7.62853,7.90749,8.18682,8.46645,8.7395 ,9.01282,9.28645,9.5604,9.83235,10.2398 ,10.5078,10.776,11.1775,11.7014,12.2263 ,12.7522,13.279,13.6787,13.9428,14.2071 ,14.4716,14.7363,15.0013,15.2664, 15.5318,15.7973,16.063,16.3289,16.595, 16.7281,16.7332)
FOOTPRINT_POINT_LONGITUDE = (189.499,189.05,188.588,188.14,188.126, 188.108,188.105,188.102,188.1,188.097, 188.094,188.091,188.088,188.085,188.082 ,188.075,188.069,188.062,188.053, 188.045,188.036,188.029,188.024,188.019 ,188.011,188.006,188.0,187.994,187.989, 187.983,187.976,187.97,187.964,187.957, 187.951,187.944,187.936,187.93,187.923, 187.91,187.903,187.891,187.882,187.875, 187.866,187.857,187.843,187.839,187.839 ,188.344,188.715,189.051,189.523,189.54 ,189.548,189.547,189.545,189.543, 189.542,189.54,189.538,189.537,189.535, 189.534,189.532,189.531,189.53,189.529, 189.528,189.527,189.526,189.526,189.524 ,189.523,189.523,189.522,189.521, 189.521,189.519,189.519,189.518,189.517 ,189.516,189.515,189.514,189.514, 189.513,189.513,189.512,189.512,189.512 ,189.512,189.511,189.511,189.511, 189.511,189.51,189.51,189.51,189.499)
ORBIT_NUMBER = 9419
ORBITAL_ECCENTRICITY = 0.576
ORBITAL_INCLINATION = 86.87
ORBITAL_SEMIMAJOR_AXIS = 8831.51
PERIAPSIS_ALTITUDE = 356.16
PERIAPSIS_ARGUMENT_ANGLE = 152.13
PERIAPSIS_TIME = 2011-05-19T05:21:52.000Z
SPACECRAFT_ORIENTATION = (0.0,-1.0,0.0)
^MEX_ORIENTATION_DESC = "MEX_ORIENTATION_DESC.TXT"
SPACECRAFT_POINTING_MODE = NADIR
^MEX_POINTING_DESC = "MEX_POINTING_DESC.TXT"
RIGHT_ASCENSION = -1e+32
DECLINATION = -1e+32
OFFSET_ANGLE = -1e+32
SPACECRAFT_SOLAR_DISTANCE = 2.11753e+08
TARGET_NAME = MARS
/* CAMERA DATA ELEMENTS */
DETECTOR_TEMPERATURE = 18.7783
FOCAL_PLANE_TEMPERATURE = 9.8067
INST_CMPRS_NAME = "DISCRETE COSINE TRANSFORMATION (DCT)"
INST_CMPRS_RATIO = 6.64321
INST_CMPRS_QUALITY = 0
INST_CMPRS_QUANTZ_TBL_ID = 0
INSTRUMENT_TEMPERATURE = 11.8457
LENS_TEMPERATURE = 10.2145
MACROPIXEL_SIZE = 1
MISSING_FRAMES = 5
PIXEL_SUBSAMPLING_FLAG = N
SIGNAL_CHAIN_ID = 0
/* RADIOMETRIC DATA ELEMENTS */
BANDWIDTH = 177.0
CENTER_FILTER_WAVELENGTH = 677.5
RADIANCE_OFFSET = 4.01062
RADIANCE_SCALING_FACTOR = 0.0195407
REFLECTANCE_SCALING_FACTOR = 0.000465462
MEX:REFLECTANCE_OFFSET = 0.0955333
/* IMAGE OBJECT DEFINITIONS */
OBJECT = IMAGE
  INTERCHANGE_FORMAT = BINARY
  LINES = 65347
  LINE_SAMPLES = 8097
  SAMPLE_TYPE = UNSIGNED_INTEGER
  SAMPLE_BITS = 8
  BANDS = 1
  BAND_STORAGE_TYPE = BAND_SEQUENTIAL
  MAXIMUM = 255
  MEAN = 117.478
  MINIMUM = 1
  STANDARD_DEVIATION = 28.2463
END_OBJECT = IMAGE
/* MAP OBJECT DEFINITIONS */
OBJECT = IMAGE_MAP_PROJECTION
  ^DATA_SET_MAP_PROJECTION_CATALOG= "DSMAP.CAT"
  A_AXIS_RADIUS = 3396.0
  B_AXIS_RADIUS = 3396.0
  C_AXIS_RADIUS = 3396.0
  CENTER_LATITUDE = 0.0
  CENTER_LONGITUDE = 189.0
  COORDINATE_SYSTEM_NAME = PLANETOGRAPHIC
  COORDINATE_SYSTEM_TYPE = "BODY-FIXED ROTATING"
  EASTERNMOST_LONGITUDE = 189.548
  FIRST_STANDARD_PARALLEL = "N/A"
  LINE_FIRST_PIXEL = 1
  LINE_LAST_PIXEL = 65347
  LINE_PROJECTION_OFFSET = 79369.0
  MAP_PROJECTION_ROTATION = 0.0
  MAP_PROJECTION_TYPE = SINUSOIDAL
  MAP_RESOLUTION = 4741.71043093333
  MAP_SCALE = 0.0125
  MAXIMUM_LATITUDE = 16.7383
  MINIMUM_LATITUDE = 2.95722
  POSITIVE_LONGITUDE_DIRECTION = EAST
  REFERENCE_LATITUDE = "N/A"
  REFERENCE_LONGITUDE = "N/A"
  SAMPLE_FIRST_PIXEL = 1
  SAMPLE_LAST_PIXEL = 8097
  SAMPLE_PROJECTION_OFFSET = 5498.0
  SECOND_STANDARD_PARALLEL = "N/A"
  WESTERNMOST_LONGITUDE = 187.839
END_OBJECT = IMAGE_MAP_PROJECTION
END
