PDS_VERSION_ID = PDS3
/* FILE DATA ELEMENTS */
RECORD_TYPE = UNDEFINED
/* POINTERS TO DATA OBJECTS */
^IMAGE = ("H9395_0000_ND4.TIF")
/* IDENTIFICATION DATA ELEMENTS */
DATA_SET_ID = "MEX-M-HRSC-4-REFDR-MAPPROJECT-EXT3-V4.0"
DATA_SET_NAME = "MARS EXPRESS HRSC MAP PROJECTED REFDR EXTENSION3 V4.0"
DETECTOR_ID = MEX_HRSC_NADIR
EVENT_TYPE = "MARS-LOCAL-CARTOGRAPHY-Tc-Ot-Ts"
INSTRUMENT_HOST_ID = MEX
INSTRUMENT_HOST_NAME = "MARS EXPRESS"
INSTRUMENT_ID = HRSC
INSTRUMENT_NAME = "HIGH RESOLUTION STEREO CAMERA"
MISSION_NAME = "MARS EXPRESS"
MISSION_PHASE_NAME = ME_Phase_23
PROCESSING_LEVEL_ID = 4
PRODUCT_CREATION_TIME = 2023-02-04T05:05:37.000Z
PRODUCT_ID = "H9395_0000_ND4.TIF"
RELEASE_ID = 0006
REVISION_ID = 0000
/* QUALITY DATA ELEMENTS */
DATA_QUALITY_ID = 1
DATA_QUALITY_DESC = "Data calculated based on original SPICE kernels"
/* TIME DATA ELEMENTS */
SPACECRAFT_CLOCK_START_COUNT = "1/0253258118.09131"
SPACECRAFT_CLOCK_STOP_COUNT = "1/0253258298.17452"
START_TIME = 2011-05-12T05:29:14.213Z
STOP_TIME = 2011-05-12T05:31:07.198Z
/* ORBITAL DATA ELEMENTS */
ASCENDING_NODE_LONGITUDE = 37.87
MAXIMUM_RESOLUTION = 0.0143
FOOTPRINT_POINT_LATITUDE = (29.4459,29.4441,29.4415,29.4393, 29.4355,29.4353,29.4357,29.1446,28.8534 ,28.5621,28.2708,27.9793,27.6877,27.396 ,27.1043,26.8125,26.5207,26.3747, 26.2287,26.0828,25.9368,25.7908,25.6448 ,25.4987,25.2797,25.1336,24.9876, 24.8415,24.6954,24.5494,24.4033,24.1842 ,24.0381,23.892,23.7459,23.5998,23.4537 ,23.3076,23.1615,23.0154,22.8694, 22.7233,22.5772,22.4311,22.212,22.139, 22.1248,22.1256,22.1268,22.1272,22.1273 ,22.1267,22.1267,22.1269,22.2731, 22.4193,22.5655,22.7118,22.858,23.0043, 23.1505,23.2968,23.443,23.5893,23.7355, 23.8818,24.1012,24.2474,24.3937,24.5399 ,24.6862,24.8324,24.9787,25.1249, 25.2711,25.4173,25.5635,25.7097,25.8559 ,26.0021,26.1483,26.2944,26.4406, 26.5867,26.7328,26.8789,27.025,27.1711, 27.3172,27.4632,27.6092,27.7552,27.9012 ,28.1931,28.485,28.7767,29.0683,29.3599 ,29.4328,29.4459)
FOOTPRINT_POINT_LONGITUDE = (124.302,123.837,123.47,123.23,122.891, 122.877,122.851,122.858,122.864,122.87, 122.876,122.881,122.887,122.892,122.897 ,122.901,122.906,122.908,122.91,122.912 ,122.914,122.916,122.918,122.92,122.923 ,122.925,122.927,122.928,122.93,122.931 ,122.933,122.935,122.937,122.938, 122.939,122.941,122.942,122.943,122.944 ,122.945,122.947,122.948,122.949,122.95 ,122.951,122.951,122.951,123.111, 123.456,123.682,123.868,124.281,124.294 ,124.3,124.301,124.301,124.301,124.302, 124.302,124.303,124.303,124.303,124.304 ,124.304,124.305,124.305,124.306, 124.306,124.307,124.307,124.307,124.308 ,124.308,124.309,124.309,124.31,124.31, 124.31,124.311,124.311,124.312,124.312, 124.313,124.313,124.313,124.314,124.314 ,124.315,124.315,124.315,124.316, 124.316,124.317,124.318,124.318,124.319 ,124.32,124.321,124.321,124.302)
ORBIT_NUMBER = 9395
ORBITAL_ECCENTRICITY = 0.577
ORBITAL_INCLINATION = 86.85
ORBITAL_SEMIMAJOR_AXIS = 8845.89
PERIAPSIS_ALTITUDE = 353.11
PERIAPSIS_ARGUMENT_ANGLE = 156.32
PERIAPSIS_TIME = 2011-05-12T05:30:43.000Z
SPACECRAFT_ORIENTATION = (0.0,-1.0,0.0)
^MEX_ORIENTATION_DESC = "MEX_ORIENTATION_DESC.TXT"
SPACECRAFT_POINTING_MODE = NADIR
^MEX_POINTING_DESC = "MEX_POINTING_DESC.TXT"
RIGHT_ASCENSION = -1e+32
DECLINATION = -1e+32
OFFSET_ANGLE = -1e+32
SPACECRAFT_SOLAR_DISTANCE = 2.10837e+08
TARGET_NAME = MARS
/* CAMERA DATA ELEMENTS */
DETECTOR_TEMPERATURE = 18.5744
FOCAL_PLANE_TEMPERATURE = 8.9911
INST_CMPRS_NAME = "DISCRETE COSINE TRANSFORMATION (DCT)"
INST_CMPRS_RATIO = 6.79374
INST_CMPRS_QUALITY = 0
INST_CMPRS_QUANTZ_TBL_ID = 0
INSTRUMENT_TEMPERATURE = 11.4379
LENS_TEMPERATURE = 9.3989
MACROPIXEL_SIZE = 1
MISSING_FRAMES = 0
PIXEL_SUBSAMPLING_FLAG = N
SIGNAL_CHAIN_ID = 0
/* RADIOMETRIC DATA ELEMENTS */
BANDWIDTH = 177.0
CENTER_FILTER_WAVELENGTH = 677.5
RADIANCE_OFFSET = 2.29052
RADIANCE_SCALING_FACTOR = 0.00742028
REFLECTANCE_SCALING_FACTOR = 0.000175226
MEX:REFLECTANCE_OFFSET = 0.0540894
/* IMAGE OBJECT DEFINITIONS */
OBJECT = IMAGE
  INTERCHANGE_FORMAT = BINARY
  LINES = 34719
  LINE_SAMPLES = 6072
  SAMPLE_TYPE = UNSIGNED_INTEGER
  SAMPLE_BITS = 8
  BANDS = 1
  BAND_STORAGE_TYPE = BAND_SEQUENTIAL
  MAXIMUM = 255
  MEAN = 82.2514
  MINIMUM = 1
  STANDARD_DEVIATION = 25.1263
END_OBJECT = IMAGE
/* MAP OBJECT DEFINITIONS */
OBJECT = IMAGE_MAP_PROJECTION
  ^DATA_SET_MAP_PROJECTION_CATALOG= "DSMAP.CAT"
  A_AXIS_RADIUS = 3396.0
  B_AXIS_RADIUS = 3396.0
  C_AXIS_RADIUS = 3396.0
  CENTER_LATITUDE = 0.0
  CENTER_LONGITUDE = 124.0
  COORDINATE_SYSTEM_NAME = PLANETOGRAPHIC
  COORDINATE_SYSTEM_TYPE = "BODY-FIXED ROTATING"
  EASTERNMOST_LONGITUDE = 124.321
  FIRST_STANDARD_PARALLEL = "N/A"
  LINE_FIRST_PIXEL = 1
  LINE_LAST_PIXEL = 34719
  LINE_PROJECTION_OFFSET = 139628.0
  MAP_PROJECTION_ROTATION = 0.0
  MAP_PROJECTION_TYPE = SINUSOIDAL
  MAP_RESOLUTION = 4741.71043093333
  MAP_SCALE = 0.0125
  MAXIMUM_LATITUDE = 29.4459
  MINIMUM_LATITUDE = 22.1248
  POSITIVE_LONGITUDE_DIRECTION = EAST
  REFERENCE_LATITUDE = "N/A"
  REFERENCE_LONGITUDE = "N/A"
  SAMPLE_FIRST_PIXEL = 1
  SAMPLE_LAST_PIXEL = 6072
  SAMPLE_PROJECTION_OFFSET = 4743.0
  SECOND_STANDARD_PARALLEL = "N/A"
  WESTERNMOST_LONGITUDE = 122.851
END_OBJECT = IMAGE_MAP_PROJECTION
END
