PDS_VERSION_ID = PDS3
/* FILE DATA ELEMENTS */
RECORD_TYPE = UNDEFINED
/* POINTERS TO DATA OBJECTS */
^IMAGE = ("H9394_0000_S24.TIF")
/* IDENTIFICATION DATA ELEMENTS */
DATA_SET_ID = "MEX-M-HRSC-4-REFDR-MAPPROJECT-EXT3-V4.0"
DATA_SET_NAME = "MARS EXPRESS HRSC MAP PROJECTED REFDR EXTENSION3 V4.0"
DETECTOR_ID = MEX_HRSC_S2
EVENT_TYPE = "MARS-REGIONAL-MAPPING-Vo-Eo"
INSTRUMENT_HOST_ID = MEX
INSTRUMENT_HOST_NAME = "MARS EXPRESS"
INSTRUMENT_ID = HRSC
INSTRUMENT_NAME = "HIGH RESOLUTION STEREO CAMERA"
MISSION_NAME = "MARS EXPRESS"
MISSION_PHASE_NAME = ME_Phase_23
PROCESSING_LEVEL_ID = 4
PRODUCT_CREATION_TIME = 2023-02-04T05:05:37.000Z
PRODUCT_ID = "H9394_0000_S24.TIF"
RELEASE_ID = 0006
REVISION_ID = 0000
/* QUALITY DATA ELEMENTS */
DATA_QUALITY_ID = 1
DATA_QUALITY_DESC = "Data calculated based on original SPICE kernels"
/* TIME DATA ELEMENTS */
SPACECRAFT_CLOCK_START_COUNT = "1/0253233325.07285"
SPACECRAFT_CLOCK_STOP_COUNT = "1/0253233546.08038"
START_TIME = 2011-05-11T22:36:49.553Z
STOP_TIME = 2011-05-11T22:39:07.029Z
/* ORBITAL DATA ELEMENTS */
ASCENDING_NODE_LONGITUDE = 37.9
MAXIMUM_RESOLUTION = 0.0388
FOOTPRINT_POINT_LATITUDE = (3.90575,3.90846,3.91078,3.91277, 3.91581,3.91921,3.92369,3.92394,3.91268 ,3.68843,3.39113,3.08819,2.9362,2.70811 ,2.40447,2.2505,2.09549,1.86374,1.70974 ,1.47852,1.32118,1.1646,1.00844, 0.852611,0.61845,0.46229,0.228713, 0.0727238,-0.0822591,-0.23701,-0.392672 ,-0.547313,-0.701666,-0.855671,-1.00993 ,-1.16407,-1.31733,-1.47004,-1.69928, -1.85229,-2.00486,-2.1569,-2.38483, -2.68845,-3.06609,-3.36849,-3.66832, -3.74304,-3.75252,-3.75757,-3.76346, -3.76766,-3.77185,-3.77456,-3.77727, -3.78074,-3.78357,-3.78368,-3.7832, -3.48223,-3.25621,-3.03004,-2.72742, -2.42384,-2.11953,-1.96707,-1.8144, -1.66139,-1.508,-1.35457,-1.20097, -1.04717,-0.892877,-0.661321,-0.429497, -0.196935,-0.0417326,0.112979,0.268166, 0.423814,0.579829,0.736175,0.893051, 1.05002,1.20681,1.36421,1.59682,1.75201 ,1.98399,2.13855,2.3702,2.67436,2.82682 ,2.97904,3.13163,3.35838,3.58257, 3.80688,3.88191,3.90575)
FOOTPRINT_POINT_LONGITUDE = (226.655,226.297,226.048,225.861, 225.612,225.363,225.067,225.051,225.049 ,225.043,225.034,225.025,225.021, 225.014,225.005,225.001,224.996,224.989 ,224.984,224.977,224.972,224.967, 224.961,224.956,224.948,224.943,224.935 ,224.93,224.925,224.92,224.915,224.909, 224.904,224.898,224.893,224.888,224.882 ,224.877,224.868,224.863,224.857, 224.851,224.843,224.832,224.817,224.806 ,224.794,224.791,224.791,224.997, 225.298,225.523,225.748,225.936,226.143 ,226.443,226.705,226.724,226.731, 226.727,226.724,226.721,226.717,226.713 ,226.71,226.708,226.706,226.704,226.702 ,226.701,226.699,226.697,226.696, 226.693,226.69,226.688,226.686,226.684, 226.683,226.681,226.679,226.678,226.676 ,226.675,226.673,226.672,226.67,226.668 ,226.666,226.665,226.663,226.661, 226.659,226.658,226.657,226.655,226.653 ,226.652,226.651,226.655)
ORBIT_NUMBER = 9394
ORBITAL_ECCENTRICITY = 0.577
ORBITAL_INCLINATION = 86.86
ORBITAL_SEMIMAJOR_AXIS = 8850.96
PERIAPSIS_ALTITUDE = 352.78
PERIAPSIS_ARGUMENT_ANGLE = 156.45
PERIAPSIS_TIME = 2011-05-11T22:30:59.000Z
SPACECRAFT_ORIENTATION = (0.0,-1.0,0.0)
^MEX_ORIENTATION_DESC = "MEX_ORIENTATION_DESC.TXT"
SPACECRAFT_POINTING_MODE = NADIR
^MEX_POINTING_DESC = "MEX_POINTING_DESC.TXT"
RIGHT_ASCENSION = -1e+32
DECLINATION = -1e+32
OFFSET_ANGLE = -1e+32
SPACECRAFT_SOLAR_DISTANCE = 2.10801e+08
TARGET_NAME = MARS
/* CAMERA DATA ELEMENTS */
DETECTOR_TEMPERATURE = 18.9822
FOCAL_PLANE_TEMPERATURE = 9.3989
INST_CMPRS_NAME = "DISCRETE COSINE TRANSFORMATION (DCT)"
INST_CMPRS_RATIO = 6.62388
INST_CMPRS_QUALITY = 0
INST_CMPRS_QUANTZ_TBL_ID = 0
INSTRUMENT_TEMPERATURE = 11.4379
LENS_TEMPERATURE = 9.6028
MACROPIXEL_SIZE = 2
MISSING_FRAMES = 0
PIXEL_SUBSAMPLING_FLAG = N
SIGNAL_CHAIN_ID = 1
/* RADIOMETRIC DATA ELEMENTS */
BANDWIDTH = 178.0
CENTER_FILTER_WAVELENGTH = 679.0
RADIANCE_OFFSET = 5.35102
RADIANCE_SCALING_FACTOR = 0.0141134
REFLECTANCE_SCALING_FACTOR = 0.000332129
MEX:REFLECTANCE_OFFSET = 0.125925
/* IMAGE OBJECT DEFINITIONS */
OBJECT = IMAGE
  INTERCHANGE_FORMAT = BINARY
  LINES = 18231
  LINE_SAMPLES = 4201
  SAMPLE_TYPE = UNSIGNED_INTEGER
  SAMPLE_BITS = 8
  BANDS = 1
  BAND_STORAGE_TYPE = BAND_SEQUENTIAL
  MAXIMUM = 255
  MEAN = 136.333
  MINIMUM = 1
  STANDARD_DEVIATION = 28.296
END_OBJECT = IMAGE
/* MAP OBJECT DEFINITIONS */
OBJECT = IMAGE_MAP_PROJECTION
  ^DATA_SET_MAP_PROJECTION_CATALOG= "DSMAP.CAT"
  A_AXIS_RADIUS = 3396.0
  B_AXIS_RADIUS = 3396.0
  C_AXIS_RADIUS = 3396.0
  CENTER_LATITUDE = 0.0
  CENTER_LONGITUDE = 226.0
  COORDINATE_SYSTEM_NAME = PLANETOGRAPHIC
  COORDINATE_SYSTEM_TYPE = "BODY-FIXED ROTATING"
  EASTERNMOST_LONGITUDE = 226.731
  FIRST_STANDARD_PARALLEL = "N/A"
  LINE_FIRST_PIXEL = 1
  LINE_LAST_PIXEL = 18231
  LINE_PROJECTION_OFFSET = 9268.75
  MAP_PROJECTION_ROTATION = 0.0
  MAP_PROJECTION_TYPE = SINUSOIDAL
  MAP_RESOLUTION = 2370.85521546667
  MAP_SCALE = 0.025
  MAXIMUM_LATITUDE = 3.92394
  MINIMUM_LATITUDE = -3.78368
  POSITIVE_LONGITUDE_DIRECTION = EAST
  REFERENCE_LATITUDE = "N/A"
  REFERENCE_LONGITUDE = "N/A"
  SAMPLE_FIRST_PIXEL = 1
  SAMPLE_LAST_PIXEL = 4201
  SAMPLE_PROJECTION_OFFSET = 2664.25
  SECOND_STANDARD_PARALLEL = "N/A"
  WESTERNMOST_LONGITUDE = 224.791
END_OBJECT = IMAGE_MAP_PROJECTION
END
