PDS_VERSION_ID = PDS3
/* FILE DATA ELEMENTS */
RECORD_TYPE = UNDEFINED
/* POINTERS TO DATA OBJECTS */
^IMAGE = ("H9394_0000_ND4.TIF")
/* IDENTIFICATION DATA ELEMENTS */
DATA_SET_ID = "MEX-M-HRSC-4-REFDR-MAPPROJECT-EXT3-V4.0"
DATA_SET_NAME = "MARS EXPRESS HRSC MAP PROJECTED REFDR EXTENSION3 V4.0"
DETECTOR_ID = MEX_HRSC_NADIR
EVENT_TYPE = "MARS-REGIONAL-MAPPING-Vo-Eo"
INSTRUMENT_HOST_ID = MEX
INSTRUMENT_HOST_NAME = "MARS EXPRESS"
INSTRUMENT_ID = HRSC
INSTRUMENT_NAME = "HIGH RESOLUTION STEREO CAMERA"
MISSION_NAME = "MARS EXPRESS"
MISSION_PHASE_NAME = ME_Phase_23
PROCESSING_LEVEL_ID = 4
PRODUCT_CREATION_TIME = 2023-02-04T05:05:37.000Z
PRODUCT_ID = "H9394_0000_ND4.TIF"
RELEASE_ID = 0006
REVISION_ID = 0000
/* QUALITY DATA ELEMENTS */
DATA_QUALITY_ID = 1
DATA_QUALITY_DESC = "Data calculated based on original SPICE kernels"
/* TIME DATA ELEMENTS */
SPACECRAFT_CLOCK_START_COUNT = "1/0253233325.07285"
SPACECRAFT_CLOCK_STOP_COUNT = "1/0253233546.08038"
START_TIME = 2011-05-11T22:36:06.566Z
STOP_TIME = 2011-05-11T22:38:12.545Z
/* ORBITAL DATA ELEMENTS */
ASCENDING_NODE_LONGITUDE = 37.9
MAXIMUM_RESOLUTION = 0.0172
FOOTPRINT_POINT_LATITUDE = (3.89474,3.89996,3.90224,3.90505, 3.90805,3.90972,3.90986,3.90945,3.54713 ,3.25555,2.96435,2.67354,2.37632,1.9306 ,1.63401,1.33215,1.18063,1.02925, 0.877971,0.575765,0.421769,0.267374, 0.113086,-0.041062,-0.195075,-0.348982, -0.504866,-0.662072,-0.819146,-0.976084 ,-1.1329,-1.28956,-1.44849,-1.60842, -1.76821,-1.92786,-2.08737,-2.24672, -2.40592,-2.56498,-2.7239,-2.88265, -3.04126,-3.19973,-3.35805,-3.51621, -3.67421,-3.75315,-3.75715,-3.75955, -3.76261,-3.76696,-3.76942,-3.77292, -3.77571,-3.77944,-3.77964,-3.77946, -3.62138,-3.46314,-3.30476,-3.14623, -2.98754,-2.82871,-2.66972,-2.51058, -2.35129,-2.19186,-2.03228,-1.87256, -1.71268,-1.55266,-1.31343,-1.15661, -0.99966,-0.842572,-0.685348,-0.527994, -0.371879,-0.217837,-0.0636691, 0.0906144,0.245031,0.399574,0.553792, 0.704985,0.856296,1.00773,1.15927, 1.31094,1.61315,1.91003,2.35616,2.65375 ,2.94483,3.23631,3.52817,3.81963, 3.89093,3.89474)
FOOTPRINT_POINT_LONGITUDE = (226.606,226.115,225.891,225.609, 225.296,225.117,225.102,225.099,225.089 ,225.082,225.074,225.067,225.059, 225.047,225.039,225.031,225.027,225.022 ,225.018,225.009,225.005,225.0,224.996, 224.991,224.987,224.982,224.978,224.973 ,224.968,224.963,224.959,224.954, 224.949,224.944,224.938,224.933,224.928 ,224.923,224.918,224.913,224.908, 224.903,224.897,224.892,224.887,224.882 ,224.877,224.874,224.874,225.049, 225.277,225.609,225.801,226.081,226.309 ,226.623,226.641,226.649,226.648, 226.647,226.645,226.644,226.643,226.642 ,226.64,226.639,226.638,226.637,226.636 ,226.634,226.633,226.632,226.631, 226.629,226.628,226.627,226.626,226.625 ,226.624,226.623,226.622,226.621,226.62 ,226.619,226.618,226.617,226.616, 226.615,226.615,226.614,226.612,226.611 ,226.609,226.607,226.606,226.605, 226.603,226.602,226.602,226.606)
ORBIT_NUMBER = 9394
ORBITAL_ECCENTRICITY = 0.577
ORBITAL_INCLINATION = 86.86
ORBITAL_SEMIMAJOR_AXIS = 8850.96
PERIAPSIS_ALTITUDE = 352.78
PERIAPSIS_ARGUMENT_ANGLE = 156.45
PERIAPSIS_TIME = 2011-05-11T22:30:59.000Z
SPACECRAFT_ORIENTATION = (0.0,-1.0,0.0)
^MEX_ORIENTATION_DESC = "MEX_ORIENTATION_DESC.TXT"
SPACECRAFT_POINTING_MODE = NADIR
^MEX_POINTING_DESC = "MEX_POINTING_DESC.TXT"
RIGHT_ASCENSION = -1e+32
DECLINATION = -1e+32
OFFSET_ANGLE = -1e+32
SPACECRAFT_SOLAR_DISTANCE = 2.10801e+08
TARGET_NAME = MARS
/* CAMERA DATA ELEMENTS */
DETECTOR_TEMPERATURE = 18.5744
FOCAL_PLANE_TEMPERATURE = 9.3989
INST_CMPRS_NAME = "DISCRETE COSINE TRANSFORMATION (DCT)"
INST_CMPRS_RATIO = 5.25959
INST_CMPRS_QUALITY = 0
INST_CMPRS_QUANTZ_TBL_ID = 0
INSTRUMENT_TEMPERATURE = 11.4379
LENS_TEMPERATURE = 9.6028
MACROPIXEL_SIZE = 1
MISSING_FRAMES = 0
PIXEL_SUBSAMPLING_FLAG = N
SIGNAL_CHAIN_ID = 0
/* RADIOMETRIC DATA ELEMENTS */
BANDWIDTH = 177.0
CENTER_FILTER_WAVELENGTH = 677.5
RADIANCE_OFFSET = 4.43794
RADIANCE_SCALING_FACTOR = 0.0157012
REFLECTANCE_SCALING_FACTOR = 0.000370649
MEX:REFLECTANCE_OFFSET = 0.104764
/* IMAGE OBJECT DEFINITIONS */
OBJECT = IMAGE
  INTERCHANGE_FORMAT = BINARY
  LINES = 36461
  LINE_SAMPLES = 8402
  SAMPLE_TYPE = UNSIGNED_INTEGER
  SAMPLE_BITS = 8
  BANDS = 1
  BAND_STORAGE_TYPE = BAND_SEQUENTIAL
  MAXIMUM = 255
  MEAN = 127.882
  MINIMUM = 1
  STANDARD_DEVIATION = 24.4989
END_OBJECT = IMAGE
/* MAP OBJECT DEFINITIONS */
OBJECT = IMAGE_MAP_PROJECTION
  ^DATA_SET_MAP_PROJECTION_CATALOG= "DSMAP.CAT"
  A_AXIS_RADIUS = 3396.0
  B_AXIS_RADIUS = 3396.0
  C_AXIS_RADIUS = 3396.0
  CENTER_LATITUDE = 0.0
  CENTER_LONGITUDE = 226.0
  COORDINATE_SYSTEM_NAME = PLANETOGRAPHIC
  COORDINATE_SYSTEM_TYPE = "BODY-FIXED ROTATING"
  EASTERNMOST_LONGITUDE = 226.649
  FIRST_STANDARD_PARALLEL = "N/A"
  LINE_FIRST_PIXEL = 1
  LINE_LAST_PIXEL = 36461
  LINE_PROJECTION_OFFSET = 18538.0
  MAP_PROJECTION_ROTATION = 0.0
  MAP_PROJECTION_TYPE = SINUSOIDAL
  MAP_RESOLUTION = 4741.71043093333
  MAP_SCALE = 0.0125
  MAXIMUM_LATITUDE = 3.90986
  MINIMUM_LATITUDE = -3.77964
  POSITIVE_LONGITUDE_DIRECTION = EAST
  REFERENCE_LATITUDE = "N/A"
  REFERENCE_LONGITUDE = "N/A"
  SAMPLE_FIRST_PIXEL = 1
  SAMPLE_LAST_PIXEL = 8402
  SAMPLE_PROJECTION_OFFSET = 5329.0
  SECOND_STANDARD_PARALLEL = "N/A"
  WESTERNMOST_LONGITUDE = 224.874
END_OBJECT = IMAGE_MAP_PROJECTION
END
