PDS_VERSION_ID = PDS3
/* FILE DATA ELEMENTS */
RECORD_TYPE = UNDEFINED
/* POINTERS TO DATA OBJECTS */
^IMAGE = ("H9393_0000_S14.TIF")
/* IDENTIFICATION DATA ELEMENTS */
DATA_SET_ID = "MEX-M-HRSC-4-REFDR-MAPPROJECT-EXT3-V4.0"
DATA_SET_NAME = "MARS EXPRESS HRSC MAP PROJECTED REFDR EXTENSION3 V4.0"
DETECTOR_ID = MEX_HRSC_S1
EVENT_TYPE = "MARS-LOCAL-CARTOGRAPHY-Fl-Ot"
INSTRUMENT_HOST_ID = MEX
INSTRUMENT_HOST_NAME = "MARS EXPRESS"
INSTRUMENT_ID = HRSC
INSTRUMENT_NAME = "HIGH RESOLUTION STEREO CAMERA"
MISSION_NAME = "MARS EXPRESS"
MISSION_PHASE_NAME = ME_Phase_23
PROCESSING_LEVEL_ID = 4
PRODUCT_CREATION_TIME = 2023-02-04T05:05:37.000Z
PRODUCT_ID = "H9393_0000_S14.TIF"
RELEASE_ID = 0006
REVISION_ID = 0000
/* QUALITY DATA ELEMENTS */
DATA_QUALITY_ID = 1
DATA_QUALITY_DESC = "Data calculated based on original SPICE kernels"
/* TIME DATA ELEMENTS */
SPACECRAFT_CLOCK_START_COUNT = "1/0253207845.07301"
SPACECRAFT_CLOCK_STOP_COUNT = "1/0253208054.06537"
START_TIME = 2011-05-11T15:30:48.058Z
STOP_TIME = 2011-05-11T15:33:07.309Z
/* ORBITAL DATA ELEMENTS */
ASCENDING_NODE_LONGITUDE = 37.91
MAXIMUM_RESOLUTION = 0.0304
FOOTPRINT_POINT_LATITUDE = (23.7096,23.6979,23.6857,23.6729, 23.6594,23.6452,23.6245,23.6235,23.5728 ,23.2994,22.8558,22.5057,22.3255, 21.9674,21.6108,21.4296,21.1602,20.892, 20.7106,20.352,20.1721,19.9015,19.7214, 19.5413,19.271,19.0908,18.9108,18.7306, 18.5503,18.3698,18.1891,18.0086,17.8279 ,17.6469,17.4662,17.2855,17.1048, 16.9238,16.7428,16.3836,16.112,15.9306, 15.7494,15.4775,15.2962,15.1118,14.6618 ,14.5716,14.5482,14.5556,14.5856, 14.6007,14.6119,14.6222,14.6228,14.6235 ,14.8055,14.9868,15.168,15.3478,15.5285 ,15.7092,15.891,16.0725,16.2537,16.4352 ,16.6165,16.8885,17.0695,17.3428, 17.5249,17.7044,17.9753,18.2466,18.4275 ,18.6084,18.7893,19.0601,19.2407, 19.4212,19.6018,19.7822,19.9623,20.1424 ,20.3223,20.5023,20.6821,20.8619, 21.0417,21.2215,21.4013,21.5806,21.7601 ,22.0292,22.3877,22.7459,23.1931, 23.5505,23.6398,23.7096)
FOOTPRINT_POINT_LONGITUDE = (327.898,327.691,327.481,327.269, 327.055,326.838,326.535,326.521,326.477 ,326.478,326.487,326.499,326.501, 326.506,326.513,326.514,326.517,326.521 ,326.522,326.527,326.529,326.531, 326.532,326.534,326.536,326.538,326.54, 326.541,326.543,326.544,326.545,326.546 ,326.547,326.548,326.549,326.55,326.551 ,326.551,326.552,326.555,326.556, 326.556,326.556,326.557,326.557,326.555 ,326.557,326.557,326.557,326.77,327.186 ,327.473,327.692,327.896,327.909, 327.913,327.913,327.913,327.912,327.912 ,327.911,327.911,327.911,327.91,327.91, 327.91,327.909,327.909,327.908,327.908, 327.908,327.907,327.907,327.906,327.906 ,327.905,327.905,327.904,327.904, 327.903,327.903,327.903,327.902,327.902 ,327.901,327.901,327.9,327.9,327.899, 327.899,327.898,327.898,327.897,327.896 ,327.895,327.894,327.893,327.892, 327.892,327.898)
ORBIT_NUMBER = 9393
ORBITAL_ECCENTRICITY = 0.576
ORBITAL_INCLINATION = 86.87
ORBITAL_SEMIMAJOR_AXIS = 8838.37
PERIAPSIS_ALTITUDE = 353.19
PERIAPSIS_ARGUMENT_ANGLE = 156.65
PERIAPSIS_TIME = 2011-05-11T15:31:25.000Z
SPACECRAFT_ORIENTATION = (0.0,-1.0,0.0)
^MEX_ORIENTATION_DESC = "MEX_ORIENTATION_DESC.TXT"
SPACECRAFT_POINTING_MODE = ACROSSTRACK
^MEX_POINTING_DESC = "MEX_POINTING_DESC.TXT"
RIGHT_ASCENSION = -1e+32
DECLINATION = -1e+32
OFFSET_ANGLE = -0.9
SPACECRAFT_SOLAR_DISTANCE = 2.10764e+08
TARGET_NAME = MARS
/* CAMERA DATA ELEMENTS */
DETECTOR_TEMPERATURE = 17.351
FOCAL_PLANE_TEMPERATURE = 8.9911
INST_CMPRS_NAME = "DISCRETE COSINE TRANSFORMATION (DCT)"
INST_CMPRS_RATIO = 7.8227
INST_CMPRS_QUALITY = 0
INST_CMPRS_QUANTZ_TBL_ID = 0
INSTRUMENT_TEMPERATURE = 11.234
LENS_TEMPERATURE = 9.195
MACROPIXEL_SIZE = 2
MISSING_FRAMES = 0
PIXEL_SUBSAMPLING_FLAG = N
SIGNAL_CHAIN_ID = 1
/* RADIOMETRIC DATA ELEMENTS */
BANDWIDTH = 180.0
CENTER_FILTER_WAVELENGTH = 677.0
RADIANCE_OFFSET = 2.98368
RADIANCE_SCALING_FACTOR = 0.0141709
REFLECTANCE_SCALING_FACTOR = 0.000328422
MEX:REFLECTANCE_OFFSET = 0.0691494
/* IMAGE OBJECT DEFINITIONS */
OBJECT = IMAGE
  INTERCHANGE_FORMAT = BINARY
  LINES = 21446
  LINE_SAMPLES = 3256
  SAMPLE_TYPE = UNSIGNED_INTEGER
  SAMPLE_BITS = 8
  BANDS = 1
  BAND_STORAGE_TYPE = BAND_SEQUENTIAL
  MAXIMUM = 255
  MEAN = 83.2155
  MINIMUM = 1
  STANDARD_DEVIATION = 39.1228
END_OBJECT = IMAGE
/* MAP OBJECT DEFINITIONS */
OBJECT = IMAGE_MAP_PROJECTION
  ^DATA_SET_MAP_PROJECTION_CATALOG= "DSMAP.CAT"
  A_AXIS_RADIUS = 3396.0
  B_AXIS_RADIUS = 3396.0
  C_AXIS_RADIUS = 3396.0
  CENTER_LATITUDE = 0.0
  CENTER_LONGITUDE = 327.0
  COORDINATE_SYSTEM_NAME = PLANETOGRAPHIC
  COORDINATE_SYSTEM_TYPE = "BODY-FIXED ROTATING"
  EASTERNMOST_LONGITUDE = 327.913
  FIRST_STANDARD_PARALLEL = "N/A"
  LINE_FIRST_PIXEL = 1
  LINE_LAST_PIXEL = 21446
  LINE_PROJECTION_OFFSET = 56069.25
  MAP_PROJECTION_ROTATION = 0.0
  MAP_PROJECTION_TYPE = SINUSOIDAL
  MAP_RESOLUTION = 2370.85521546667
  MAP_SCALE = 0.025
  MAXIMUM_LATITUDE = 23.7096
  MINIMUM_LATITUDE = 14.5482
  POSITIVE_LONGITUDE_DIRECTION = EAST
  REFERENCE_LATITUDE = "N/A"
  REFERENCE_LONGITUDE = "N/A"
  SAMPLE_FIRST_PIXEL = 1
  SAMPLE_LAST_PIXEL = 3256
  SAMPLE_PROJECTION_OFFSET = 1128.25
  SECOND_STANDARD_PARALLEL = "N/A"
  WESTERNMOST_LONGITUDE = 326.477
END_OBJECT = IMAGE_MAP_PROJECTION
END
