PDS_VERSION_ID = PDS3
/* FILE DATA ELEMENTS */
RECORD_TYPE = UNDEFINED
/* POINTERS TO DATA OBJECTS */
^IMAGE = ("H9393_0000_ND4.TIF")
/* IDENTIFICATION DATA ELEMENTS */
DATA_SET_ID = "MEX-M-HRSC-4-REFDR-MAPPROJECT-EXT3-V4.0"
DATA_SET_NAME = "MARS EXPRESS HRSC MAP PROJECTED REFDR EXTENSION3 V4.0"
DETECTOR_ID = MEX_HRSC_NADIR
EVENT_TYPE = "MARS-LOCAL-CARTOGRAPHY-Fl-Ot"
INSTRUMENT_HOST_ID = MEX
INSTRUMENT_HOST_NAME = "MARS EXPRESS"
INSTRUMENT_ID = HRSC
INSTRUMENT_NAME = "HIGH RESOLUTION STEREO CAMERA"
MISSION_NAME = "MARS EXPRESS"
MISSION_PHASE_NAME = ME_Phase_23
PROCESSING_LEVEL_ID = 4
PRODUCT_CREATION_TIME = 2023-02-04T05:05:37.000Z
PRODUCT_ID = "H9393_0000_ND4.TIF"
RELEASE_ID = 0006
REVISION_ID = 0000
/* QUALITY DATA ELEMENTS */
DATA_QUALITY_ID = 1
DATA_QUALITY_DESC = "Data calculated based on original SPICE kernels"
/* TIME DATA ELEMENTS */
SPACECRAFT_CLOCK_START_COUNT = "1/0253207845.07301"
SPACECRAFT_CLOCK_STOP_COUNT = "1/0253208054.06537"
START_TIME = 2011-05-11T15:31:20.414Z
STOP_TIME = 2011-05-11T15:33:40.408Z
/* ORBITAL DATA ELEMENTS */
ASCENDING_NODE_LONGITUDE = 37.91
MAXIMUM_RESOLUTION = 0.0143
FOOTPRINT_POINT_LATITUDE = (23.6487,23.6479,23.6467,23.6453, 23.6435,23.6415,23.6384,23.6382,23.6382 ,23.4582,23.188,23.0079,22.8278,22.5575 ,22.3774,22.1973,21.9272,21.7471,21.567 ,21.2969,21.1169,20.9368,20.7568, 20.5768,20.3069,20.1269,19.947,19.7671, 19.5872,19.4073,19.2275,19.0477,18.8679 ,18.6882,18.5085,18.3288,18.1492,17.79, 17.431,17.0721,16.7135,16.355,15.9967, 15.6386,15.2807,14.9232,14.7329,14.6262 ,14.6055,14.6058,14.6057,14.6052, 14.6046,14.6039,14.6038,14.604,14.8151, 15.1731,15.5315,15.8899,16.2486,16.6075 ,16.9666,17.3258,17.5055,17.6853, 17.8651,18.0449,18.2248,18.4047,18.5846 ,18.7646,18.9446,19.1246,19.3047, 19.4848,19.6649,19.845,20.0252,20.2054, 20.3856,20.5659,20.7461,20.9264,21.1067 ,21.287,21.4673,21.6477,21.828,22.0084, 22.1888,22.3692,22.5495,22.7299,22.9103 ,23.0907,23.2711,23.5417,23.6319, 23.6487)
FOOTPRINT_POINT_LONGITUDE = (327.897,327.687,327.475,327.261, 327.044,326.824,326.545,326.531,326.488 ,326.484,326.488,326.492,326.496, 326.505,326.507,326.509,326.512,326.515 ,326.518,326.52,326.522,326.526,326.525 ,326.527,326.53,326.531,326.533,326.534 ,326.536,326.537,326.538,326.54,326.541 ,326.542,326.543,326.544,326.545, 326.547,326.548,326.549,326.55,326.553, 326.552,326.553,326.552,326.548,326.552 ,326.552,326.552,326.899,327.133,327.47 ,327.683,327.907,327.921,327.927, 327.926,327.925,327.923,327.922,327.921 ,327.92,327.918,327.917,327.917,327.916 ,327.915,327.914,327.914,327.913, 327.912,327.912,327.911,327.91,327.91, 327.909,327.908,327.907,327.907,327.906 ,327.905,327.904,327.904,327.903, 327.902,327.901,327.9,327.9,327.899, 327.898,327.897,327.896,327.895,327.895 ,327.894,327.893,327.892,327.891,327.89 ,327.897)
ORBIT_NUMBER = 9393
ORBITAL_ECCENTRICITY = 0.576
ORBITAL_INCLINATION = 86.87
ORBITAL_SEMIMAJOR_AXIS = 8838.37
PERIAPSIS_ALTITUDE = 353.19
PERIAPSIS_ARGUMENT_ANGLE = 156.65
PERIAPSIS_TIME = 2011-05-11T15:31:25.000Z
SPACECRAFT_ORIENTATION = (0.0,-1.0,0.0)
^MEX_ORIENTATION_DESC = "MEX_ORIENTATION_DESC.TXT"
SPACECRAFT_POINTING_MODE = ACROSSTRACK
^MEX_POINTING_DESC = "MEX_POINTING_DESC.TXT"
RIGHT_ASCENSION = -1e+32
DECLINATION = -1e+32
OFFSET_ANGLE = -0.9
SPACECRAFT_SOLAR_DISTANCE = 2.10764e+08
TARGET_NAME = MARS
/* CAMERA DATA ELEMENTS */
DETECTOR_TEMPERATURE = 18.1666
FOCAL_PLANE_TEMPERATURE = 8.9911
INST_CMPRS_NAME = "DISCRETE COSINE TRANSFORMATION (DCT)"
INST_CMPRS_RATIO = 6.86837
INST_CMPRS_QUALITY = 0
INST_CMPRS_QUANTZ_TBL_ID = 0
INSTRUMENT_TEMPERATURE = 11.234
LENS_TEMPERATURE = 9.195
MACROPIXEL_SIZE = 1
MISSING_FRAMES = 0
PIXEL_SUBSAMPLING_FLAG = N
SIGNAL_CHAIN_ID = 0
/* RADIOMETRIC DATA ELEMENTS */
BANDWIDTH = 177.0
CENTER_FILTER_WAVELENGTH = 677.5
RADIANCE_OFFSET = 2.14163
RADIANCE_SCALING_FACTOR = 0.0134159
REFLECTANCE_SCALING_FACTOR = 0.00031659
MEX:REFLECTANCE_OFFSET = 0.0505386
/* IMAGE OBJECT DEFINITIONS */
OBJECT = IMAGE
  INTERCHANGE_FORMAT = BINARY
  LINES = 42892
  LINE_SAMPLES = 6512
  SAMPLE_TYPE = UNSIGNED_INTEGER
  SAMPLE_BITS = 8
  BANDS = 1
  BAND_STORAGE_TYPE = BAND_SEQUENTIAL
  MAXIMUM = 255
  MEAN = 80.3477
  MINIMUM = 1
  STANDARD_DEVIATION = 38.1949
END_OBJECT = IMAGE
/* MAP OBJECT DEFINITIONS */
OBJECT = IMAGE_MAP_PROJECTION
  ^DATA_SET_MAP_PROJECTION_CATALOG= "DSMAP.CAT"
  A_AXIS_RADIUS = 3396.0
  B_AXIS_RADIUS = 3396.0
  C_AXIS_RADIUS = 3396.0
  CENTER_LATITUDE = 0.0
  CENTER_LONGITUDE = 327.0
  COORDINATE_SYSTEM_NAME = PLANETOGRAPHIC
  COORDINATE_SYSTEM_TYPE = "BODY-FIXED ROTATING"
  EASTERNMOST_LONGITUDE = 327.927
  FIRST_STANDARD_PARALLEL = "N/A"
  LINE_FIRST_PIXEL = 1
  LINE_LAST_PIXEL = 42892
  LINE_PROJECTION_OFFSET = 112139.0
  MAP_PROJECTION_ROTATION = 0.0
  MAP_PROJECTION_TYPE = SINUSOIDAL
  MAP_RESOLUTION = 4741.71043093333
  MAP_SCALE = 0.0125
  MAXIMUM_LATITUDE = 23.6487
  MINIMUM_LATITUDE = 14.6038
  POSITIVE_LONGITUDE_DIRECTION = EAST
  REFERENCE_LATITUDE = "N/A"
  REFERENCE_LONGITUDE = "N/A"
  SAMPLE_FIRST_PIXEL = 1
  SAMPLE_LAST_PIXEL = 6512
  SAMPLE_PROJECTION_OFFSET = 2257.0
  SECOND_STANDARD_PARALLEL = "N/A"
  WESTERNMOST_LONGITUDE = 326.484
END_OBJECT = IMAGE_MAP_PROJECTION
END
