PDS_VERSION_ID = PDS3
/* FILE DATA ELEMENTS */
RECORD_TYPE = UNDEFINED
/* POINTERS TO DATA OBJECTS */
^IMAGE = ("H9391_0000_P14.TIF")
/* IDENTIFICATION DATA ELEMENTS */
DATA_SET_ID = "MEX-M-HRSC-4-REFDR-MAPPROJECT-EXT3-V4.0"
DATA_SET_NAME = "MARS EXPRESS HRSC MAP PROJECTED REFDR EXTENSION3 V4.0"
DETECTOR_ID = MEX_HRSC_P1
EVENT_TYPE = "MARS-REGIONAL-MAPPING-Vo-Te-Pf"
INSTRUMENT_HOST_ID = MEX
INSTRUMENT_HOST_NAME = "MARS EXPRESS"
INSTRUMENT_ID = HRSC
INSTRUMENT_NAME = "HIGH RESOLUTION STEREO CAMERA"
MISSION_NAME = "MARS EXPRESS"
MISSION_PHASE_NAME = ME_Phase_23
PROCESSING_LEVEL_ID = 4
PRODUCT_CREATION_TIME = 2023-02-04T05:05:37.000Z
PRODUCT_ID = "H9391_0000_P14.TIF"
RELEASE_ID = 0006
REVISION_ID = 0000
/* QUALITY DATA ELEMENTS */
DATA_QUALITY_ID = 1
DATA_QUALITY_DESC = "Data calculated based on original SPICE kernels"
/* TIME DATA ELEMENTS */
SPACECRAFT_CLOCK_START_COUNT = "1/0253157502.09064"
SPACECRAFT_CLOCK_STOP_COUNT = "1/0253157701.23544"
START_TIME = 2011-05-11T01:31:55.997Z
STOP_TIME = 2011-05-11T01:34:06.459Z
/* ORBITAL DATA ELEMENTS */
ASCENDING_NODE_LONGITUDE = 37.94
MAXIMUM_RESOLUTION = 0.0584
FOOTPRINT_POINT_LATITUDE = (22.8649,22.8619,22.8555,22.8514, 22.8469,22.8377,22.8374,22.8111,22.6425 ,22.4746,22.1398,21.8884,21.637,21.3855 ,21.2177,21.05,20.8821,20.7143,20.4624, 20.2944,20.1264,19.9584,19.7903,19.6221 ,19.3698,19.2017,19.0335,18.7812,18.613 ,18.4444,18.2764,17.9408,17.6888, 17.5204,17.2676,17.0969,16.8441,16.6745 ,16.5058,16.1703,16.0009,15.832,15.6636 ,15.4944,15.3259,15.0733,14.904,14.7354 ,14.4828,14.3987,14.3464,14.3495, 14.3552,14.3573,14.3608,14.3632,14.3633 ,14.3642,14.6171,14.7867,14.9553, 15.1235,15.2932,15.5461,15.7145,15.8834 ,16.0528,16.2206,16.3893,16.5589, 16.7269,16.8956,17.065,17.2337,17.4865, 17.6561,17.8254,18.0784,18.2477,18.4164 ,18.668,18.8371,19.0073,19.1769,19.4275 ,19.763,19.9316,20.1845,20.5216,20.7736 ,20.9415,21.1106,21.3636,21.5313, 21.8639,22.0324,22.3663,22.7015,22.7853 ,22.8649)
FOOTPRINT_POINT_LONGITUDE = (172.977,172.781,172.423,172.224, 172.025,171.66,171.647,171.624,171.624, 171.626,171.63,171.632,171.635,171.637, 171.638,171.64,171.641,171.642,171.644, 171.645,171.646,171.647,171.648,171.649 ,171.65,171.651,171.652,171.653,171.654 ,171.654,171.655,171.656,171.657, 171.658,171.658,171.656,171.656,171.655 ,171.655,171.656,171.655,171.655, 171.655,171.654,171.653,171.653,171.652 ,171.651,171.65,171.65,171.651,171.899, 172.223,172.432,172.653,172.959,172.971 ,172.975,172.975,172.975,172.975, 172.975,172.975,172.976,172.976,172.976 ,172.976,172.976,172.976,172.976, 172.977,172.977,172.977,172.977,172.977 ,172.977,172.977,172.977,172.977, 172.977,172.978,172.978,172.978,172.978 ,172.978,172.979,172.979,172.979, 172.979,172.98,172.98,172.98,172.98, 172.98,172.981,172.981,172.982,172.982, 172.982,172.977)
ORBIT_NUMBER = 9391
ORBITAL_ECCENTRICITY = 0.576
ORBITAL_INCLINATION = 86.86
ORBITAL_SEMIMAJOR_AXIS = 8838.12
PERIAPSIS_ALTITUDE = 353.19
PERIAPSIS_ARGUMENT_ANGLE = 157.01
PERIAPSIS_TIME = 2011-05-11T01:32:14.000Z
SPACECRAFT_ORIENTATION = (0.0,-1.0,0.0)
^MEX_ORIENTATION_DESC = "MEX_ORIENTATION_DESC.TXT"
SPACECRAFT_POINTING_MODE = ACROSSTRACK
^MEX_POINTING_DESC = "MEX_POINTING_DESC.TXT"
RIGHT_ASCENSION = -1e+32
DECLINATION = -1e+32
OFFSET_ANGLE = -0.4
SPACECRAFT_SOLAR_DISTANCE = 2.10692e+08
TARGET_NAME = MARS
/* CAMERA DATA ELEMENTS */
DETECTOR_TEMPERATURE = 17.351
FOCAL_PLANE_TEMPERATURE = 8.1755
INST_CMPRS_NAME = "DISCRETE COSINE TRANSFORMATION (DCT)"
INST_CMPRS_RATIO = 10.4087
INST_CMPRS_QUALITY = 0
INST_CMPRS_QUANTZ_TBL_ID = 0
INSTRUMENT_TEMPERATURE = 11.0301
LENS_TEMPERATURE = 8.3794
MACROPIXEL_SIZE = 4
MISSING_FRAMES = 0
PIXEL_SUBSAMPLING_FLAG = N
SIGNAL_CHAIN_ID = 3
/* RADIOMETRIC DATA ELEMENTS */
BANDWIDTH = 174.0
CENTER_FILTER_WAVELENGTH = 675.0
RADIANCE_OFFSET = 3.29958
RADIANCE_SCALING_FACTOR = 0.0127125
REFLECTANCE_SCALING_FACTOR = 0.000303539
MEX:REFLECTANCE_OFFSET = 0.0787846
/* IMAGE OBJECT DEFINITIONS */
OBJECT = IMAGE
  INTERCHANGE_FORMAT = BINARY
  LINES = 10037
  LINE_SAMPLES = 1546
  SAMPLE_TYPE = UNSIGNED_INTEGER
  SAMPLE_BITS = 8
  BANDS = 1
  BAND_STORAGE_TYPE = BAND_SEQUENTIAL
  MAXIMUM = 255
  MEAN = 100.434
  MINIMUM = 1
  STANDARD_DEVIATION = 28.3828
END_OBJECT = IMAGE
/* MAP OBJECT DEFINITIONS */
OBJECT = IMAGE_MAP_PROJECTION
  ^DATA_SET_MAP_PROJECTION_CATALOG= "DSMAP.CAT"
  A_AXIS_RADIUS = 3396.0
  B_AXIS_RADIUS = 3396.0
  C_AXIS_RADIUS = 3396.0
  CENTER_LATITUDE = 0.0
  CENTER_LONGITUDE = 172.0
  COORDINATE_SYSTEM_NAME = PLANETOGRAPHIC
  COORDINATE_SYSTEM_TYPE = "BODY-FIXED ROTATING"
  EASTERNMOST_LONGITUDE = 172.982
  FIRST_STANDARD_PARALLEL = "N/A"
  LINE_FIRST_PIXEL = 1
  LINE_LAST_PIXEL = 10037
  LINE_PROJECTION_OFFSET = 27076.875
  MAP_PROJECTION_ROTATION = 0.0
  MAP_PROJECTION_TYPE = SINUSOIDAL
  MAP_RESOLUTION = 1185.42760773333
  MAP_SCALE = 0.05
  MAXIMUM_LATITUDE = 22.8649
  MINIMUM_LATITUDE = 14.3464
  POSITIVE_LONGITUDE_DIRECTION = EAST
  REFERENCE_LATITUDE = "N/A"
  REFERENCE_LONGITUDE = "N/A"
  SAMPLE_FIRST_PIXEL = 1
  SAMPLE_LAST_PIXEL = 1546
  SAMPLE_PROJECTION_OFFSET = 416.875
  SECOND_STANDARD_PARALLEL = "N/A"
  WESTERNMOST_LONGITUDE = 171.624
END_OBJECT = IMAGE_MAP_PROJECTION
END
