PDS_VERSION_ID = PDS3
/* FILE DATA ELEMENTS */
RECORD_TYPE = UNDEFINED
/* POINTERS TO DATA OBJECTS */
^IMAGE = ("H9391_0000_GR4.TIF")
/* IDENTIFICATION DATA ELEMENTS */
DATA_SET_ID = "MEX-M-HRSC-4-REFDR-MAPPROJECT-EXT3-V4.0"
DATA_SET_NAME = "MARS EXPRESS HRSC MAP PROJECTED REFDR EXTENSION3 V4.0"
DETECTOR_ID = MEX_HRSC_GREEN
EVENT_TYPE = "MARS-REGIONAL-MAPPING-Vo-Te-Pf"
INSTRUMENT_HOST_ID = MEX
INSTRUMENT_HOST_NAME = "MARS EXPRESS"
INSTRUMENT_ID = HRSC
INSTRUMENT_NAME = "HIGH RESOLUTION STEREO CAMERA"
MISSION_NAME = "MARS EXPRESS"
MISSION_PHASE_NAME = ME_Phase_23
PROCESSING_LEVEL_ID = 4
PRODUCT_CREATION_TIME = 2023-02-04T05:05:37.000Z
PRODUCT_ID = "H9391_0000_GR4.TIF"
RELEASE_ID = 0006
REVISION_ID = 0000
/* QUALITY DATA ELEMENTS */
DATA_QUALITY_ID = 1
DATA_QUALITY_DESC = "Data calculated based on original SPICE kernels"
/* TIME DATA ELEMENTS */
SPACECRAFT_CLOCK_START_COUNT = "1/0253157502.09064"
SPACECRAFT_CLOCK_STOP_COUNT = "1/0253157701.23544"
START_TIME = 2011-05-11T01:32:11.658Z
STOP_TIME = 2011-05-11T01:34:22.332Z
/* ORBITAL DATA ELEMENTS */
ASCENDING_NODE_LONGITUDE = 37.94
MAXIMUM_RESOLUTION = 0.057
FOOTPRINT_POINT_LATITUDE = (22.8403,22.8391,22.8371,22.8356, 22.8338,22.8306,22.8304,22.8236,22.6552 ,22.4874,22.2357,21.984,21.8162,21.6483 ,21.4805,21.2287,21.0609,20.893,20.7251 ,20.4733,20.3055,20.0537,19.8019, 19.6341,19.3822,19.1306,18.9627,18.795, 18.6273,18.4594,18.2917,18.124,17.8727, 17.705,17.5374,17.3699,17.2019,16.9504, 16.6985,16.5309,16.1962,16.0286,15.6937 ,15.3589,15.108,14.7735,14.5229,14.4393 ,14.373,14.3733,14.3738,14.3741,14.3739 ,14.374,14.3732,14.3732,14.374,14.7088, 15.0433,15.2109,15.3786,15.7134,15.8811 ,16.0488,16.3839,16.6355,16.8032, 16.9711,17.1388,17.3906,17.5587,17.7268 ,17.9785,18.1466,18.4822,18.6505, 18.8186,18.9869,19.2387,19.4067,19.5745 ,19.7424,19.9106,20.0787,20.2474, 20.4991,20.667,20.9191,21.0875,21.2557, 21.4239,21.6754,21.843,22.0115,22.179, 22.3471,22.5151,22.6831,22.7671, 22.8403)
FOOTPRINT_POINT_LONGITUDE = (172.975,172.682,172.349,172.151, 171.952,171.663,171.651,171.627,171.627 ,171.629,171.631,171.634,171.635, 171.637,171.638,171.64,171.642,171.643, 171.644,171.646,171.646,171.648,171.649 ,171.65,171.651,171.652,171.652,171.653 ,171.654,171.654,171.654,171.655, 171.656,171.656,171.657,171.657,171.656 ,171.656,171.654,171.654,171.654, 171.653,171.652,171.651,171.65,171.649, 171.648,171.648,171.648,171.847,172.023 ,172.26,172.483,172.779,172.963,172.976 ,172.98,172.98,172.98,172.98,172.979, 172.98,172.98,172.979,172.98,172.98, 172.98,172.979,172.98,172.98,172.979, 172.979,172.979,172.979,172.979,172.979 ,172.979,172.979,172.979,172.979, 172.979,172.98,172.979,172.979,172.979, 172.979,172.979,172.979,172.979,172.979 ,172.979,172.98,172.98,172.98,172.98, 172.98,172.98,172.98,172.98,172.975)
ORBIT_NUMBER = 9391
ORBITAL_ECCENTRICITY = 0.576
ORBITAL_INCLINATION = 86.86
ORBITAL_SEMIMAJOR_AXIS = 8838.12
PERIAPSIS_ALTITUDE = 353.19
PERIAPSIS_ARGUMENT_ANGLE = 157.01
PERIAPSIS_TIME = 2011-05-11T01:32:14.000Z
SPACECRAFT_ORIENTATION = (0.0,-1.0,0.0)
^MEX_ORIENTATION_DESC = "MEX_ORIENTATION_DESC.TXT"
SPACECRAFT_POINTING_MODE = ACROSSTRACK
^MEX_POINTING_DESC = "MEX_POINTING_DESC.TXT"
RIGHT_ASCENSION = -1e+32
DECLINATION = -1e+32
OFFSET_ANGLE = -0.4
SPACECRAFT_SOLAR_DISTANCE = 2.10692e+08
TARGET_NAME = MARS
/* CAMERA DATA ELEMENTS */
DETECTOR_TEMPERATURE = 18.1666
FOCAL_PLANE_TEMPERATURE = 8.1755
INST_CMPRS_NAME = "DISCRETE COSINE TRANSFORMATION (DCT)"
INST_CMPRS_RATIO = 10.3703
INST_CMPRS_QUALITY = 0
INST_CMPRS_QUANTZ_TBL_ID = 0
INSTRUMENT_TEMPERATURE = 11.0301
LENS_TEMPERATURE = 8.3794
MACROPIXEL_SIZE = 4
MISSING_FRAMES = 0
PIXEL_SUBSAMPLING_FLAG = N
SIGNAL_CHAIN_ID = 2
/* RADIOMETRIC DATA ELEMENTS */
BANDWIDTH = 88.0
CENTER_FILTER_WAVELENGTH = 538.0
RADIANCE_OFFSET = 1.14799
RADIANCE_SCALING_FACTOR = 0.00341663
REFLECTANCE_SCALING_FACTOR = 0.000130582
MEX:REFLECTANCE_OFFSET = 0.0438757
/* IMAGE OBJECT DEFINITIONS */
OBJECT = IMAGE
  INTERCHANGE_FORMAT = BINARY
  LINES = 10037
  LINE_SAMPLES = 1546
  SAMPLE_TYPE = UNSIGNED_INTEGER
  SAMPLE_BITS = 8
  BANDS = 1
  BAND_STORAGE_TYPE = BAND_SEQUENTIAL
  MAXIMUM = 255
  MEAN = 111.277
  MINIMUM = 1
  STANDARD_DEVIATION = 30.6066
END_OBJECT = IMAGE
/* MAP OBJECT DEFINITIONS */
OBJECT = IMAGE_MAP_PROJECTION
  ^DATA_SET_MAP_PROJECTION_CATALOG= "DSMAP.CAT"
  A_AXIS_RADIUS = 3396.0
  B_AXIS_RADIUS = 3396.0
  C_AXIS_RADIUS = 3396.0
  CENTER_LATITUDE = 0.0
  CENTER_LONGITUDE = 172.0
  COORDINATE_SYSTEM_NAME = PLANETOGRAPHIC
  COORDINATE_SYSTEM_TYPE = "BODY-FIXED ROTATING"
  EASTERNMOST_LONGITUDE = 172.98
  FIRST_STANDARD_PARALLEL = "N/A"
  LINE_FIRST_PIXEL = 1
  LINE_LAST_PIXEL = 10037
  LINE_PROJECTION_OFFSET = 27076.875
  MAP_PROJECTION_ROTATION = 0.0
  MAP_PROJECTION_TYPE = SINUSOIDAL
  MAP_RESOLUTION = 1185.42760773333
  MAP_SCALE = 0.05
  MAXIMUM_LATITUDE = 22.8403
  MINIMUM_LATITUDE = 14.373
  POSITIVE_LONGITUDE_DIRECTION = EAST
  REFERENCE_LATITUDE = "N/A"
  REFERENCE_LONGITUDE = "N/A"
  SAMPLE_FIRST_PIXEL = 1
  SAMPLE_LAST_PIXEL = 1546
  SAMPLE_PROJECTION_OFFSET = 416.875
  SECOND_STANDARD_PARALLEL = "N/A"
  WESTERNMOST_LONGITUDE = 171.627
END_OBJECT = IMAGE_MAP_PROJECTION
END
