PDS_VERSION_ID = PDS3
/* FILE DATA ELEMENTS */
RECORD_TYPE = UNDEFINED
/* POINTERS TO DATA OBJECTS */
^IMAGE = ("H9375_0000_RE4.TIF")
/* IDENTIFICATION DATA ELEMENTS */
DATA_SET_ID = "MEX-M-HRSC-4-REFDR-MAPPROJECT-EXT3-V4.0"
DATA_SET_NAME = "MARS EXPRESS HRSC MAP PROJECTED REFDR EXTENSION3 V4.0"
DETECTOR_ID = MEX_HRSC_RED
EVENT_TYPE = "MARS-REGIONAL-MAPPING-Im-Fl-La"
INSTRUMENT_HOST_ID = MEX
INSTRUMENT_HOST_NAME = "MARS EXPRESS"
INSTRUMENT_ID = HRSC
INSTRUMENT_NAME = "HIGH RESOLUTION STEREO CAMERA"
MISSION_NAME = "MARS EXPRESS"
MISSION_PHASE_NAME = ME_Phase_23
PROCESSING_LEVEL_ID = 4
PRODUCT_CREATION_TIME = 2023-02-04T05:05:37.000Z
PRODUCT_ID = "H9375_0000_RE4.TIF"
RELEASE_ID = 0006
REVISION_ID = 0000
/* QUALITY DATA ELEMENTS */
DATA_QUALITY_ID = 1
DATA_QUALITY_DESC = "Data calculated based on original SPICE kernels"
/* TIME DATA ELEMENTS */
SPACECRAFT_CLOCK_START_COUNT = "1/0252754761.07305"
SPACECRAFT_CLOCK_STOP_COUNT = "1/0252754992.49065"
START_TIME = 2011-05-06T09:40:23.469Z
STOP_TIME = 2011-05-06T09:43:06.646Z
/* ORBITAL DATA ELEMENTS */
ASCENDING_NODE_LONGITUDE = 38.26
MAXIMUM_RESOLUTION = 0.0613
FOOTPRINT_POINT_LATITUDE = (13.6597,13.6661,13.6696,13.6732, 13.6769,13.6834,13.6836,13.698,13.2549, 12.8122,12.4588,12.1937,11.8026,11.5921 ,11.2778,11.0682,10.8587,10.649,10.4399 ,10.1358,9.92696,9.72039,9.51034, 9.29549,8.98477,8.77759,8.57078,8.26069 ,8.05449,7.84872,7.64302,7.43759,7.13, 6.92497,6.7198,6.51553,6.31153,6.10681, 5.90216,5.70116,5.49784,5.19269,4.98897 ,4.78203,4.57463,4.36806,4.16101, 3.95389,3.74845,3.6427,3.62874,3.62288, 3.61771,3.61226,3.60392,3.60108,3.60082 ,3.60173,3.80801,4.01166,4.21781, 4.42522,4.73648,5.04711,5.24962,5.45239 ,5.65561,5.85929,6.06304,6.26714, 6.57345,6.7777,6.98315,7.29134,7.49724, 7.70338,8.01243,8.22066,8.42914,8.63324 ,8.84017,9.15139,9.46286,9.67059, 9.87889,10.0872,10.4003,10.6089,10.8171 ,11.0278,11.3427,11.5529,11.763,12.0681 ,12.4208,12.8632,13.3054,13.5723, 13.6607,13.6597)
FOOTPRINT_POINT_LONGITUDE = (9.62754,9.26299,9.06767,8.87186, 8.67551,8.3296,8.31718,8.3062,8.30315, 8.29999,8.29712,8.29511,8.29136,8.28959 ,8.28627,8.28412,8.28195,8.27995, 8.27768,8.2695,8.26722,8.26383,8.26222, 8.26304,8.2586,8.25571,8.25269,8.24819, 8.245,8.24164,8.23831,8.2349,8.22962, 8.22615,8.22282,8.2191,8.21531,8.21194, 8.20859,8.20354,8.19967,8.19408,8.18987 ,8.18524,8.18091,8.17624,8.17189, 8.16765,8.16248,8.16012,8.1598,8.38358, 8.60712,8.84381,9.21868,9.63443,9.64826 ,9.65287,9.65108,9.64946,9.64838, 9.64755,9.64627,9.64499,9.64417,9.64336 ,9.64263,9.64196,9.64127,9.64063, 9.63963,9.63893,9.63848,9.63773,9.63728 ,9.63686,9.63612,9.63609,9.63607, 9.63504,9.63461,9.6341,9.63356,9.63318, 9.63291,9.6326,9.63221,9.63189,9.63145, 9.63154,9.63135,9.63126,9.63111,9.63084 ,9.63058,9.63051,9.63025,9.6304,9.63031 ,9.62754)
ORBIT_NUMBER = 9375
ORBITAL_ECCENTRICITY = 0.577
ORBITAL_INCLINATION = 86.85
ORBITAL_SEMIMAJOR_AXIS = 8846.82
PERIAPSIS_ALTITUDE = 351.4
PERIAPSIS_ARGUMENT_ANGLE = 159.77
PERIAPSIS_TIME = 2011-05-06T09:38:15.000Z
SPACECRAFT_ORIENTATION = (0.0,-1.0,0.0)
^MEX_ORIENTATION_DESC = "MEX_ORIENTATION_DESC.TXT"
SPACECRAFT_POINTING_MODE = ACROSSTRACK
^MEX_POINTING_DESC = "MEX_POINTING_DESC.TXT"
RIGHT_ASCENSION = -1e+32
DECLINATION = -1e+32
OFFSET_ANGLE = -0.269
SPACECRAFT_SOLAR_DISTANCE = 2.10134e+08
TARGET_NAME = MARS
/* CAMERA DATA ELEMENTS */
DETECTOR_TEMPERATURE = 18.7783
FOCAL_PLANE_TEMPERATURE = 8.7872
INST_CMPRS_NAME = "DISCRETE COSINE TRANSFORMATION (DCT)"
INST_CMPRS_RATIO = 16.4663
INST_CMPRS_QUALITY = 0
INST_CMPRS_QUANTZ_TBL_ID = 0
INSTRUMENT_TEMPERATURE = 11.234
LENS_TEMPERATURE = 9.195
MACROPIXEL_SIZE = 4
MISSING_FRAMES = 0
PIXEL_SUBSAMPLING_FLAG = N
SIGNAL_CHAIN_ID = 2
/* RADIOMETRIC DATA ELEMENTS */
BANDWIDTH = 48.0
CENTER_FILTER_WAVELENGTH = 748.0
RADIANCE_OFFSET = 0.761917
RADIANCE_SCALING_FACTOR = 0.00419199
REFLECTANCE_SCALING_FACTOR = 0.000422418
MEX:REFLECTANCE_OFFSET = 0.0767766
/* IMAGE OBJECT DEFINITIONS */
OBJECT = IMAGE
  INTERCHANGE_FORMAT = BINARY
  LINES = 11960
  LINE_SAMPLES = 1699
  SAMPLE_TYPE = UNSIGNED_INTEGER
  SAMPLE_BITS = 8
  BANDS = 1
  BAND_STORAGE_TYPE = BAND_SEQUENTIAL
  MAXIMUM = 255
  MEAN = 121.492
  MINIMUM = 1
  STANDARD_DEVIATION = 25.6505
END_OBJECT = IMAGE
/* MAP OBJECT DEFINITIONS */
OBJECT = IMAGE_MAP_PROJECTION
  ^DATA_SET_MAP_PROJECTION_CATALOG= "DSMAP.CAT"
  A_AXIS_RADIUS = 3396.0
  B_AXIS_RADIUS = 3396.0
  C_AXIS_RADIUS = 3396.0
  CENTER_LATITUDE = 0.0
  CENTER_LONGITUDE = 9.0
  COORDINATE_SYSTEM_NAME = PLANETOGRAPHIC
  COORDINATE_SYSTEM_TYPE = "BODY-FIXED ROTATING"
  EASTERNMOST_LONGITUDE = 9.65287
  FIRST_STANDARD_PARALLEL = "N/A"
  LINE_FIRST_PIXEL = 1
  LINE_LAST_PIXEL = 11960
  LINE_PROJECTION_OFFSET = 16217.125
  MAP_PROJECTION_ROTATION = 0.0
  MAP_PROJECTION_TYPE = SINUSOIDAL
  MAP_RESOLUTION = 1185.42760773333
  MAP_SCALE = 0.05
  MAXIMUM_LATITUDE = 13.698
  MINIMUM_LATITUDE = 3.60082
  POSITIVE_LONGITUDE_DIRECTION = EAST
  REFERENCE_LATITUDE = "N/A"
  REFERENCE_LONGITUDE = "N/A"
  SAMPLE_FIRST_PIXEL = 1
  SAMPLE_LAST_PIXEL = 1699
  SAMPLE_PROJECTION_OFFSET = 958.375
  SECOND_STANDARD_PARALLEL = "N/A"
  WESTERNMOST_LONGITUDE = 8.159800000000001
END_OBJECT = IMAGE_MAP_PROJECTION
END
