PDS_VERSION_ID = PDS3
/* FILE DATA ELEMENTS */
RECORD_TYPE = UNDEFINED
/* POINTERS TO DATA OBJECTS */
^IMAGE = ("H9373_0000_S24.TIF")
/* IDENTIFICATION DATA ELEMENTS */
DATA_SET_ID = "MEX-M-HRSC-4-REFDR-MAPPROJECT-EXT3-V4.0"
DATA_SET_NAME = "MARS EXPRESS HRSC MAP PROJECTED REFDR EXTENSION3 V4.0"
DETECTOR_ID = MEX_HRSC_S2
EVENT_TYPE = "MARS-REGIONAL-MAPPING-Vo-Eo"
INSTRUMENT_HOST_ID = MEX
INSTRUMENT_HOST_NAME = "MARS EXPRESS"
INSTRUMENT_ID = HRSC
INSTRUMENT_NAME = "HIGH RESOLUTION STEREO CAMERA"
MISSION_NAME = "MARS EXPRESS"
MISSION_PHASE_NAME = ME_Phase_23
PROCESSING_LEVEL_ID = 4
PRODUCT_CREATION_TIME = 2023-02-04T05:05:37.000Z
PRODUCT_ID = "H9373_0000_S24.TIF"
RELEASE_ID = 0006
REVISION_ID = 0000
/* QUALITY DATA ELEMENTS */
DATA_QUALITY_ID = 1
DATA_QUALITY_DESC = "Data calculated based on original SPICE kernels"
/* TIME DATA ELEMENTS */
SPACECRAFT_CLOCK_START_COUNT = "1/0252704408.08271"
SPACECRAFT_CLOCK_STOP_COUNT = "1/0252704668.13736"
START_TIME = 2011-05-05T19:41:16.839Z
STOP_TIME = 2011-05-05T19:44:29.177Z
/* ORBITAL DATA ELEMENTS */
ASCENDING_NODE_LONGITUDE = 38.3
MAXIMUM_RESOLUTION = 0.0316
FOOTPRINT_POINT_LATITUDE = (12.9386,12.9549,12.972,12.9933,12.9939 ,13.0231,12.7227,12.423,11.9598,11.7221 ,11.4824,11.246,10.892,10.6548,10.3003, 10.0643,9.82738,9.59305,9.35761,9.12317 ,8.77163,8.4207,8.1872,7.95417,7.6051, 7.37289,7.1412,6.90999,6.67917,6.21872, 5.76021,5.3037,5.07165,4.83789,4.48719, 4.25385,4.02097,3.78286,3.54444,3.30671 ,3.06941,2.8326,2.59051,2.34849,2.10689 ,1.85657,1.48932,1.36624,1.34085, 1.32046,1.3017,1.29032,1.28004,1.27015, 1.26957,1.26987,1.5163,1.76066,2.13092, 2.4954,2.7398,2.97584,3.213,3.45037, 3.68589,3.92365,4.15642,4.3895,4.62275, 4.85669,5.09091,5.43722,5.89711,6.12752 ,6.47375,6.82101,7.17004,7.40261, 7.63569,7.86882,8.10338,8.33805,8.57222 ,8.92365,9.27456,9.50922,9.74477, 9.98028,10.217,10.5714,10.8079,11.0447, 11.4011,11.6386,11.8765,12.1147,12.5441 ,12.845,12.9453,12.9386)
FOOTPRINT_POINT_LONGITUDE = (213.868,213.46,213.047,212.548,212.535 ,212.513,212.512,212.509,212.506, 212.504,212.503,212.5,212.496,212.494, 212.491,212.488,212.486,212.483,212.481 ,212.478,212.473,212.469,212.466, 212.462,212.457,212.454,212.45,212.446, 212.442,212.434,212.425,212.415,212.41, 212.405,212.397,212.393,212.388,212.382 ,212.377,212.372,212.366,212.361, 212.355,212.349,212.343,212.337,212.328 ,212.325,212.324,212.745,213.146, 213.407,213.65,213.891,213.906,213.912, 213.91,213.909,213.906,213.904,213.903, 213.901,213.9,213.899,213.897,213.896, 213.895,213.894,213.893,213.891,213.89, 213.889,213.887,213.886,213.885,213.884 ,213.882,213.882,213.881,213.88,213.879 ,213.879,213.878,213.877,213.876, 213.876,213.875,213.874,213.874,213.873 ,213.872,213.872,213.871,213.871,213.87 ,213.87,213.869,213.868,213.868, 213.868)
ORBIT_NUMBER = 9373
ORBITAL_ECCENTRICITY = 0.577
ORBITAL_INCLINATION = 86.86
ORBITAL_SEMIMAJOR_AXIS = 8848.79
PERIAPSIS_ALTITUDE = 350.78
PERIAPSIS_ARGUMENT_ANGLE = 160.12
PERIAPSIS_TIME = 2011-05-05T19:38:56.000Z
SPACECRAFT_ORIENTATION = (0.0,-1.0,0.0)
^MEX_ORIENTATION_DESC = "MEX_ORIENTATION_DESC.TXT"
SPACECRAFT_POINTING_MODE = ACROSSTRACK
^MEX_POINTING_DESC = "MEX_POINTING_DESC.TXT"
RIGHT_ASCENSION = -1e+32
DECLINATION = -1e+32
OFFSET_ANGLE = -0.6
SPACECRAFT_SOLAR_DISTANCE = 2.10067e+08
TARGET_NAME = MARS
/* CAMERA DATA ELEMENTS */
DETECTOR_TEMPERATURE = 17.5549
FOCAL_PLANE_TEMPERATURE = 8.7872
INST_CMPRS_NAME = "DISCRETE COSINE TRANSFORMATION (DCT)"
INST_CMPRS_RATIO = 4.60399
INST_CMPRS_QUALITY = 0
INST_CMPRS_QUANTZ_TBL_ID = 0
INSTRUMENT_TEMPERATURE = 11.234
LENS_TEMPERATURE = 9.195
MACROPIXEL_SIZE = 2
MISSING_FRAMES = 2
PIXEL_SUBSAMPLING_FLAG = N
SIGNAL_CHAIN_ID = 1
/* RADIOMETRIC DATA ELEMENTS */
BANDWIDTH = 178.0
CENTER_FILTER_WAVELENGTH = 679.0
RADIANCE_OFFSET = 4.00677
RADIANCE_SCALING_FACTOR = 0.0149272
REFLECTANCE_SCALING_FACTOR = 0.000348838
MEX:REFLECTANCE_OFFSET = 0.0936354
/* IMAGE OBJECT DEFINITIONS */
OBJECT = IMAGE
  INTERCHANGE_FORMAT = BINARY
  LINES = 27759
  LINE_SAMPLES = 3548
  SAMPLE_TYPE = UNSIGNED_INTEGER
  SAMPLE_BITS = 8
  BANDS = 1
  BAND_STORAGE_TYPE = BAND_SEQUENTIAL
  MAXIMUM = 255
  MEAN = 98.0931
  MINIMUM = 1
  STANDARD_DEVIATION = 31.3171
END_OBJECT = IMAGE
/* MAP OBJECT DEFINITIONS */
OBJECT = IMAGE_MAP_PROJECTION
  ^DATA_SET_MAP_PROJECTION_CATALOG= "DSMAP.CAT"
  A_AXIS_RADIUS = 3396.0
  B_AXIS_RADIUS = 3396.0
  C_AXIS_RADIUS = 3396.0
  CENTER_LATITUDE = 0.0
  CENTER_LONGITUDE = 213.0
  COORDINATE_SYSTEM_NAME = PLANETOGRAPHIC
  COORDINATE_SYSTEM_TYPE = "BODY-FIXED ROTATING"
  EASTERNMOST_LONGITUDE = 213.912
  FIRST_STANDARD_PARALLEL = "N/A"
  LINE_FIRST_PIXEL = 1
  LINE_LAST_PIXEL = 27759
  LINE_PROJECTION_OFFSET = 30785.75
  MAP_PROJECTION_ROTATION = 0.0
  MAP_PROJECTION_TYPE = SINUSOIDAL
  MAP_RESOLUTION = 2370.85521546667
  MAP_SCALE = 0.025
  MAXIMUM_LATITUDE = 13.0231
  MINIMUM_LATITUDE = 1.26957
  POSITIVE_LONGITUDE_DIRECTION = EAST
  REFERENCE_LATITUDE = "N/A"
  REFERENCE_LONGITUDE = "N/A"
  SAMPLE_FIRST_PIXEL = 1
  SAMPLE_LAST_PIXEL = 3548
  SAMPLE_PROJECTION_OFFSET = 1481.75
  SECOND_STANDARD_PARALLEL = "N/A"
  WESTERNMOST_LONGITUDE = 212.324
END_OBJECT = IMAGE_MAP_PROJECTION
END
