PDS_VERSION_ID = PDS3
/* FILE DATA ELEMENTS */
RECORD_TYPE = UNDEFINED
/* POINTERS TO DATA OBJECTS */
^IMAGE = ("H9373_0000_ND4.TIF")
/* IDENTIFICATION DATA ELEMENTS */
DATA_SET_ID = "MEX-M-HRSC-4-REFDR-MAPPROJECT-EXT3-V4.0"
DATA_SET_NAME = "MARS EXPRESS HRSC MAP PROJECTED REFDR EXTENSION3 V4.0"
DETECTOR_ID = MEX_HRSC_NADIR
EVENT_TYPE = "MARS-REGIONAL-MAPPING-Vo-Eo"
INSTRUMENT_HOST_ID = MEX
INSTRUMENT_HOST_NAME = "MARS EXPRESS"
INSTRUMENT_ID = HRSC
INSTRUMENT_NAME = "HIGH RESOLUTION STEREO CAMERA"
MISSION_NAME = "MARS EXPRESS"
MISSION_PHASE_NAME = ME_Phase_23
PROCESSING_LEVEL_ID = 4
PRODUCT_CREATION_TIME = 2023-02-04T05:05:37.000Z
PRODUCT_ID = "H9373_0000_ND4.TIF"
RELEASE_ID = 0006
REVISION_ID = 0000
/* QUALITY DATA ELEMENTS */
DATA_QUALITY_ID = 1
DATA_QUALITY_DESC = "Data calculated based on original SPICE kernels"
/* TIME DATA ELEMENTS */
SPACECRAFT_CLOCK_START_COUNT = "1/0252704408.08271"
SPACECRAFT_CLOCK_STOP_COUNT = "1/0252704668.13736"
START_TIME = 2011-05-05T19:40:43.190Z
STOP_TIME = 2011-05-05T19:43:47.190Z
/* ORBITAL DATA ELEMENTS */
ASCENDING_NODE_LONGITUDE = 38.3
MAXIMUM_RESOLUTION = 0.0145
FOOTPRINT_POINT_LATITUDE = (12.9809,12.9828,12.9841,12.9849, 12.9849,12.9851,12.6744,12.2604,11.8467 ,11.4332,11.0201,10.6073,10.1949, 9.95995,9.71414,9.46847,9.22293,8.97753 ,8.73229,8.48719,8.24225,7.99746, 7.75284,7.50838,7.26409,7.01997,6.77602 ,6.53225,6.28866,6.04526,5.80204,5.559, 5.31617,5.07356,4.83111,4.58885,4.34679 ,4.10494,3.8633,3.62187,3.38065,3.13964 ,2.89886,2.53033,2.28362,2.03716, 1.79092,1.42012,1.29406,1.29251,1.28761 ,1.28287,1.27965,1.2772,1.27705,1.27723 ,1.5284,1.77462,2.02108,2.26779,2.51476 ,2.8837,3.12471,3.36595,3.60737,3.84901 ,4.09088,4.33296,4.57525,4.81774, 5.06042,5.30331,5.5464,5.78968,6.03315, 6.27681,6.52064,6.76465,7.00885,7.25322 ,7.49775,7.74245,7.98732,8.23235, 8.47754,8.72287,8.96835,9.21396,9.45973 ,9.70564,9.95169,10.1871,10.5999,11.013 ,11.4266,11.8404,12.2545,12.8763,12.98, 12.9809)
FOOTPRINT_POINT_LONGITUDE = (213.854,213.45,213.041,212.572,212.559 ,212.536,212.534,212.532,212.529, 212.528,212.524,212.521,212.518,212.516 ,212.514,212.511,212.509,212.507, 212.504,212.501,212.499,212.496,212.493 ,212.49,212.487,212.483,212.48,212.476, 212.472,212.468,212.464,212.46,212.455, 212.45,212.446,212.441,212.437,212.433, 212.428,212.423,212.419,212.414,212.409 ,212.401,212.396,212.39,212.386,212.378 ,212.375,212.375,212.854,213.311, 213.618,213.85,213.864,213.871,213.87, 213.87,213.869,213.868,213.867,213.866, 213.865,213.865,213.864,213.863,213.863 ,213.862,213.862,213.861,213.86,213.86, 213.86,213.859,213.859,213.858,213.858, 213.858,213.857,213.857,213.857,213.856 ,213.856,213.856,213.856,213.856, 213.855,213.855,213.855,213.855,213.855 ,213.855,213.854,213.854,213.854, 213.854,213.854,213.854,213.854, 213.854)
ORBIT_NUMBER = 9373
ORBITAL_ECCENTRICITY = 0.577
ORBITAL_INCLINATION = 86.86
ORBITAL_SEMIMAJOR_AXIS = 8848.79
PERIAPSIS_ALTITUDE = 350.78
PERIAPSIS_ARGUMENT_ANGLE = 160.12
PERIAPSIS_TIME = 2011-05-05T19:38:56.000Z
SPACECRAFT_ORIENTATION = (0.0,-1.0,0.0)
^MEX_ORIENTATION_DESC = "MEX_ORIENTATION_DESC.TXT"
SPACECRAFT_POINTING_MODE = ACROSSTRACK
^MEX_POINTING_DESC = "MEX_POINTING_DESC.TXT"
RIGHT_ASCENSION = -1e+32
DECLINATION = -1e+32
OFFSET_ANGLE = -0.6
SPACECRAFT_SOLAR_DISTANCE = 2.10067e+08
TARGET_NAME = MARS
/* CAMERA DATA ELEMENTS */
DETECTOR_TEMPERATURE = 18.5744
FOCAL_PLANE_TEMPERATURE = 8.7872
INST_CMPRS_NAME = "DISCRETE COSINE TRANSFORMATION (DCT)"
INST_CMPRS_RATIO = 3.99917
INST_CMPRS_QUALITY = 0
INST_CMPRS_QUANTZ_TBL_ID = 0
INSTRUMENT_TEMPERATURE = 11.234
LENS_TEMPERATURE = 9.195
MACROPIXEL_SIZE = 1
MISSING_FRAMES = 0
PIXEL_SUBSAMPLING_FLAG = N
SIGNAL_CHAIN_ID = 0
/* RADIOMETRIC DATA ELEMENTS */
BANDWIDTH = 177.0
CENTER_FILTER_WAVELENGTH = 677.5
RADIANCE_OFFSET = 3.39323
RADIANCE_SCALING_FACTOR = 0.0154882
REFLECTANCE_SCALING_FACTOR = 0.000363079
MEX:REFLECTANCE_OFFSET = 0.0795451
/* IMAGE OBJECT DEFINITIONS */
OBJECT = IMAGE
  INTERCHANGE_FORMAT = BINARY
  LINES = 55517
  LINE_SAMPLES = 7096
  SAMPLE_TYPE = UNSIGNED_INTEGER
  SAMPLE_BITS = 8
  BANDS = 1
  BAND_STORAGE_TYPE = BAND_SEQUENTIAL
  MAXIMUM = 255
  MEAN = 92.0152
  MINIMUM = 1
  STANDARD_DEVIATION = 30.6392
END_OBJECT = IMAGE
/* MAP OBJECT DEFINITIONS */
OBJECT = IMAGE_MAP_PROJECTION
  ^DATA_SET_MAP_PROJECTION_CATALOG= "DSMAP.CAT"
  A_AXIS_RADIUS = 3396.0
  B_AXIS_RADIUS = 3396.0
  C_AXIS_RADIUS = 3396.0
  CENTER_LATITUDE = 0.0
  CENTER_LONGITUDE = 213.0
  COORDINATE_SYSTEM_NAME = PLANETOGRAPHIC
  COORDINATE_SYSTEM_TYPE = "BODY-FIXED ROTATING"
  EASTERNMOST_LONGITUDE = 213.871
  FIRST_STANDARD_PARALLEL = "N/A"
  LINE_FIRST_PIXEL = 1
  LINE_LAST_PIXEL = 55517
  LINE_PROJECTION_OFFSET = 61572.0
  MAP_PROJECTION_ROTATION = 0.0
  MAP_PROJECTION_TYPE = SINUSOIDAL
  MAP_RESOLUTION = 4741.71043093333
  MAP_SCALE = 0.0125
  MAXIMUM_LATITUDE = 12.9851
  MINIMUM_LATITUDE = 1.27705
  POSITIVE_LONGITUDE_DIRECTION = EAST
  REFERENCE_LATITUDE = "N/A"
  REFERENCE_LONGITUDE = "N/A"
  SAMPLE_FIRST_PIXEL = 1
  SAMPLE_LAST_PIXEL = 7096
  SAMPLE_PROJECTION_OFFSET = 2964.0
  SECOND_STANDARD_PARALLEL = "N/A"
  WESTERNMOST_LONGITUDE = 212.375
END_OBJECT = IMAGE_MAP_PROJECTION
END
