PDS_VERSION_ID = PDS3
/* FILE DATA ELEMENTS */
RECORD_TYPE = UNDEFINED
/* POINTERS TO DATA OBJECTS */
^IMAGE = ("H9364_0000_GR4.TIF")
/* IDENTIFICATION DATA ELEMENTS */
DATA_SET_ID = "MEX-M-HRSC-4-REFDR-MAPPROJECT-EXT3-V4.0"
DATA_SET_NAME = "MARS EXPRESS HRSC MAP PROJECTED REFDR EXTENSION3 V4.0"
DETECTOR_ID = MEX_HRSC_GREEN
EVENT_TYPE = "MARS-REGIONAL-MAPPING-Im-Fl-La"
INSTRUMENT_HOST_ID = MEX
INSTRUMENT_HOST_NAME = "MARS EXPRESS"
INSTRUMENT_ID = HRSC
INSTRUMENT_NAME = "HIGH RESOLUTION STEREO CAMERA"
MISSION_NAME = "MARS EXPRESS"
MISSION_PHASE_NAME = ME_Phase_23
PROCESSING_LEVEL_ID = 4
PRODUCT_CREATION_TIME = 2023-02-04T05:05:37.000Z
PRODUCT_ID = "H9364_0000_GR4.TIF"
RELEASE_ID = 0006
REVISION_ID = 0000
/* QUALITY DATA ELEMENTS */
DATA_QUALITY_ID = 1
DATA_QUALITY_DESC = "Data calculated based on original SPICE kernels"
/* TIME DATA ELEMENTS */
SPACECRAFT_CLOCK_START_COUNT = "1/0252477926.09054"
SPACECRAFT_CLOCK_STOP_COUNT = "1/0252478229.25831"
START_TIME = 2011-05-03T04:45:57.507Z
STOP_TIME = 2011-05-03T04:49:28.319Z
/* ORBITAL DATA ELEMENTS */
ASCENDING_NODE_LONGITUDE = 38.46
MAXIMUM_RESOLUTION = 0.0615
FOOTPRINT_POINT_LATITUDE = (4.45325,4.45682,4.4593,4.46323,4.46584 ,4.46594,4.46657,4.21641,3.9666,3.59215 ,3.34196,3.09279,2.59433,2.22142, 1.72473,0.980967,0.485977,0.232954, -0.0204735,-0.27373,-0.526624,-0.779344 ,-1.0361,-1.29507,-1.55427,-1.81295, -2.07118,-2.46768,-2.86334,-3.12713, -3.39489,-3.66473,-3.93417,-4.20324, -4.47666,-4.75178,-5.02637,-5.30058, -5.58071,-5.86085,-6.14048,-6.42326, -6.70878,-6.99381,-7.27839,-7.56244, -7.84608,-8.12941,-8.41232,-8.55358, -8.69239,-8.69873,-8.70456,-8.70829, -8.71419,-8.71436,-8.71328,-8.43073, -8.14765,-7.86418,-7.58027,-7.29602, -7.01125,-6.72606,-6.44039,-6.15727, -5.87724,-5.59703,-5.31672,-4.90455, -4.6295,-4.21829,-3.95016,-3.68066, -3.27563,-2.87908,-2.61495,-2.35049, -2.08605,-1.82757,-1.56896,-1.31003, -1.05084,-0.793619,-0.540543,-0.286782, 0.0934212,0.347048,0.597582,1.34066, 1.83642,2.08602,2.58369,3.20705,3.45671 ,3.70655,3.95652,4.20665,4.33179, 4.45325)
FOOTPRINT_POINT_LONGITUDE = (54.9412,54.6027,54.3518,53.9259, 53.6122,53.5996,53.5996,53.5952,53.5911 ,53.5846,53.5787,53.5744,53.5642, 53.5572,53.5474,53.5317,53.5205,53.5151 ,53.5095,53.5038,53.4983,53.4925, 53.4871,53.4809,53.4736,53.4667,53.4602 ,53.45,53.4405,53.4333,53.4259,53.4182, 53.4105,53.4029,53.3951,53.3867,53.3787 ,53.3707,53.3624,53.3537,53.3452, 53.3365,53.3272,53.318,53.3087,53.2996, 53.2904,53.2808,53.2711,53.2664,53.2617 ,53.7314,54.1854,54.4779,54.982,54.9982 ,55.0037,55.0007,54.9976,54.9946, 54.9918,54.9891,54.9864,54.9837,54.981, 54.9782,54.9756,54.9734,54.9712,54.9675 ,54.9654,54.9625,54.9629,54.9613, 54.9588,54.9568,54.9555,54.9542,54.9531 ,54.9518,54.9508,54.9497,54.9488, 54.9479,54.9469,54.9452,54.9443,54.944, 54.9424,54.9413,54.9421,54.9398,54.9393 ,54.9386,54.9383,54.9381,54.938,54.938, 54.938,54.9412)
ORBIT_NUMBER = 9364
ORBITAL_ECCENTRICITY = 0.577
ORBITAL_INCLINATION = 86.86
ORBITAL_SEMIMAJOR_AXIS = 8853.53
PERIAPSIS_ALTITUDE = 349.61
PERIAPSIS_ARGUMENT_ANGLE = 161.72
PERIAPSIS_TIME = 2011-05-03T04:42:29.000Z
SPACECRAFT_ORIENTATION = (0.0,-1.0,0.0)
^MEX_ORIENTATION_DESC = "MEX_ORIENTATION_DESC.TXT"
SPACECRAFT_POINTING_MODE = NADIR
^MEX_POINTING_DESC = "MEX_POINTING_DESC.TXT"
RIGHT_ASCENSION = -1e+32
DECLINATION = -1e+32
OFFSET_ANGLE = -1e+32
SPACECRAFT_SOLAR_DISTANCE = 2.09772e+08
TARGET_NAME = MARS
/* CAMERA DATA ELEMENTS */
DETECTOR_TEMPERATURE = 18.3705
FOCAL_PLANE_TEMPERATURE = 8.5833
INST_CMPRS_NAME = "DISCRETE COSINE TRANSFORMATION (DCT)"
INST_CMPRS_RATIO = 14.4441
INST_CMPRS_QUALITY = 0
INST_CMPRS_QUANTZ_TBL_ID = 0
INSTRUMENT_TEMPERATURE = 10.4184
LENS_TEMPERATURE = 9.195
MACROPIXEL_SIZE = 4
MISSING_FRAMES = 0
PIXEL_SUBSAMPLING_FLAG = N
SIGNAL_CHAIN_ID = 2
/* RADIOMETRIC DATA ELEMENTS */
BANDWIDTH = 88.0
CENTER_FILTER_WAVELENGTH = 538.0
RADIANCE_OFFSET = 0.982367
RADIANCE_SCALING_FACTOR = 0.00385242
REFLECTANCE_SCALING_FACTOR = 0.000145954
MEX:REFLECTANCE_OFFSET = 0.0372184
/* IMAGE OBJECT DEFINITIONS */
OBJECT = IMAGE
  INTERCHANGE_FORMAT = BINARY
  LINES = 15624
  LINE_SAMPLES = 2076
  SAMPLE_TYPE = UNSIGNED_INTEGER
  SAMPLE_BITS = 8
  BANDS = 1
  BAND_STORAGE_TYPE = BAND_SEQUENTIAL
  MAXIMUM = 255
  MEAN = 117.375
  MINIMUM = 1
  STANDARD_DEVIATION = 25.1677
END_OBJECT = IMAGE
/* MAP OBJECT DEFINITIONS */
OBJECT = IMAGE_MAP_PROJECTION
  ^DATA_SET_MAP_PROJECTION_CATALOG= "DSMAP.CAT"
  A_AXIS_RADIUS = 3396.0
  B_AXIS_RADIUS = 3396.0
  C_AXIS_RADIUS = 3396.0
  CENTER_LATITUDE = 0.0
  CENTER_LONGITUDE = 54.0
  COORDINATE_SYSTEM_NAME = PLANETOGRAPHIC
  COORDINATE_SYSTEM_TYPE = "BODY-FIXED ROTATING"
  EASTERNMOST_LONGITUDE = 55.0037
  FIRST_STANDARD_PARALLEL = "N/A"
  LINE_FIRST_PIXEL = 1
  LINE_LAST_PIXEL = 15624
  LINE_PROJECTION_OFFSET = 5296.125
  MAP_PROJECTION_ROTATION = 0.0
  MAP_PROJECTION_TYPE = SINUSOIDAL
  MAP_RESOLUTION = 1185.42760773333
  MAP_SCALE = 0.05
  MAXIMUM_LATITUDE = 4.46657
  MINIMUM_LATITUDE = -8.714359999999999
  POSITIVE_LONGITUDE_DIRECTION = EAST
  REFERENCE_LATITUDE = "N/A"
  REFERENCE_LONGITUDE = "N/A"
  SAMPLE_FIRST_PIXEL = 1
  SAMPLE_LAST_PIXEL = 2076
  SAMPLE_PROJECTION_OFFSET = 887.125
  SECOND_STANDARD_PARALLEL = "N/A"
  WESTERNMOST_LONGITUDE = 53.2617
END_OBJECT = IMAGE_MAP_PROJECTION
END
