PDS_VERSION_ID = PDS3
/* FILE DATA ELEMENTS */
RECORD_TYPE = UNDEFINED
/* POINTERS TO DATA OBJECTS */
^IMAGE = ("H9362_0000_ND4.TIF")
/* IDENTIFICATION DATA ELEMENTS */
DATA_SET_ID = "MEX-M-HRSC-4-REFDR-MAPPROJECT-EXT3-V4.0"
DATA_SET_NAME = "MARS EXPRESS HRSC MAP PROJECTED REFDR EXTENSION3 V4.0"
DETECTOR_ID = MEX_HRSC_NADIR
EVENT_TYPE = "MARS-REGIONAL-MAPPING-Vo"
INSTRUMENT_HOST_ID = MEX
INSTRUMENT_HOST_NAME = "MARS EXPRESS"
INSTRUMENT_ID = HRSC
INSTRUMENT_NAME = "HIGH RESOLUTION STEREO CAMERA"
MISSION_NAME = "MARS EXPRESS"
MISSION_PHASE_NAME = ME_Phase_23
PROCESSING_LEVEL_ID = 4
PRODUCT_CREATION_TIME = 2023-02-04T05:05:37.000Z
PRODUCT_ID = "H9362_0000_ND4.TIF"
RELEASE_ID = 0006
REVISION_ID = 0000
/* QUALITY DATA ELEMENTS */
DATA_QUALITY_ID = 1
DATA_QUALITY_DESC = "Data calculated based on original SPICE kernels"
/* TIME DATA ELEMENTS */
SPACECRAFT_CLOCK_START_COUNT = "1/0252427482.09050"
SPACECRAFT_CLOCK_STOP_COUNT = "1/0252427671.01134"
START_TIME = 2011-05-02T14:45:17.176Z
STOP_TIME = 2011-05-02T14:47:13.193Z
/* ORBITAL DATA ELEMENTS */
ASCENDING_NODE_LONGITUDE = 38.5
MAXIMUM_RESOLUTION = 0.0143
FOOTPRINT_POINT_LATITUDE = (10.0157,10.017,10.0181,10.0192,10.0201 ,10.0209,10.0218,10.0218,10.0208, 9.75695,9.49315,9.22947,8.96589,8.70242 ,8.43909,8.17591,7.91288,7.68243, 7.52563,7.36887,7.21218,7.05554,6.89897 ,6.74246,6.586,6.42962,6.27329,6.11702, 5.96082,5.8047,5.64864,5.49264,5.33671, 5.18085,5.02506,4.86934,4.7137,4.55812, 4.40262,4.24719,4.09184,3.93656,3.78136 ,3.62624,3.4712,3.31624,3.00654,2.69717 ,2.61988,2.6144,2.61117,2.6096,2.60776, 2.60616,2.60415,2.60214,2.60201,2.6022, 2.91175,3.06665,3.22163,3.37669,3.53182 ,3.68704,3.84233,3.9977,4.15314,4.30867 ,4.46426,4.61993,4.77567,4.93148, 5.08737,5.24332,5.39935,5.55544,5.7116, 5.86783,6.02413,6.18048,6.33691,6.49339 ,6.64994,6.80656,6.96323,7.11997, 7.27677,7.43362,7.59053,7.90052,8.16377 ,8.42718,8.69073,8.95443,9.21826, 9.48224,9.74634,9.94451,10.0106, 10.0157)
FOOTPRINT_POINT_LONGITUDE = (258.916,258.716,258.514,258.311, 258.107,257.901,257.641,257.628,257.649 ,257.643,257.638,257.633,257.63,257.628 ,257.625,257.623,257.62,257.617,257.615 ,257.614,257.612,257.61,257.608,257.606 ,257.604,257.602,257.601,257.599, 257.597,257.594,257.592,257.59,257.588, 257.586,257.583,257.581,257.578,257.576 ,257.574,257.571,257.569,257.566, 257.563,257.561,257.558,257.555,257.549 ,257.544,257.542,257.542,257.914, 258.092,258.295,258.471,258.686,258.9, 258.913,258.92,258.919,258.919,258.919, 258.918,258.918,258.918,258.918,258.917 ,258.917,258.917,258.917,258.917, 258.916,258.916,258.916,258.916,258.916 ,258.916,258.916,258.915,258.915, 258.915,258.915,258.915,258.915,258.915 ,258.915,258.915,258.915,258.915, 258.915,258.915,258.915,258.915,258.915 ,258.915,258.915,258.915,258.915, 258.915,258.915,258.916)
ORBIT_NUMBER = 9362
ORBITAL_ECCENTRICITY = 0.578
ORBITAL_INCLINATION = 86.85
ORBITAL_SEMIMAJOR_AXIS = 8861.85
PERIAPSIS_ALTITUDE = 349.32
PERIAPSIS_ARGUMENT_ANGLE = 162.05
PERIAPSIS_TIME = 2011-05-02T14:43:14.000Z
SPACECRAFT_ORIENTATION = (0.0,-1.0,0.0)
^MEX_ORIENTATION_DESC = "MEX_ORIENTATION_DESC.TXT"
SPACECRAFT_POINTING_MODE = ACROSSTRACK
^MEX_POINTING_DESC = "MEX_POINTING_DESC.TXT"
RIGHT_ASCENSION = -1e+32
DECLINATION = -1e+32
OFFSET_ANGLE = -0.58
SPACECRAFT_SOLAR_DISTANCE = 2.09708e+08
TARGET_NAME = MARS
/* CAMERA DATA ELEMENTS */
DETECTOR_TEMPERATURE = 18.3705
FOCAL_PLANE_TEMPERATURE = 8.7872
INST_CMPRS_NAME = "DISCRETE COSINE TRANSFORMATION (DCT)"
INST_CMPRS_RATIO = 4.60591
INST_CMPRS_QUALITY = 0
INST_CMPRS_QUANTZ_TBL_ID = 0
INSTRUMENT_TEMPERATURE = 11.234
LENS_TEMPERATURE = 9.195
MACROPIXEL_SIZE = 1
MISSING_FRAMES = 0
PIXEL_SUBSAMPLING_FLAG = N
SIGNAL_CHAIN_ID = 0
/* RADIOMETRIC DATA ELEMENTS */
BANDWIDTH = 177.0
CENTER_FILTER_WAVELENGTH = 677.5
RADIANCE_OFFSET = 2.53102
RADIANCE_SCALING_FACTOR = 0.0184332
REFLECTANCE_SCALING_FACTOR = 0.000430639
MEX:REFLECTANCE_OFFSET = 0.0591301
/* IMAGE OBJECT DEFINITIONS */
OBJECT = IMAGE
  INTERCHANGE_FORMAT = BINARY
  LINES = 35180
  LINE_SAMPLES = 6526
  SAMPLE_TYPE = UNSIGNED_INTEGER
  SAMPLE_BITS = 8
  BANDS = 1
  BAND_STORAGE_TYPE = BAND_SEQUENTIAL
  MAXIMUM = 255
  MEAN = 123.202
  MINIMUM = 1
  STANDARD_DEVIATION = 21.7122
END_OBJECT = IMAGE
/* MAP OBJECT DEFINITIONS */
OBJECT = IMAGE_MAP_PROJECTION
  ^DATA_SET_MAP_PROJECTION_CATALOG= "DSMAP.CAT"
  A_AXIS_RADIUS = 3396.0
  B_AXIS_RADIUS = 3396.0
  C_AXIS_RADIUS = 3396.0
  CENTER_LATITUDE = 0.0
  CENTER_LONGITUDE = 258.0
  COORDINATE_SYSTEM_NAME = PLANETOGRAPHIC
  COORDINATE_SYSTEM_TYPE = "BODY-FIXED ROTATING"
  EASTERNMOST_LONGITUDE = 258.92
  FIRST_STANDARD_PARALLEL = "N/A"
  LINE_FIRST_PIXEL = 1
  LINE_LAST_PIXEL = 35180
  LINE_PROJECTION_OFFSET = 47517.0
  MAP_PROJECTION_ROTATION = 0.0
  MAP_PROJECTION_TYPE = SINUSOIDAL
  MAP_RESOLUTION = 4741.71043093333
  MAP_SCALE = 0.0125
  MAXIMUM_LATITUDE = 10.0218
  MINIMUM_LATITUDE = 2.60201
  POSITIVE_LONGITUDE_DIRECTION = EAST
  REFERENCE_LATITUDE = "N/A"
  REFERENCE_LONGITUDE = "N/A"
  SAMPLE_FIRST_PIXEL = 1
  SAMPLE_LAST_PIXEL = 6526
  SAMPLE_PROJECTION_OFFSET = 2168.0
  SECOND_STANDARD_PARALLEL = "N/A"
  WESTERNMOST_LONGITUDE = 257.542
END_OBJECT = IMAGE_MAP_PROJECTION
END
