PDS_VERSION_ID = PDS3
/* FILE DATA ELEMENTS */
RECORD_TYPE = UNDEFINED
/* POINTERS TO DATA OBJECTS */
^IMAGE = ("H9360_0000_S14.TIF")
/* IDENTIFICATION DATA ELEMENTS */
DATA_SET_ID = "MEX-M-HRSC-4-REFDR-MAPPROJECT-EXT3-V4.0"
DATA_SET_NAME = "MARS EXPRESS HRSC MAP PROJECTED REFDR EXTENSION3 V4.0"
DETECTOR_ID = MEX_HRSC_S1
EVENT_TYPE = "MARS-REGIONAL-MAPPING-Im-Fl"
INSTRUMENT_HOST_ID = MEX
INSTRUMENT_HOST_NAME = "MARS EXPRESS"
INSTRUMENT_ID = HRSC
INSTRUMENT_NAME = "HIGH RESOLUTION STEREO CAMERA"
MISSION_NAME = "MARS EXPRESS"
MISSION_PHASE_NAME = ME_Phase_23
PROCESSING_LEVEL_ID = 4
PRODUCT_CREATION_TIME = 2023-02-04T05:05:37.000Z
PRODUCT_ID = "H9360_0000_S14.TIF"
RELEASE_ID = 0006
REVISION_ID = 0000
/* QUALITY DATA ELEMENTS */
DATA_QUALITY_ID = 1
DATA_QUALITY_DESC = "Data calculated based on original SPICE kernels"
/* TIME DATA ELEMENTS */
SPACECRAFT_CLOCK_START_COUNT = "1/0252377173.07304"
SPACECRAFT_CLOCK_STOP_COUNT = "1/0252377457.47402"
START_TIME = 2011-05-02T00:46:16.049Z
STOP_TIME = 2011-05-02T00:49:27.926Z
/* ORBITAL DATA ELEMENTS */
ASCENDING_NODE_LONGITUDE = 38.54
MAXIMUM_RESOLUTION = 0.0312
FOOTPRINT_POINT_LATITUDE = (6.29656,6.30121,6.30442,6.30578,6.3058 ,6.29552,5.76529,5.34158,4.91767, 4.67421,4.4209,4.16747,3.91519,3.53739, 3.28626,3.03323,2.77854,2.52654,2.27396 ,2.02321,1.76871,1.50964,1.25759, 0.882509,0.630102,0.378139,0.0011673, -0.251063,-0.494471,-0.747807,-1.12729, -1.38153,-1.7591,-2.01212,-2.26341, -2.65002,-2.90812,-3.16722,-3.55412, -3.81706,-4.08222,-4.34799,-4.74535, -5.14663,-5.41734,-5.82361,-6.09279, -6.23275,-6.25434,-6.25595,-6.26, -6.27008,-6.27509,-6.2753,-6.27483, -5.86414,-5.59439,-5.3221,-5.05238, -4.78989,-4.5183,-4.25525,-3.98947, -3.72512,-3.46554,-3.20812,-2.94955, -2.69042,-2.43152,-2.05196,-1.79742, -1.54509,-1.29324,-1.04012,-0.66155, -0.409129,-0.160112,0.0984602,0.351144, 0.603523,0.980998,1.23293,1.60977, 1.86219,2.11617,2.37113,2.61547,2.86845 ,3.12912,3.50649,3.75917,4.01252, 4.26662,4.64504,4.99794,5.4226,5.84652, 6.16482,6.27053,6.29656)
FOOTPRINT_POINT_LONGITUDE = (104.075,103.627,103.166,102.804, 102.791,102.784,102.777,102.771,102.765 ,102.762,102.758,102.754,102.75,102.744 ,102.741,102.736,102.732,102.727, 102.723,102.719,102.714,102.707,102.703 ,102.697,102.692,102.687,102.68,102.675 ,102.672,102.666,102.658,102.652, 102.643,102.637,102.632,102.623,102.617 ,102.61,102.601,102.594,102.588,102.58, 102.57,102.56,102.553,102.542,102.535, 102.53,102.53,102.847,103.255,103.769, 104.072,104.087,104.092,104.09,104.088, 104.087,104.086,104.086,104.083,104.082 ,104.081,104.08,104.079,104.079,104.078 ,104.077,104.076,104.076,104.075, 104.074,104.074,104.073,104.072,104.072 ,104.073,104.071,104.07,104.07,104.071, 104.071,104.072,104.072,104.072,104.071 ,104.074,104.074,104.072,104.073, 104.073,104.074,104.074,104.075,104.075 ,104.076,104.077,104.078,104.078, 104.075)
ORBIT_NUMBER = 9360
ORBITAL_ECCENTRICITY = 0.577
ORBITAL_INCLINATION = 86.85
ORBITAL_SEMIMAJOR_AXIS = 8854.05
PERIAPSIS_ALTITUDE = 348.96
PERIAPSIS_ARGUMENT_ANGLE = 162.38
PERIAPSIS_TIME = 2011-05-02T00:43:54.000Z
SPACECRAFT_ORIENTATION = (0.0,-1.0,0.0)
^MEX_ORIENTATION_DESC = "MEX_ORIENTATION_DESC.TXT"
SPACECRAFT_POINTING_MODE = NADIR
^MEX_POINTING_DESC = "MEX_POINTING_DESC.TXT"
RIGHT_ASCENSION = -1e+32
DECLINATION = -1e+32
OFFSET_ANGLE = -1e+32
SPACECRAFT_SOLAR_DISTANCE = 2.09644e+08
TARGET_NAME = MARS
/* CAMERA DATA ELEMENTS */
DETECTOR_TEMPERATURE = 17.5549
FOCAL_PLANE_TEMPERATURE = 8.5833
INST_CMPRS_NAME = "DISCRETE COSINE TRANSFORMATION (DCT)"
INST_CMPRS_RATIO = 6.76756
INST_CMPRS_QUALITY = 0
INST_CMPRS_QUANTZ_TBL_ID = 0
INSTRUMENT_TEMPERATURE = 11.234
LENS_TEMPERATURE = 8.9911
MACROPIXEL_SIZE = 2
MISSING_FRAMES = 0
PIXEL_SUBSAMPLING_FLAG = N
SIGNAL_CHAIN_ID = 1
/* RADIOMETRIC DATA ELEMENTS */
BANDWIDTH = 180.0
CENTER_FILTER_WAVELENGTH = 677.0
RADIANCE_OFFSET = 3.3054
RADIANCE_SCALING_FACTOR = 0.0120909
REFLECTANCE_SCALING_FACTOR = 0.000277248
MEX:REFLECTANCE_OFFSET = 0.0757937
/* IMAGE OBJECT DEFINITIONS */
OBJECT = IMAGE
  INTERCHANGE_FORMAT = BINARY
  LINES = 29850
  LINE_SAMPLES = 3871
  SAMPLE_TYPE = UNSIGNED_INTEGER
  SAMPLE_BITS = 8
  BANDS = 1
  BAND_STORAGE_TYPE = BAND_SEQUENTIAL
  MAXIMUM = 255
  MEAN = 115.997
  MINIMUM = 1
  STANDARD_DEVIATION = 24.1216
END_OBJECT = IMAGE
/* MAP OBJECT DEFINITIONS */
OBJECT = IMAGE_MAP_PROJECTION
  ^DATA_SET_MAP_PROJECTION_CATALOG= "DSMAP.CAT"
  A_AXIS_RADIUS = 3396.0
  B_AXIS_RADIUS = 3396.0
  C_AXIS_RADIUS = 3396.0
  CENTER_LATITUDE = 0.0
  CENTER_LONGITUDE = 103.0
  COORDINATE_SYSTEM_NAME = PLANETOGRAPHIC
  COORDINATE_SYSTEM_TYPE = "BODY-FIXED ROTATING"
  EASTERNMOST_LONGITUDE = 104.092
  FIRST_STANDARD_PARALLEL = "N/A"
  LINE_FIRST_PIXEL = 1
  LINE_LAST_PIXEL = 29850
  LINE_PROJECTION_OFFSET = 14971.25
  MAP_PROJECTION_ROTATION = 0.0
  MAP_PROJECTION_TYPE = SINUSOIDAL
  MAP_RESOLUTION = 2370.85521546667
  MAP_SCALE = 0.025
  MAXIMUM_LATITUDE = 6.3058
  MINIMUM_LATITUDE = -6.2753
  POSITIVE_LONGITUDE_DIRECTION = EAST
  REFERENCE_LATITUDE = "N/A"
  REFERENCE_LONGITUDE = "N/A"
  SAMPLE_FIRST_PIXEL = 1
  SAMPLE_LAST_PIXEL = 3871
  SAMPLE_PROJECTION_OFFSET = 1204.25
  SECOND_STANDARD_PARALLEL = "N/A"
  WESTERNMOST_LONGITUDE = 102.53
END_OBJECT = IMAGE_MAP_PROJECTION
END
