PDS_VERSION_ID = PDS3
/* FILE DATA ELEMENTS */
RECORD_TYPE = UNDEFINED
/* POINTERS TO DATA OBJECTS */
^IMAGE = ("H9357_0000_P14.TIF")
/* IDENTIFICATION DATA ELEMENTS */
DATA_SET_ID = "MEX-M-HRSC-4-REFDR-MAPPROJECT-EXT3-V4.0"
DATA_SET_NAME = "MARS EXPRESS HRSC MAP PROJECTED REFDR EXTENSION3 V4.0"
DETECTOR_ID = MEX_HRSC_P1
EVENT_TYPE = "MARS-REGIONAL-MAPPING-Im-Fl"
INSTRUMENT_HOST_ID = MEX
INSTRUMENT_HOST_NAME = "MARS EXPRESS"
INSTRUMENT_ID = HRSC
INSTRUMENT_NAME = "HIGH RESOLUTION STEREO CAMERA"
MISSION_NAME = "MARS EXPRESS"
MISSION_PHASE_NAME = ME_Phase_23
PROCESSING_LEVEL_ID = 4
PRODUCT_CREATION_TIME = 2023-02-04T05:05:37.000Z
PRODUCT_ID = "H9357_0000_P14.TIF"
RELEASE_ID = 0006
REVISION_ID = 0000
/* QUALITY DATA ELEMENTS */
DATA_QUALITY_ID = 1
DATA_QUALITY_DESC = "Data calculated based on original SPICE kernels"
/* TIME DATA ELEMENTS */
SPACECRAFT_CLOCK_START_COUNT = "1/0252301502.09048"
SPACECRAFT_CLOCK_STOP_COUNT = "1/0252301733.39110"
START_TIME = 2011-05-01T03:45:15.975Z
STOP_TIME = 2011-05-01T03:47:55.936Z
/* ORBITAL DATA ELEMENTS */
ASCENDING_NODE_LONGITUDE = 38.6
MAXIMUM_RESOLUTION = 0.0572
FOOTPRINT_POINT_LATITUDE = (14.7288,14.7305,14.732,14.7327,14.7325 ,14.7325,14.7305,14.4239,14.2194, 14.0148,13.8105,13.6058,13.2987,13.0944 ,12.8895,12.6842,12.4789,12.0708, 11.8654,11.6558,11.4494,11.2439,11.0388 ,10.834,10.4309,10.2264,10.0203,9.81457 ,9.60947,9.40274,9.09571,8.89058, 8.68512,8.37758,8.17218,7.76298,7.45353 ,7.14688,6.94136,6.73639,6.531,6.32562, 6.12122,5.91579,5.70892,5.50306,5.0953, 4.85506,4.48718,4.36521,4.31381,4.31132 ,4.30942,4.30588,4.30288,4.30274, 4.30362,4.6712,4.91627,5.14459,5.34982, 5.5553,5.86315,6.17149,6.37712,6.78511, 6.9939,7.19916,7.50701,7.81508,8.12273, 8.32797,8.53351,8.84166,9.1505,9.35658, 9.56087,9.86936,10.0763,10.2824,10.6853 ,10.8897,11.0977,11.4094,11.6143, 11.8188,12.0235,12.2282,12.4331,12.6375 ,12.8424,13.1494,13.3542,13.5587, 13.7632,14.0699,14.275,14.5823,14.6848, 14.7288)
FOOTPRINT_POINT_LONGITUDE = (50.9608,50.7038,50.4001,50.0734, 49.7229,49.7112,49.7077,49.7073,49.7069 ,49.7064,49.706,49.7054,49.7044,49.7039 ,49.7031,49.702,49.7008,49.6997,49.6984 ,49.6951,49.6932,49.6917,49.6904, 49.6891,49.6896,49.6884,49.6863,49.6844 ,49.6827,49.6802,49.6778,49.6759, 49.6738,49.6709,49.6687,49.6649,49.6606 ,49.6576,49.655,49.6526,49.6499,49.6472 ,49.6449,49.642,49.6384,49.6352,49.6305 ,49.6268,49.6208,49.6191,49.6183, 50.0055,50.2843,50.6361,50.9031,50.9153 ,50.9194,50.9197,50.9199,50.9203, 50.9206,50.9209,50.9216,50.9221,50.9224 ,50.9247,50.9236,50.9243,50.9253, 50.9263,50.9275,50.9283,50.9289,50.93, 50.9309,50.9314,50.9327,50.9338,50.9339 ,50.9345,50.94,50.9413,50.941,50.9408, 50.9419,50.9433,50.9445,50.9458,50.947, 50.9484,50.9496,50.9516,50.9528,50.9542 ,50.9556,50.9576,50.9587,50.9604,50.961 ,50.9608)
ORBIT_NUMBER = 9357
ORBITAL_ECCENTRICITY = 0.577
ORBITAL_INCLINATION = 86.85
ORBITAL_SEMIMAJOR_AXIS = 8854.95
PERIAPSIS_ALTITUDE = 348.88
PERIAPSIS_ARGUMENT_ANGLE = 162.94
PERIAPSIS_TIME = 2011-05-01T03:45:00.000Z
SPACECRAFT_ORIENTATION = (0.0,-1.0,0.0)
^MEX_ORIENTATION_DESC = "MEX_ORIENTATION_DESC.TXT"
SPACECRAFT_POINTING_MODE = NADIR
^MEX_POINTING_DESC = "MEX_POINTING_DESC.TXT"
RIGHT_ASCENSION = -1e+32
DECLINATION = -1e+32
OFFSET_ANGLE = -1e+32
SPACECRAFT_SOLAR_DISTANCE = 2.0955e+08
TARGET_NAME = MARS
/* CAMERA DATA ELEMENTS */
DETECTOR_TEMPERATURE = 17.5549
FOCAL_PLANE_TEMPERATURE = 8.5833
INST_CMPRS_NAME = "DISCRETE COSINE TRANSFORMATION (DCT)"
INST_CMPRS_RATIO = 13.6055
INST_CMPRS_QUALITY = 0
INST_CMPRS_QUANTZ_TBL_ID = 0
INSTRUMENT_TEMPERATURE = 11.234
LENS_TEMPERATURE = 8.7872
MACROPIXEL_SIZE = 4
MISSING_FRAMES = 0
PIXEL_SUBSAMPLING_FLAG = N
SIGNAL_CHAIN_ID = 3
/* RADIOMETRIC DATA ELEMENTS */
BANDWIDTH = 174.0
CENTER_FILTER_WAVELENGTH = 675.0
RADIANCE_OFFSET = 2.78882
RADIANCE_SCALING_FACTOR = 0.0127435
REFLECTANCE_SCALING_FACTOR = 0.000300988
MEX:REFLECTANCE_OFFSET = 0.0658692
/* IMAGE OBJECT DEFINITIONS */
OBJECT = IMAGE
  INTERCHANGE_FORMAT = BINARY
  LINES = 12382
  LINE_SAMPLES = 1575
  SAMPLE_TYPE = UNSIGNED_INTEGER
  SAMPLE_BITS = 8
  BANDS = 1
  BAND_STORAGE_TYPE = BAND_SEQUENTIAL
  MAXIMUM = 255
  MEAN = 99.0551
  MINIMUM = 1
  STANDARD_DEVIATION = 32.151
END_OBJECT = IMAGE
/* MAP OBJECT DEFINITIONS */
OBJECT = IMAGE_MAP_PROJECTION
  ^DATA_SET_MAP_PROJECTION_CATALOG= "DSMAP.CAT"
  A_AXIS_RADIUS = 3396.0
  B_AXIS_RADIUS = 3396.0
  C_AXIS_RADIUS = 3396.0
  CENTER_LATITUDE = 0.0
  CENTER_LONGITUDE = 50.0
  COORDINATE_SYSTEM_NAME = PLANETOGRAPHIC
  COORDINATE_SYSTEM_TYPE = "BODY-FIXED ROTATING"
  EASTERNMOST_LONGITUDE = 50.961
  FIRST_STANDARD_PARALLEL = "N/A"
  LINE_FIRST_PIXEL = 1
  LINE_LAST_PIXEL = 12382
  LINE_PROJECTION_OFFSET = 17467.375
  MAP_PROJECTION_ROTATION = 0.0
  MAP_PROJECTION_TYPE = SINUSOIDAL
  MAP_RESOLUTION = 1185.42760773333
  MAP_SCALE = 0.05
  MAXIMUM_LATITUDE = 14.7327
  MINIMUM_LATITUDE = 4.30274
  POSITIVE_LONGITUDE_DIRECTION = EAST
  REFERENCE_LATITUDE = "N/A"
  REFERENCE_LONGITUDE = "N/A"
  SAMPLE_FIRST_PIXEL = 1
  SAMPLE_LAST_PIXEL = 1575
  SAMPLE_PROJECTION_OFFSET = 471.625
  SECOND_STANDARD_PARALLEL = "N/A"
  WESTERNMOST_LONGITUDE = 49.6183
END_OBJECT = IMAGE_MAP_PROJECTION
END
