PDS_VERSION_ID = PDS3
/* FILE DATA ELEMENTS */
RECORD_TYPE = UNDEFINED
/* POINTERS TO DATA OBJECTS */
^IMAGE = ("H9357_0000_BL4.TIF")
/* IDENTIFICATION DATA ELEMENTS */
DATA_SET_ID = "MEX-M-HRSC-4-REFDR-MAPPROJECT-EXT3-V4.0"
DATA_SET_NAME = "MARS EXPRESS HRSC MAP PROJECTED REFDR EXTENSION3 V4.0"
DETECTOR_ID = MEX_HRSC_BLUE
EVENT_TYPE = "MARS-REGIONAL-MAPPING-Im-Fl"
INSTRUMENT_HOST_ID = MEX
INSTRUMENT_HOST_NAME = "MARS EXPRESS"
INSTRUMENT_ID = HRSC
INSTRUMENT_NAME = "HIGH RESOLUTION STEREO CAMERA"
MISSION_NAME = "MARS EXPRESS"
MISSION_PHASE_NAME = ME_Phase_23
PROCESSING_LEVEL_ID = 4
PRODUCT_CREATION_TIME = 2023-02-04T05:05:37.000Z
PRODUCT_ID = "H9357_0000_BL4.TIF"
RELEASE_ID = 0006
REVISION_ID = 0000
/* QUALITY DATA ELEMENTS */
DATA_QUALITY_ID = 1
DATA_QUALITY_DESC = "Data calculated based on original SPICE kernels"
/* TIME DATA ELEMENTS */
SPACECRAFT_CLOCK_START_COUNT = "1/0252301502.09048"
SPACECRAFT_CLOCK_STOP_COUNT = "1/0252301733.39110"
START_TIME = 2011-05-01T03:45:41.689Z
STOP_TIME = 2011-05-01T03:48:24.353Z
/* ORBITAL DATA ELEMENTS */
ASCENDING_NODE_LONGITUDE = 38.6
MAXIMUM_RESOLUTION = 0.0559
FOOTPRINT_POINT_LATITUDE = (14.7334,14.7346,14.7361,14.737,14.7383 ,14.7383,14.7378,14.4345,14.2324, 14.0303,13.8282,13.6262,13.4243,13.2224 ,12.9195,12.7179,12.5164,12.3146, 12.0119,11.8107,11.6107,11.3091,11.1079 ,10.8062,10.6043,10.3015,10.1006, 9.90023,9.69962,9.39924,9.19852,8.99824 ,8.79117,8.59104,8.3909,8.19103,7.99115 ,7.79116,7.39214,6.99334,6.78454, 6.54696,6.30959,5.95353,5.71718,5.48064 ,5.24366,5.0067,4.77054,4.53458,4.41677 ,4.30068,4.2989,4.29658,4.2936,4.28953, 4.28943,4.2904,4.52639,4.76252,4.99898, 5.23556,5.47228,5.70924,5.94639,6.30222 ,6.53966,6.887,7.28491,7.6843,8.18419, 8.48434,8.6845,8.89155,9.19199,9.39231, 9.59322,9.79411,9.99436,10.195,10.3971, 10.599,10.8005,11.2012,11.4027,11.705, 11.9068,12.1084,12.3102,12.5121,12.714, 13.017,13.219,13.421,13.6232,13.9265, 14.2298,14.5332,14.6343,14.7334)
FOOTPRINT_POINT_LONGITUDE = (50.9615,50.7512,50.4475,50.2256, 49.7234,49.7117,49.7081,49.7074,49.7068 ,49.7061,49.7054,49.7046,49.7037, 49.7027,49.7015,49.7002,49.6988,49.6979 ,49.6966,49.6948,49.6912,49.6884, 49.6868,49.6845,49.6842,49.684,49.6821, 49.6797,49.6777,49.6741,49.6725,49.6703 ,49.6681,49.6658,49.6637,49.6613, 49.6589,49.6569,49.6516,49.6465,49.6437 ,49.6404,49.6369,49.6321,49.6275, 49.6235,49.6203,49.6173,49.6133,49.6092 ,49.6069,49.6052,49.815,50.0874,50.4464 ,50.9174,50.9298,50.934,50.9338,50.9336 ,50.9337,50.9337,50.9337,50.9338, 50.9339,50.9339,50.9339,50.9358,50.9348 ,50.9356,50.9369,50.9375,50.9379, 50.9383,50.9387,50.9389,50.9399,50.9407 ,50.9404,50.9406,50.943,50.9451,50.9465 ,50.9448,50.9457,50.9471,50.9482, 50.9491,50.9501,50.9511,50.9521,50.9537 ,50.9546,50.9556,50.9567,50.9583, 50.9598,50.9612,50.9616,50.9615)
ORBIT_NUMBER = 9357
ORBITAL_ECCENTRICITY = 0.577
ORBITAL_INCLINATION = 86.85
ORBITAL_SEMIMAJOR_AXIS = 8854.95
PERIAPSIS_ALTITUDE = 348.88
PERIAPSIS_ARGUMENT_ANGLE = 162.94
PERIAPSIS_TIME = 2011-05-01T03:45:00.000Z
SPACECRAFT_ORIENTATION = (0.0,-1.0,0.0)
^MEX_ORIENTATION_DESC = "MEX_ORIENTATION_DESC.TXT"
SPACECRAFT_POINTING_MODE = NADIR
^MEX_POINTING_DESC = "MEX_POINTING_DESC.TXT"
RIGHT_ASCENSION = -1e+32
DECLINATION = -1e+32
OFFSET_ANGLE = -1e+32
SPACECRAFT_SOLAR_DISTANCE = 2.0955e+08
TARGET_NAME = MARS
/* CAMERA DATA ELEMENTS */
DETECTOR_TEMPERATURE = 18.3705
FOCAL_PLANE_TEMPERATURE = 8.5833
INST_CMPRS_NAME = "DISCRETE COSINE TRANSFORMATION (DCT)"
INST_CMPRS_RATIO = 4.8319
INST_CMPRS_QUALITY = 0
INST_CMPRS_QUANTZ_TBL_ID = 0
INSTRUMENT_TEMPERATURE = 11.234
LENS_TEMPERATURE = 8.7872
MACROPIXEL_SIZE = 4
MISSING_FRAMES = 1
PIXEL_SUBSAMPLING_FLAG = N
SIGNAL_CHAIN_ID = 2
/* RADIOMETRIC DATA ELEMENTS */
BANDWIDTH = 76.0
CENTER_FILTER_WAVELENGTH = 444.0
RADIANCE_OFFSET = 0.384886
RADIANCE_SCALING_FACTOR = 0.00124753
REFLECTANCE_SCALING_FACTOR = 5.62839e-05
MEX:REFLECTANCE_OFFSET = 0.0173646
/* IMAGE OBJECT DEFINITIONS */
OBJECT = IMAGE
  INTERCHANGE_FORMAT = BINARY
  LINES = 12382
  LINE_SAMPLES = 1575
  SAMPLE_TYPE = UNSIGNED_INTEGER
  SAMPLE_BITS = 8
  BANDS = 1
  BAND_STORAGE_TYPE = BAND_SEQUENTIAL
  MAXIMUM = 255
  MEAN = 119.231
  MINIMUM = 1
  STANDARD_DEVIATION = 29.0851
END_OBJECT = IMAGE
/* MAP OBJECT DEFINITIONS */
OBJECT = IMAGE_MAP_PROJECTION
  ^DATA_SET_MAP_PROJECTION_CATALOG= "DSMAP.CAT"
  A_AXIS_RADIUS = 3396.0
  B_AXIS_RADIUS = 3396.0
  C_AXIS_RADIUS = 3396.0
  CENTER_LATITUDE = 0.0
  CENTER_LONGITUDE = 50.0
  COORDINATE_SYSTEM_NAME = PLANETOGRAPHIC
  COORDINATE_SYSTEM_TYPE = "BODY-FIXED ROTATING"
  EASTERNMOST_LONGITUDE = 50.9616
  FIRST_STANDARD_PARALLEL = "N/A"
  LINE_FIRST_PIXEL = 1
  LINE_LAST_PIXEL = 12382
  LINE_PROJECTION_OFFSET = 17467.375
  MAP_PROJECTION_ROTATION = 0.0
  MAP_PROJECTION_TYPE = SINUSOIDAL
  MAP_RESOLUTION = 1185.42760773333
  MAP_SCALE = 0.05
  MAXIMUM_LATITUDE = 14.7383
  MINIMUM_LATITUDE = 4.28943
  POSITIVE_LONGITUDE_DIRECTION = EAST
  REFERENCE_LATITUDE = "N/A"
  REFERENCE_LONGITUDE = "N/A"
  SAMPLE_FIRST_PIXEL = 1
  SAMPLE_LAST_PIXEL = 1575
  SAMPLE_PROJECTION_OFFSET = 471.625
  SECOND_STANDARD_PARALLEL = "N/A"
  WESTERNMOST_LONGITUDE = 49.6052
END_OBJECT = IMAGE_MAP_PROJECTION
END
