PDS_VERSION_ID = PDS3
/* FILE DATA ELEMENTS */
RECORD_TYPE = UNDEFINED
/* POINTERS TO DATA OBJECTS */
^IMAGE = ("H9353_0000_ND4.TIF")
/* IDENTIFICATION DATA ELEMENTS */
DATA_SET_ID = "MEX-M-HRSC-4-REFDR-MAPPROJECT-EXT3-V4.0"
DATA_SET_NAME = "MARS EXPRESS HRSC MAP PROJECTED REFDR EXTENSION3 V4.0"
DETECTOR_ID = MEX_HRSC_NADIR
EVENT_TYPE = "MARS-REGIONAL-MAPPING-Im-Fl"
INSTRUMENT_HOST_ID = MEX
INSTRUMENT_HOST_NAME = "MARS EXPRESS"
INSTRUMENT_ID = HRSC
INSTRUMENT_NAME = "HIGH RESOLUTION STEREO CAMERA"
MISSION_NAME = "MARS EXPRESS"
MISSION_PHASE_NAME = ME_Phase_23
PROCESSING_LEVEL_ID = 4
PRODUCT_CREATION_TIME = 2023-02-04T05:05:37.000Z
PRODUCT_ID = "H9353_0000_ND4.TIF"
RELEASE_ID = 0006
REVISION_ID = 0000
/* QUALITY DATA ELEMENTS */
DATA_QUALITY_ID = 1
DATA_QUALITY_DESC = "Data calculated based on original SPICE kernels"
/* TIME DATA ELEMENTS */
SPACECRAFT_CLOCK_START_COUNT = "1/0252200928.08236"
SPACECRAFT_CLOCK_STOP_COUNT = "1/0252201221.12534"
START_TIME = 2011-04-29T23:49:24.311Z
STOP_TIME = 2011-04-29T23:52:15.003Z
/* ORBITAL DATA ELEMENTS */
ASCENDING_NODE_LONGITUDE = 38.68
MAXIMUM_RESOLUTION = 0.0151
FOOTPRINT_POINT_LATITUDE = (4.57362,4.57731,4.58004,4.58174, 4.58404,4.58413,4.58397,4.38122,4.17858 ,3.97625,3.77395,3.57176,3.36967, 3.16771,2.96584,2.7641,2.56251,2.36103, 2.05898,1.6567,1.25507,0.854029, 0.453529,0.0535528,-0.345804,-0.74456, -1.14268,-1.3461,-1.55013,-1.75402, -1.95766,-2.16119,-2.36458,-2.57084, -2.77911,-2.98722,-3.19517,-3.40293, -3.61051,-3.9281,-4.14047,-4.35263, -4.56458,-4.77633,-4.99312,-5.32224, -5.63955,-6.07759,-6.11657,-6.11898, -6.12264,-6.12491,-6.12759,-6.13273, -6.13287,-6.13266,-5.6892,-5.3611, -5.14455,-4.92346,-4.70852,-4.49659, -4.28444,-4.0721,-3.85956,-3.64753, -3.43987,-3.232,-3.02394,-2.81571, -2.6073,-2.40046,-2.19705,-1.99344, -1.78968,-1.58573,-1.38155,-1.17738, -0.779072,-0.380156,0.0193553,0.419499, 0.820194,1.22139,1.52279,1.92503, 2.12624,2.32776,2.52939,2.73115,2.93297 ,3.13489,3.33697,3.5392,3.74156,3.94398 ,4.1465,4.45071,4.55211,4.57362)
FOOTPRINT_POINT_LONGITUDE = (100.093,99.6647,99.327,99.1063,98.7943 ,98.7813,98.7744,98.7725,98.7703, 98.7652,98.7612,98.7574,98.7537,98.75, 98.7466,98.7432,98.7393,98.7356,98.7311 ,98.7252,98.7172,98.7085,98.7001, 98.6923,98.6838,98.6753,98.6662,98.6616 ,98.6569,98.6525,98.6469,98.6421,98.638 ,98.634,98.628,98.6223,98.617,98.6118, 98.6067,98.5976,98.5919,98.5862,98.5806 ,98.5748,98.5687,98.56,98.5516,98.5389, 98.5376,98.7418,99.0707,99.2896,99.5562 ,100.106,100.121,100.129,100.127, 100.123,100.122,100.12,100.119,100.117, 100.116,100.114,100.112,100.111,100.11, 100.109,100.109,100.108,100.107,100.105 ,100.104,100.103,100.101,100.1,100.101, 100.102,100.101,100.099,100.098,100.097 ,100.096,100.093,100.095,100.094, 100.091,100.093,100.094,100.095,100.095 ,100.093,100.094,100.094,100.095, 100.095,100.094,100.098,100.098, 100.093)
ORBIT_NUMBER = 9353
ORBITAL_ECCENTRICITY = 0.577
ORBITAL_INCLINATION = 86.85
ORBITAL_SEMIMAJOR_AXIS = 8855.55
PERIAPSIS_ALTITUDE = 348.12
PERIAPSIS_ARGUMENT_ANGLE = 163.59
PERIAPSIS_TIME = 2011-04-29T23:46:21.000Z
SPACECRAFT_ORIENTATION = (0.0,-1.0,0.0)
^MEX_ORIENTATION_DESC = "MEX_ORIENTATION_DESC.TXT"
SPACECRAFT_POINTING_MODE = NADIR
^MEX_POINTING_DESC = "MEX_POINTING_DESC.TXT"
RIGHT_ASCENSION = -1e+32
DECLINATION = -1e+32
OFFSET_ANGLE = -1e+32
SPACECRAFT_SOLAR_DISTANCE = 2.09427e+08
TARGET_NAME = MARS
/* CAMERA DATA ELEMENTS */
DETECTOR_TEMPERATURE = 17.7588
FOCAL_PLANE_TEMPERATURE = 8.1755
INST_CMPRS_NAME = "DISCRETE COSINE TRANSFORMATION (DCT)"
INST_CMPRS_RATIO = 6.82522
INST_CMPRS_QUALITY = 0
INST_CMPRS_QUANTZ_TBL_ID = 0
INSTRUMENT_TEMPERATURE = 11.0301
LENS_TEMPERATURE = 8.5833
MACROPIXEL_SIZE = 1
MISSING_FRAMES = 208
PIXEL_SUBSAMPLING_FLAG = N
SIGNAL_CHAIN_ID = 0
/* RADIOMETRIC DATA ELEMENTS */
BANDWIDTH = 177.0
CENTER_FILTER_WAVELENGTH = 677.5
RADIANCE_OFFSET = 2.22507
RADIANCE_SCALING_FACTOR = 0.0142885
REFLECTANCE_SCALING_FACTOR = 0.000332916
MEX:REFLECTANCE_OFFSET = 0.0518434
/* IMAGE OBJECT DEFINITIONS */
OBJECT = IMAGE
  INTERCHANGE_FORMAT = BINARY
  LINES = 50817
  LINE_SAMPLES = 7505
  SAMPLE_TYPE = UNSIGNED_INTEGER
  SAMPLE_BITS = 8
  BANDS = 1
  BAND_STORAGE_TYPE = BAND_SEQUENTIAL
  MAXIMUM = 255
  MEAN = 95.6192
  MINIMUM = 1
  STANDARD_DEVIATION = 27.5393
END_OBJECT = IMAGE
/* MAP OBJECT DEFINITIONS */
OBJECT = IMAGE_MAP_PROJECTION
  ^DATA_SET_MAP_PROJECTION_CATALOG= "DSMAP.CAT"
  A_AXIS_RADIUS = 3396.0
  B_AXIS_RADIUS = 3396.0
  C_AXIS_RADIUS = 3396.0
  CENTER_LATITUDE = 0.0
  CENTER_LONGITUDE = 99.0
  COORDINATE_SYSTEM_NAME = PLANETOGRAPHIC
  COORDINATE_SYSTEM_TYPE = "BODY-FIXED ROTATING"
  EASTERNMOST_LONGITUDE = 100.129
  FIRST_STANDARD_PARALLEL = "N/A"
  LINE_FIRST_PIXEL = 1
  LINE_LAST_PIXEL = 50817
  LINE_PROJECTION_OFFSET = 21736.0
  MAP_PROJECTION_ROTATION = 0.0
  MAP_PROJECTION_TYPE = SINUSOIDAL
  MAP_RESOLUTION = 4741.71043093333
  MAP_SCALE = 0.0125
  MAXIMUM_LATITUDE = 4.58413
  MINIMUM_LATITUDE = -6.13287
  POSITIVE_LONGITUDE_DIRECTION = EAST
  REFERENCE_LATITUDE = "N/A"
  REFERENCE_LONGITUDE = "N/A"
  SAMPLE_FIRST_PIXEL = 1
  SAMPLE_LAST_PIXEL = 7505
  SAMPLE_PROJECTION_OFFSET = 2180.0
  SECOND_STANDARD_PARALLEL = "N/A"
  WESTERNMOST_LONGITUDE = 98.5376
END_OBJECT = IMAGE_MAP_PROJECTION
END
