PDS_VERSION_ID = PDS3
/* FILE DATA ELEMENTS */
RECORD_TYPE = UNDEFINED
/* POINTERS TO DATA OBJECTS */
^IMAGE = ("H9345_0000_ND4.TIF")
/* IDENTIFICATION DATA ELEMENTS */
DATA_SET_ID = "MEX-M-HRSC-4-REFDR-MAPPROJECT-EXT3-V4.0"
DATA_SET_NAME = "MARS EXPRESS HRSC MAP PROJECTED REFDR EXTENSION3 V4.0"
DETECTOR_ID = MEX_HRSC_NADIR
EVENT_TYPE = "MARS-REGIONAL-MAPPING-Vo-Fl-Eo"
INSTRUMENT_HOST_ID = MEX
INSTRUMENT_HOST_NAME = "MARS EXPRESS"
INSTRUMENT_ID = HRSC
INSTRUMENT_NAME = "HIGH RESOLUTION STEREO CAMERA"
MISSION_NAME = "MARS EXPRESS"
MISSION_PHASE_NAME = ME_Phase_23
PROCESSING_LEVEL_ID = 4
PRODUCT_CREATION_TIME = 2023-02-04T05:05:37.000Z
PRODUCT_ID = "H9345_0000_ND4.TIF"
RELEASE_ID = 0006
REVISION_ID = 0000
/* QUALITY DATA ELEMENTS */
DATA_QUALITY_ID = 1
DATA_QUALITY_DESC = "Data calculated based on original SPICE kernels"
/* TIME DATA ELEMENTS */
SPACECRAFT_CLOCK_START_COUNT = "1/0251999581.07283"
SPACECRAFT_CLOCK_STOP_COUNT = "1/0251999978.40003"
START_TIME = 2011-04-27T15:53:42.415Z
STOP_TIME = 2011-04-27T15:58:26.385Z
/* ORBITAL DATA ELEMENTS */
ASCENDING_NODE_LONGITUDE = 38.83
MAXIMUM_RESOLUTION = 0.0169
FOOTPRINT_POINT_LATITUDE = (-2.8956,-2.88976,-2.88346,-2.87576, -2.87553,-2.87502,-3.83466,-4.47978, -4.97214,-5.63007,-6.13161,-6.46706, -6.80192,-7.14363,-7.48517,-7.82589, -8.17326,-8.52135,-8.86849,-9.22295, -9.57655,-9.92922,-10.2813,-10.6328, -10.9838,-11.3337,-11.6831,-12.0316, -12.3794,-12.7265,-13.0728,-13.4183, -13.763,-14.107,-14.4503,-14.7927, -15.1344,-15.4753,-15.8153,-16.1545, -16.4928,-16.8304,-17.1672,-17.5032, -17.8383,-18.1725,-18.8386,-19.5011, -19.6663,-19.8307,-19.8478,-19.8587, -19.8712,-19.8788,-19.8791,-19.879, -19.2169,-18.5512,-17.8823,-17.5466, -17.2101,-16.8727,-16.5345,-16.1954, -15.8556,-15.515,-15.1735,-14.8313, -14.4882,-14.1443,-13.7997,-13.4543, -13.1082,-12.7613,-12.4136,-12.0652, -11.7161,-11.3662,-11.0156,-10.6643, -10.3123,-9.95951,-9.60601,-9.25182, -8.89692,-8.54908,-8.20082,-7.853, -7.51141,-7.16923,-6.82711,-6.49177, -6.15587,-5.65358,-4.99476,-4.50169, -3.85565,-3.21109,-3.05292,-2.8956)
FOOTPRINT_POINT_LONGITUDE = (196.621,196.147,195.654,195.073, 195.056,195.024,194.999,194.983,194.97, 194.954,194.939,194.931,194.922,194.915 ,194.901,194.88,194.87,194.87,194.854, 194.847,194.834,194.815,194.8,194.786, 194.78,194.761,194.749,194.733,194.719, 194.705,194.689,194.673,194.658,194.642 ,194.627,194.611,194.597,194.582, 194.564,194.547,194.529,194.512,194.495 ,194.478,194.46,194.442,194.407,194.37, 194.361,194.352,195.031,195.527,196.199 ,196.696,196.718,196.729,196.72,196.71, 196.704,196.7,196.696,196.693,196.689, 196.686,196.683,196.68,196.677,196.673, 196.67,196.667,196.664,196.661,196.658, 196.656,196.653,196.65,196.65,196.648, 196.646,196.644,196.642,196.64,196.638, 196.636,196.633,196.631,196.63,196.628, 196.627,196.625,196.623,196.622,196.62, 196.618,196.616,196.615,196.613,196.612 ,196.612,196.621)
ORBIT_NUMBER = 9345
ORBITAL_ECCENTRICITY = 0.577
ORBITAL_INCLINATION = 86.85
ORBITAL_SEMIMAJOR_AXIS = 8848.38
PERIAPSIS_ALTITUDE = 347.84
PERIAPSIS_ARGUMENT_ANGLE = 164.98
PERIAPSIS_TIME = 2011-04-27T15:49:03.000Z
SPACECRAFT_ORIENTATION = (0.0,-1.0,0.0)
^MEX_ORIENTATION_DESC = "MEX_ORIENTATION_DESC.TXT"
SPACECRAFT_POINTING_MODE = ACROSSTRACK
^MEX_POINTING_DESC = "MEX_POINTING_DESC.TXT"
RIGHT_ASCENSION = -1e+32
DECLINATION = -1e+32
OFFSET_ANGLE = -1.83
SPACECRAFT_SOLAR_DISTANCE = 2.09188e+08
TARGET_NAME = MARS
/* CAMERA DATA ELEMENTS */
DETECTOR_TEMPERATURE = 18.1666
FOCAL_PLANE_TEMPERATURE = 8.5833
INST_CMPRS_NAME = "DISCRETE COSINE TRANSFORMATION (DCT)"
INST_CMPRS_RATIO = 6.91419
INST_CMPRS_QUALITY = 0
INST_CMPRS_QUANTZ_TBL_ID = 0
INSTRUMENT_TEMPERATURE = 11.234
LENS_TEMPERATURE = 8.9911
MACROPIXEL_SIZE = 1
MISSING_FRAMES = 0
PIXEL_SUBSAMPLING_FLAG = N
SIGNAL_CHAIN_ID = 0
/* RADIOMETRIC DATA ELEMENTS */
BANDWIDTH = 177.0
CENTER_FILTER_WAVELENGTH = 677.5
RADIANCE_OFFSET = 3.32846
RADIANCE_SCALING_FACTOR = 0.0183495
REFLECTANCE_SCALING_FACTOR = 0.000426564
MEX:REFLECTANCE_OFFSET = 0.0773752
/* IMAGE OBJECT DEFINITIONS */
OBJECT = IMAGE
  INTERCHANGE_FORMAT = BINARY
  LINES = 80630
  LINE_SAMPLES = 10600
  SAMPLE_TYPE = UNSIGNED_INTEGER
  SAMPLE_BITS = 8
  BANDS = 1
  BAND_STORAGE_TYPE = BAND_SEQUENTIAL
  MAXIMUM = 255
  MEAN = 117.454
  MINIMUM = 1
  STANDARD_DEVIATION = 25.5986
END_OBJECT = IMAGE
/* MAP OBJECT DEFINITIONS */
OBJECT = IMAGE_MAP_PROJECTION
  ^DATA_SET_MAP_PROJECTION_CATALOG= "DSMAP.CAT"
  A_AXIS_RADIUS = 3396.0
  B_AXIS_RADIUS = 3396.0
  C_AXIS_RADIUS = 3396.0
  CENTER_LATITUDE = 0.0
  CENTER_LONGITUDE = 196.0
  COORDINATE_SYSTEM_NAME = PLANETOGRAPHIC
  COORDINATE_SYSTEM_TYPE = "BODY-FIXED ROTATING"
  EASTERNMOST_LONGITUDE = 196.729
  FIRST_STANDARD_PARALLEL = "N/A"
  LINE_FIRST_PIXEL = 1
  LINE_LAST_PIXEL = 80630
  LINE_PROJECTION_OFFSET = -13632.0
  MAP_PROJECTION_ROTATION = 0.0
  MAP_PROJECTION_TYPE = SINUSOIDAL
  MAP_RESOLUTION = 4741.71043093333
  MAP_SCALE = 0.0125
  MAXIMUM_LATITUDE = -2.87502
  MINIMUM_LATITUDE = -19.8791
  POSITIVE_LONGITUDE_DIRECTION = EAST
  REFERENCE_LATITUDE = "N/A"
  REFERENCE_LONGITUDE = "N/A"
  SAMPLE_FIRST_PIXEL = 1
  SAMPLE_LAST_PIXEL = 10600
  SAMPLE_PROJECTION_OFFSET = 7348.0
  SECOND_STANDARD_PARALLEL = "N/A"
  WESTERNMOST_LONGITUDE = 194.352
END_OBJECT = IMAGE_MAP_PROJECTION
END
