PDS_VERSION_ID = PDS3
/* FILE DATA ELEMENTS */
RECORD_TYPE = UNDEFINED
/* POINTERS TO DATA OBJECTS */
^IMAGE = ("H9342_0000_P24.TIF")
/* IDENTIFICATION DATA ELEMENTS */
DATA_SET_ID = "MEX-M-HRSC-4-REFDR-MAPPROJECT-EXT3-V4.0"
DATA_SET_NAME = "MARS EXPRESS HRSC MAP PROJECTED REFDR EXTENSION3 V4.0"
DETECTOR_ID = MEX_HRSC_P2
EVENT_TYPE = "MARS-REGIONAL-MAPPING-Im-Fl"
INSTRUMENT_HOST_ID = MEX
INSTRUMENT_HOST_NAME = "MARS EXPRESS"
INSTRUMENT_ID = HRSC
INSTRUMENT_NAME = "HIGH RESOLUTION STEREO CAMERA"
MISSION_NAME = "MARS EXPRESS"
MISSION_PHASE_NAME = ME_Phase_23
PROCESSING_LEVEL_ID = 4
PRODUCT_CREATION_TIME = 2023-02-04T05:05:37.000Z
PRODUCT_ID = "H9342_0000_P24.TIF"
RELEASE_ID = 0006
REVISION_ID = 0000
/* QUALITY DATA ELEMENTS */
DATA_QUALITY_ID = 1
DATA_QUALITY_DESC = "Data calculated based on original SPICE kernels"
/* TIME DATA ELEMENTS */
SPACECRAFT_CLOCK_START_COUNT = "1/0251924070.09123"
SPACECRAFT_CLOCK_STOP_COUNT = "1/0251924434.09764"
START_TIME = 2011-04-26T18:55:38.560Z
STOP_TIME = 2011-04-26T19:00:08.676Z
/* ORBITAL DATA ELEMENTS */
ASCENDING_NODE_LONGITUDE = 38.88
MAXIMUM_RESOLUTION = 0.073
FOOTPRINT_POINT_LATITUDE = (-4.98418,-4.98166,-4.97645,-4.96998, -4.96978,-4.96522,-5.49342,-5.88347, -6.2862,-6.68973,-7.23111,-7.77547, -8.0527,-8.3283,-8.60634,-8.88718, -9.31371,-9.74067,-10.0258,-10.46, -10.7519,-11.0425,-11.3378,-11.7807, -12.2284,-12.524,-12.8303,-13.1345, -13.5946,-13.9014,-14.2122,-14.5225, -14.8382,-15.1499,-15.4701,-15.7891, -16.2766,-16.6016,-16.9262,-17.2578, -17.5901,-18.0929,-18.4297,-18.7737, -19.1129,-19.4607,-19.808,-19.982, -20.0617,-20.0713,-20.0791,-20.0802, -20.0803,-20.0791,-20.0791,-20.0776, -19.5536,-19.2085,-18.8657,-18.5242, -18.1866,-17.8477,-17.5163,-17.1855, -16.8551,-16.5283,-16.042,-15.7196, -15.401,-15.083,-14.7679,-14.4543, -14.1443,-13.8343,-13.5278,-13.2196, -12.7655,-12.463,-12.1639,-11.8647, -11.5693,-11.2726,-10.9781,-10.5422, -10.2516,-9.82027,-9.53093,-9.24783, -8.96615,-8.54595,-8.27044,-7.99414, -7.71869,-7.17314,-6.63172,-6.09303, -5.69429,-5.16575,-5.03229,-4.98418)
FOOTPRINT_POINT_LONGITUDE = (145.313,144.88,144.302,143.782,143.767 ,143.761,143.747,143.733,143.722, 143.711,143.694,143.677,143.669,143.659 ,143.651,143.642,143.629,143.616, 143.606,143.592,143.583,143.573,143.562 ,143.547,143.53,143.518,143.507,143.496 ,143.479,143.466,143.454,143.441, 143.428,143.413,143.4,143.386,143.366, 143.351,143.336,143.321,143.306,143.282 ,143.265,143.251,143.233,143.216, 143.198,143.189,143.185,143.657,144.263 ,144.69,145.094,145.567,145.589,145.597 ,145.58,145.569,145.559,145.548,145.538 ,145.53,145.519,145.511,145.502,145.494 ,145.482,145.474,145.467,145.459, 145.452,145.445,145.438,145.432,145.426 ,145.42,145.412,145.406,145.401,145.396 ,145.392,145.388,145.384,145.378, 145.374,145.369,145.366,145.363,145.36, 145.354,145.35,145.346,145.343,145.337, 145.332,145.327,145.324,145.32,145.319, 145.313)
ORBIT_NUMBER = 9342
ORBITAL_ECCENTRICITY = 0.577
ORBITAL_INCLINATION = 86.84
ORBITAL_SEMIMAJOR_AXIS = 8852.48
PERIAPSIS_ALTITUDE = 347.72
PERIAPSIS_ARGUMENT_ANGLE = 165.53
PERIAPSIS_TIME = 2011-04-26T18:50:07.000Z
SPACECRAFT_ORIENTATION = (0.0,-1.0,0.0)
^MEX_ORIENTATION_DESC = "MEX_ORIENTATION_DESC.TXT"
SPACECRAFT_POINTING_MODE = NADIR
^MEX_POINTING_DESC = "MEX_POINTING_DESC.TXT"
RIGHT_ASCENSION = -1e+32
DECLINATION = -1e+32
OFFSET_ANGLE = -1e+32
SPACECRAFT_SOLAR_DISTANCE = 2.09101e+08
TARGET_NAME = MARS
/* CAMERA DATA ELEMENTS */
DETECTOR_TEMPERATURE = 18.5744
FOCAL_PLANE_TEMPERATURE = 8.3794
INST_CMPRS_NAME = "DISCRETE COSINE TRANSFORMATION (DCT)"
INST_CMPRS_RATIO = 5.85992
INST_CMPRS_QUALITY = 0
INST_CMPRS_QUANTZ_TBL_ID = 0
INSTRUMENT_TEMPERATURE = 11.234
LENS_TEMPERATURE = 8.7872
MACROPIXEL_SIZE = 4
MISSING_FRAMES = 0
PIXEL_SUBSAMPLING_FLAG = N
SIGNAL_CHAIN_ID = 3
/* RADIOMETRIC DATA ELEMENTS */
BANDWIDTH = 177.0
CENTER_FILTER_WAVELENGTH = 676.5
RADIANCE_OFFSET = 1.62233
RADIANCE_SCALING_FACTOR = 0.0220999
REFLECTANCE_SCALING_FACTOR = 0.00051234
MEX:REFLECTANCE_OFFSET = 0.0376104
/* IMAGE OBJECT DEFINITIONS */
OBJECT = IMAGE
  INTERCHANGE_FORMAT = BINARY
  LINES = 17901
  LINE_SAMPLES = 2511
  SAMPLE_TYPE = UNSIGNED_INTEGER
  SAMPLE_BITS = 8
  BANDS = 1
  BAND_STORAGE_TYPE = BAND_SEQUENTIAL
  MAXIMUM = 254
  MEAN = 118.124
  MINIMUM = 1
  STANDARD_DEVIATION = 25.9961
END_OBJECT = IMAGE
/* MAP OBJECT DEFINITIONS */
OBJECT = IMAGE_MAP_PROJECTION
  ^DATA_SET_MAP_PROJECTION_CATALOG= "DSMAP.CAT"
  A_AXIS_RADIUS = 3396.0
  B_AXIS_RADIUS = 3396.0
  C_AXIS_RADIUS = 3396.0
  CENTER_LATITUDE = 0.0
  CENTER_LONGITUDE = 144.0
  COORDINATE_SYSTEM_NAME = PLANETOGRAPHIC
  COORDINATE_SYSTEM_TYPE = "BODY-FIXED ROTATING"
  EASTERNMOST_LONGITUDE = 145.597
  FIRST_STANDARD_PARALLEL = "N/A"
  LINE_FIRST_PIXEL = 1
  LINE_LAST_PIXEL = 17901
  LINE_PROJECTION_OFFSET = -5889.625
  MAP_PROJECTION_ROTATION = 0.0
  MAP_PROJECTION_TYPE = SINUSOIDAL
  MAP_RESOLUTION = 1185.42760773333
  MAP_SCALE = 0.05
  MAXIMUM_LATITUDE = -4.96522
  MINIMUM_LATITUDE = -20.0803
  POSITIVE_LONGITUDE_DIRECTION = EAST
  REFERENCE_LATITUDE = "N/A"
  REFERENCE_LONGITUDE = "N/A"
  SAMPLE_FIRST_PIXEL = 1
  SAMPLE_LAST_PIXEL = 2511
  SAMPLE_PROJECTION_OFFSET = 820.125
  SECOND_STANDARD_PARALLEL = "N/A"
  WESTERNMOST_LONGITUDE = 143.185
END_OBJECT = IMAGE_MAP_PROJECTION
END
