PDS_VERSION_ID = PDS3
/* FILE DATA ELEMENTS */
RECORD_TYPE = UNDEFINED
/* POINTERS TO DATA OBJECTS */
^IMAGE = ("H9340_0000_P14.TIF")
/* IDENTIFICATION DATA ELEMENTS */
DATA_SET_ID = "MEX-M-HRSC-4-REFDR-MAPPROJECT-EXT3-V4.0"
DATA_SET_NAME = "MARS EXPRESS HRSC MAP PROJECTED REFDR EXTENSION3 V4.0"
DETECTOR_ID = MEX_HRSC_P1
EVENT_TYPE = "MARS-REGIONAL-MAPPING-Te-Im-Fl"
INSTRUMENT_HOST_ID = MEX
INSTRUMENT_HOST_NAME = "MARS EXPRESS"
INSTRUMENT_ID = HRSC
INSTRUMENT_NAME = "HIGH RESOLUTION STEREO CAMERA"
MISSION_NAME = "MARS EXPRESS"
MISSION_PHASE_NAME = ME_Phase_23
PROCESSING_LEVEL_ID = 4
PRODUCT_CREATION_TIME = 2023-02-04T05:05:37.000Z
PRODUCT_ID = "H9340_0000_P14.TIF"
RELEASE_ID = 0006
REVISION_ID = 0000
/* QUALITY DATA ELEMENTS */
DATA_QUALITY_ID = 1
DATA_QUALITY_DESC = "Data calculated based on original SPICE kernels"
/* TIME DATA ELEMENTS */
SPACECRAFT_CLOCK_START_COUNT = "1/0251873689.07297"
SPACECRAFT_CLOCK_STOP_COUNT = "1/0251873988.13151"
START_TIME = 2011-04-26T04:55:04.665Z
STOP_TIME = 2011-04-26T04:58:13.640Z
/* ORBITAL DATA ELEMENTS */
ASCENDING_NODE_LONGITUDE = 38.93
MAXIMUM_RESOLUTION = 0.0674
FOOTPRINT_POINT_LATITUDE = (-4.31427,-4.29485,-4.28322,-4.26082, -4.23948,-4.23883,-4.2488,-4.6844, -5.11956,-5.44503,-5.8888,-6.11147, -6.33736,-6.77888,-7.00658,-7.23611, -7.46192,-7.68925,-7.91636,-8.2629, -8.49556,-8.84408,-9.07645,-9.43089, -9.66776,-10.0233,-10.2614,-10.6247, -10.8671,-11.1084,-11.4794,-11.7267, -11.973,-12.2189,-12.4673,-12.7191, -12.9706,-13.3524,-13.7366,-13.9929, -14.2532,-14.5144,-14.7755,-15.1723, -15.4382,-15.7036,-15.9733,-16.1085, -16.241,-16.2516,-16.2699,-16.289, -16.3006,-16.3121,-16.3128,-16.3117, -16.0415,-15.7714,-15.5064,-15.2401, -14.9763,-14.7208,-14.4602,-14.191, -13.9336,-13.6797,-13.4239,-13.1673, -12.9161,-12.6645,-12.4124,-12.0394, -11.6707,-11.3007,-11.0595,-10.6963, -10.4538,-10.2136,-9.8579,-9.62044, -9.38223,-9.14783,-8.91935,-8.6874, -8.45408,-8.2209,-7.99041,-7.76314, -7.53519,-7.30835,-7.08008,-6.73847, -6.29513,-6.07225,-5.8499,-5.2998, -4.86598,-4.53975,-4.43085,-4.31427)
FOOTPRINT_POINT_LONGITUDE = (351.128,350.758,350.535,350.097, 349.669,349.656,349.656,349.647,349.638 ,349.631,349.621,349.616,349.612, 349.601,349.596,349.591,349.586,349.58, 349.575,349.567,349.562,349.553,349.548 ,349.539,349.533,349.524,349.519,349.51 ,349.504,349.497,349.489,349.482, 349.476,349.469,349.462,349.455,349.448 ,349.438,349.428,349.421,349.414, 349.406,349.399,349.388,349.38,349.373, 349.365,349.361,349.357,349.638,350.12, 350.629,350.943,351.279,351.298,351.304 ,351.298,351.291,351.285,351.278, 351.275,351.275,351.27,351.255,351.25, 351.248,351.244,351.237,351.233,351.228 ,351.224,351.217,351.213,351.207, 351.204,351.199,351.195,351.192,351.187 ,351.184,351.18,351.179,351.18,351.178, 351.175,351.171,351.169,351.166,351.163 ,351.162,351.159,351.153,351.151, 351.149,351.147,351.144,351.142,351.141 ,351.14,351.128)
ORBIT_NUMBER = 9340
ORBITAL_ECCENTRICITY = 0.577
ORBITAL_INCLINATION = 86.84
ORBITAL_SEMIMAJOR_AXIS = 8850.04
PERIAPSIS_ALTITUDE = 347.48
PERIAPSIS_ARGUMENT_ANGLE = 165.83
PERIAPSIS_TIME = 2011-04-26T04:50:42.000Z
SPACECRAFT_ORIENTATION = (0.0,-1.0,0.0)
^MEX_ORIENTATION_DESC = "MEX_ORIENTATION_DESC.TXT"
SPACECRAFT_POINTING_MODE = ACROSSTRACK
^MEX_POINTING_DESC = "MEX_POINTING_DESC.TXT"
RIGHT_ASCENSION = -1e+32
DECLINATION = -1e+32
OFFSET_ANGLE = 1.2
SPACECRAFT_SOLAR_DISTANCE = 2.09043e+08
TARGET_NAME = MARS
/* CAMERA DATA ELEMENTS */
DETECTOR_TEMPERATURE = 17.5549
FOCAL_PLANE_TEMPERATURE = 8.5833
INST_CMPRS_NAME = "DISCRETE COSINE TRANSFORMATION (DCT)"
INST_CMPRS_RATIO = 15.6864
INST_CMPRS_QUALITY = 0
INST_CMPRS_QUANTZ_TBL_ID = 0
INSTRUMENT_TEMPERATURE = 12.2535
LENS_TEMPERATURE = 8.9911
MACROPIXEL_SIZE = 4
MISSING_FRAMES = 0
PIXEL_SUBSAMPLING_FLAG = N
SIGNAL_CHAIN_ID = 3
/* RADIOMETRIC DATA ELEMENTS */
BANDWIDTH = 174.0
CENTER_FILTER_WAVELENGTH = 675.0
RADIANCE_OFFSET = 2.69808
RADIANCE_SCALING_FACTOR = 0.00955676
REFLECTANCE_SCALING_FACTOR = 0.000224631
MEX:REFLECTANCE_OFFSET = 0.0634181
/* IMAGE OBJECT DEFINITIONS */
OBJECT = IMAGE
  INTERCHANGE_FORMAT = BINARY
  LINES = 14225
  LINE_SAMPLES = 2324
  SAMPLE_TYPE = UNSIGNED_INTEGER
  SAMPLE_BITS = 8
  BANDS = 1
  BAND_STORAGE_TYPE = BAND_SEQUENTIAL
  MAXIMUM = 255
  MEAN = 96.3468
  MINIMUM = 1
  STANDARD_DEVIATION = 26.2882
END_OBJECT = IMAGE
/* MAP OBJECT DEFINITIONS */
OBJECT = IMAGE_MAP_PROJECTION
  ^DATA_SET_MAP_PROJECTION_CATALOG= "DSMAP.CAT"
  A_AXIS_RADIUS = 3396.0
  B_AXIS_RADIUS = 3396.0
  C_AXIS_RADIUS = 3396.0
  CENTER_LATITUDE = 0.0
  CENTER_LONGITUDE = 350.0
  COORDINATE_SYSTEM_NAME = PLANETOGRAPHIC
  COORDINATE_SYSTEM_TYPE = "BODY-FIXED ROTATING"
  EASTERNMOST_LONGITUDE = 351.304
  FIRST_STANDARD_PARALLEL = "N/A"
  LINE_FIRST_PIXEL = 1
  LINE_LAST_PIXEL = 14225
  LINE_PROJECTION_OFFSET = -5052.875
  MAP_PROJECTION_ROTATION = 0.0
  MAP_PROJECTION_TYPE = SINUSOIDAL
  MAP_RESOLUTION = 1185.42760773333
  MAP_SCALE = 0.05
  MAXIMUM_LATITUDE = -4.23883
  MINIMUM_LATITUDE = -16.3128
  POSITIVE_LONGITUDE_DIRECTION = EAST
  REFERENCE_LATITUDE = "N/A"
  REFERENCE_LONGITUDE = "N/A"
  SAMPLE_FIRST_PIXEL = 1
  SAMPLE_LAST_PIXEL = 2324
  SAMPLE_PROJECTION_OFFSET = 796.125
  SECOND_STANDARD_PARALLEL = "N/A"
  WESTERNMOST_LONGITUDE = 349.357
END_OBJECT = IMAGE_MAP_PROJECTION
END
