PDS_VERSION_ID = PDS3
/* FILE DATA ELEMENTS */
RECORD_TYPE = UNDEFINED
/* POINTERS TO DATA OBJECTS */
^IMAGE = ("H9340_0000_ND4.TIF")
/* IDENTIFICATION DATA ELEMENTS */
DATA_SET_ID = "MEX-M-HRSC-4-REFDR-MAPPROJECT-EXT3-V4.0"
DATA_SET_NAME = "MARS EXPRESS HRSC MAP PROJECTED REFDR EXTENSION3 V4.0"
DETECTOR_ID = MEX_HRSC_NADIR
EVENT_TYPE = "MARS-REGIONAL-MAPPING-Te-Im-Fl"
INSTRUMENT_HOST_ID = MEX
INSTRUMENT_HOST_NAME = "MARS EXPRESS"
INSTRUMENT_ID = HRSC
INSTRUMENT_NAME = "HIGH RESOLUTION STEREO CAMERA"
MISSION_NAME = "MARS EXPRESS"
MISSION_PHASE_NAME = ME_Phase_23
PROCESSING_LEVEL_ID = 4
PRODUCT_CREATION_TIME = 2023-02-04T05:05:37.000Z
PRODUCT_ID = "H9340_0000_ND4.TIF"
RELEASE_ID = 0006
REVISION_ID = 0000
/* QUALITY DATA ELEMENTS */
DATA_QUALITY_ID = 1
DATA_QUALITY_DESC = "Data calculated based on original SPICE kernels"
/* TIME DATA ELEMENTS */
SPACECRAFT_CLOCK_START_COUNT = "1/0251873689.07297"
SPACECRAFT_CLOCK_STOP_COUNT = "1/0251873988.13151"
START_TIME = 2011-04-26T04:55:29.789Z
STOP_TIME = 2011-04-26T04:58:47.780Z
/* ORBITAL DATA ELEMENTS */
ASCENDING_NODE_LONGITUDE = 38.93
MAXIMUM_RESOLUTION = 0.0169
FOOTPRINT_POINT_LATITUDE = (-4.2723,-4.27051,-4.26897,-4.26739, -4.26577,-4.26408,-4.26235,-4.26224, -4.26226,-4.69537,-5.12768,-5.45879, -5.90069,-6.34158,-6.56718,-6.90522, -7.35509,-7.69805,-7.92771,-8.1571, -8.38622,-8.73541,-8.96928,-9.20287, -9.43617,-9.67398,-9.9121,-10.1499, -10.5086,-10.751,-10.993,-11.2347, -11.6035,-11.8498,-12.0957,-12.471, -12.7213,-12.9713,-13.2261,-13.4805, -13.7345,-13.9928,-14.2513,-14.5093, -14.7715,-15.1649,-15.4299,-15.6964, -16.0975,-16.2328,-16.2567,-16.2589, -16.2601,-16.2612,-16.2613,-16.2605, -16.2605,-16.2601,-15.9897,-15.7239, -15.4578,-15.1926,-14.9306,-14.6682, -14.2793,-14.0212,-13.7627,-13.5089, -13.2547,-12.8747,-12.6248,-12.3745, -12.1243,-11.8786,-11.6326,-11.2635, -11.0219,-10.78,-10.5378,-10.2976, -10.0601,-9.82226,-9.58413,-9.23197, -8.9984,-8.76464,-8.41518,-8.18616, -7.95689,-7.72734,-7.38406,-6.93439, -6.70922,-6.26049,-5.81943,-5.37747, -4.72436,-4.3997,-4.29139,-4.2723)
FOOTPRINT_POINT_LONGITUDE = (351.141,350.832,350.588,350.348, 350.111,349.877,349.645,349.631,349.627 ,349.617,349.607,349.599,349.589,349.58 ,349.573,349.565,349.554,349.545, 349.539,349.534,349.528,349.519,349.513 ,349.507,349.5,349.494,349.488,349.481, 349.471,349.465,349.458,349.452,349.442 ,349.435,349.427,349.416,349.409, 349.401,349.394,349.386,349.379,349.371 ,349.363,349.355,349.347,349.335, 349.327,349.318,349.305,349.301,349.3, 349.672,349.969,350.41,350.898,351.311, 351.331,351.342,351.335,351.327,351.32, 351.315,351.313,351.309,351.295,351.285 ,351.28,351.276,351.27,351.262,351.257, 351.252,351.247,351.242,351.239,351.233 ,351.229,351.225,351.221,351.217, 351.214,351.21,351.206,351.199,351.202, 351.2,351.194,351.192,351.188,351.185, 351.182,351.176,351.17,351.168,351.163, 351.16,351.157,351.154,351.153,351.141)
ORBIT_NUMBER = 9340
ORBITAL_ECCENTRICITY = 0.577
ORBITAL_INCLINATION = 86.84
ORBITAL_SEMIMAJOR_AXIS = 8850.04
PERIAPSIS_ALTITUDE = 347.48
PERIAPSIS_ARGUMENT_ANGLE = 165.83
PERIAPSIS_TIME = 2011-04-26T04:50:42.000Z
SPACECRAFT_ORIENTATION = (0.0,-1.0,0.0)
^MEX_ORIENTATION_DESC = "MEX_ORIENTATION_DESC.TXT"
SPACECRAFT_POINTING_MODE = ACROSSTRACK
^MEX_POINTING_DESC = "MEX_POINTING_DESC.TXT"
RIGHT_ASCENSION = -1e+32
DECLINATION = -1e+32
OFFSET_ANGLE = 1.2
SPACECRAFT_SOLAR_DISTANCE = 2.09043e+08
TARGET_NAME = MARS
/* CAMERA DATA ELEMENTS */
DETECTOR_TEMPERATURE = 18.7783
FOCAL_PLANE_TEMPERATURE = 8.5833
INST_CMPRS_NAME = "DISCRETE COSINE TRANSFORMATION (DCT)"
INST_CMPRS_RATIO = 7.73379
INST_CMPRS_QUALITY = 0
INST_CMPRS_QUANTZ_TBL_ID = 0
INSTRUMENT_TEMPERATURE = 12.2535
LENS_TEMPERATURE = 8.9911
MACROPIXEL_SIZE = 1
MISSING_FRAMES = 0
PIXEL_SUBSAMPLING_FLAG = N
SIGNAL_CHAIN_ID = 0
/* RADIOMETRIC DATA ELEMENTS */
BANDWIDTH = 177.0
CENTER_FILTER_WAVELENGTH = 677.5
RADIANCE_OFFSET = 2.38468
RADIANCE_SCALING_FACTOR = 0.00961889
REFLECTANCE_SCALING_FACTOR = 0.000223297
MEX:REFLECTANCE_OFFSET = 0.0553591
/* IMAGE OBJECT DEFINITIONS */
OBJECT = IMAGE
  INTERCHANGE_FORMAT = BINARY
  LINES = 56897
  LINE_SAMPLES = 9295
  SAMPLE_TYPE = UNSIGNED_INTEGER
  SAMPLE_BITS = 8
  BANDS = 1
  BAND_STORAGE_TYPE = BAND_SEQUENTIAL
  MAXIMUM = 255
  MEAN = 92.072
  MINIMUM = 1
  STANDARD_DEVIATION = 27.2427
END_OBJECT = IMAGE
/* MAP OBJECT DEFINITIONS */
OBJECT = IMAGE_MAP_PROJECTION
  ^DATA_SET_MAP_PROJECTION_CATALOG= "DSMAP.CAT"
  A_AXIS_RADIUS = 3396.0
  B_AXIS_RADIUS = 3396.0
  C_AXIS_RADIUS = 3396.0
  CENTER_LATITUDE = 0.0
  CENTER_LONGITUDE = 350.0
  COORDINATE_SYSTEM_NAME = PLANETOGRAPHIC
  COORDINATE_SYSTEM_TYPE = "BODY-FIXED ROTATING"
  EASTERNMOST_LONGITUDE = 351.342
  FIRST_STANDARD_PARALLEL = "N/A"
  LINE_FIRST_PIXEL = 1
  LINE_LAST_PIXEL = 56897
  LINE_PROJECTION_OFFSET = -20210.0
  MAP_PROJECTION_ROTATION = 0.0
  MAP_PROJECTION_TYPE = SINUSOIDAL
  MAP_RESOLUTION = 4741.71043093333
  MAP_SCALE = 0.0125
  MAXIMUM_LATITUDE = -4.26224
  MINIMUM_LATITUDE = -16.2613
  POSITIVE_LONGITUDE_DIRECTION = EAST
  REFERENCE_LATITUDE = "N/A"
  REFERENCE_LONGITUDE = "N/A"
  SAMPLE_FIRST_PIXEL = 1
  SAMPLE_LAST_PIXEL = 9295
  SAMPLE_PROJECTION_OFFSET = 3186.0
  SECOND_STANDARD_PARALLEL = "N/A"
  WESTERNMOST_LONGITUDE = 349.3
END_OBJECT = IMAGE_MAP_PROJECTION
END
