PDS_VERSION_ID = PDS3
/* FILE DATA ELEMENTS */
RECORD_TYPE = UNDEFINED
/* POINTERS TO DATA OBJECTS */
^IMAGE = ("H9340_0000_GR4.TIF")
/* IDENTIFICATION DATA ELEMENTS */
DATA_SET_ID = "MEX-M-HRSC-4-REFDR-MAPPROJECT-EXT3-V4.0"
DATA_SET_NAME = "MARS EXPRESS HRSC MAP PROJECTED REFDR EXTENSION3 V4.0"
DETECTOR_ID = MEX_HRSC_GREEN
EVENT_TYPE = "MARS-REGIONAL-MAPPING-Te-Im-Fl"
INSTRUMENT_HOST_ID = MEX
INSTRUMENT_HOST_NAME = "MARS EXPRESS"
INSTRUMENT_ID = HRSC
INSTRUMENT_NAME = "HIGH RESOLUTION STEREO CAMERA"
MISSION_NAME = "MARS EXPRESS"
MISSION_PHASE_NAME = ME_Phase_23
PROCESSING_LEVEL_ID = 4
PRODUCT_CREATION_TIME = 2023-02-04T05:05:37.000Z
PRODUCT_ID = "H9340_0000_GR4.TIF"
RELEASE_ID = 0006
REVISION_ID = 0000
/* QUALITY DATA ELEMENTS */
DATA_QUALITY_ID = 1
DATA_QUALITY_DESC = "Data calculated based on original SPICE kernels"
/* TIME DATA ELEMENTS */
SPACECRAFT_CLOCK_START_COUNT = "1/0251873689.07297"
SPACECRAFT_CLOCK_STOP_COUNT = "1/0251873988.13151"
START_TIME = 2011-04-26T04:55:23.214Z
STOP_TIME = 2011-04-26T04:58:38.612Z
/* ORBITAL DATA ELEMENTS */
ASCENDING_NODE_LONGITUDE = 38.93
MAXIMUM_RESOLUTION = 0.067
FOOTPRINT_POINT_LATITUDE = (-4.28651,-4.27956,-4.27532,-4.26691, -4.25864,-4.25838,-4.26151,-4.69637, -5.13183,-5.5664,-5.89976,-6.23347, -6.67702,-6.90176,-7.12875,-7.35538, -7.58196,-7.80823,-8.15374,-8.38503, -8.61596,-8.84667,-9.19872,-9.43423, -9.66938,-9.90442,-10.1443,-10.3842, -10.6239,-10.9856,-11.2299,-11.4747, -11.7186,-12.0905,-12.3387,-12.5859, -12.9646,-13.2173,-13.4697,-13.7269, -13.9837,-14.2402,-14.5009,-14.7619, -15.0226,-15.2875,-15.6851,-16.0874, -16.222,-16.2505,-16.2562,-16.2602, -16.2638,-16.2696,-16.2732,-16.2733, -16.2721,-16.0031,-15.735,-15.3378, -15.0727,-14.8133,-14.5531,-14.1623, -13.9057,-13.6493,-13.268,-13.0157, -12.763,-12.3888,-12.1406,-11.7682, -11.5247,-11.2809,-11.0368,-10.7944, -10.5549,-10.3153,-10.0753,-9.83759, -9.60247,-9.36695,-9.13136,-8.89804, -8.66747,-8.43622,-8.08951,-7.85908, -7.63285,-7.40645,-7.17959,-6.95262, -6.50527,-6.1724,-5.95013,-5.5076, -5.07313,-4.4197,-4.31125,-4.28651)
FOOTPRINT_POINT_LONGITUDE = (351.136,350.761,350.534,350.089, 349.654,349.641,349.64,349.631,349.621, 349.611,349.603,349.596,349.585,349.58, 349.575,349.569,349.564,349.558,349.55, 349.544,349.538,349.532,349.523,349.517 ,349.511,349.505,349.499,349.492, 349.486,349.476,349.47,349.464,349.457, 349.447,349.44,349.432,349.421,349.414, 349.407,349.4,349.392,349.385,349.377, 349.369,349.361,349.353,349.341,349.329 ,349.325,349.324,349.723,350.018, 350.315,350.863,351.303,351.323,351.329 ,351.322,351.315,351.304,351.299, 351.297,351.293,351.277,351.271,351.267 ,351.26,351.255,351.25,351.242,351.238, 351.231,351.228,351.224,351.221,351.217 ,351.213,351.209,351.206,351.202, 351.198,351.194,351.191,351.194,351.191 ,351.187,351.183,351.18,351.177,351.175 ,351.172,351.169,351.163,351.16,351.158 ,351.155,351.153,351.149,351.147, 351.136)
ORBIT_NUMBER = 9340
ORBITAL_ECCENTRICITY = 0.577
ORBITAL_INCLINATION = 86.84
ORBITAL_SEMIMAJOR_AXIS = 8850.04
PERIAPSIS_ALTITUDE = 347.48
PERIAPSIS_ARGUMENT_ANGLE = 165.83
PERIAPSIS_TIME = 2011-04-26T04:50:42.000Z
SPACECRAFT_ORIENTATION = (0.0,-1.0,0.0)
^MEX_ORIENTATION_DESC = "MEX_ORIENTATION_DESC.TXT"
SPACECRAFT_POINTING_MODE = ACROSSTRACK
^MEX_POINTING_DESC = "MEX_POINTING_DESC.TXT"
RIGHT_ASCENSION = -1e+32
DECLINATION = -1e+32
OFFSET_ANGLE = 1.2
SPACECRAFT_SOLAR_DISTANCE = 2.09043e+08
TARGET_NAME = MARS
/* CAMERA DATA ELEMENTS */
DETECTOR_TEMPERATURE = 18.7783
FOCAL_PLANE_TEMPERATURE = 8.5833
INST_CMPRS_NAME = "DISCRETE COSINE TRANSFORMATION (DCT)"
INST_CMPRS_RATIO = 13.8348
INST_CMPRS_QUALITY = 0
INST_CMPRS_QUANTZ_TBL_ID = 0
INSTRUMENT_TEMPERATURE = 12.2535
LENS_TEMPERATURE = 8.9911
MACROPIXEL_SIZE = 4
MISSING_FRAMES = 0
PIXEL_SUBSAMPLING_FLAG = N
SIGNAL_CHAIN_ID = 2
/* RADIOMETRIC DATA ELEMENTS */
BANDWIDTH = 88.0
CENTER_FILTER_WAVELENGTH = 538.0
RADIANCE_OFFSET = 1.11076
RADIANCE_SCALING_FACTOR = 0.00241995
REFLECTANCE_SCALING_FACTOR = 9.10482e-05
MEX:REFLECTANCE_OFFSET = 0.0417911
/* IMAGE OBJECT DEFINITIONS */
OBJECT = IMAGE
  INTERCHANGE_FORMAT = BINARY
  LINES = 14225
  LINE_SAMPLES = 2324
  SAMPLE_TYPE = UNSIGNED_INTEGER
  SAMPLE_BITS = 8
  BANDS = 1
  BAND_STORAGE_TYPE = BAND_SEQUENTIAL
  MAXIMUM = 255
  MEAN = 111.128
  MINIMUM = 1
  STANDARD_DEVIATION = 24.9542
END_OBJECT = IMAGE
/* MAP OBJECT DEFINITIONS */
OBJECT = IMAGE_MAP_PROJECTION
  ^DATA_SET_MAP_PROJECTION_CATALOG= "DSMAP.CAT"
  A_AXIS_RADIUS = 3396.0
  B_AXIS_RADIUS = 3396.0
  C_AXIS_RADIUS = 3396.0
  CENTER_LATITUDE = 0.0
  CENTER_LONGITUDE = 350.0
  COORDINATE_SYSTEM_NAME = PLANETOGRAPHIC
  COORDINATE_SYSTEM_TYPE = "BODY-FIXED ROTATING"
  EASTERNMOST_LONGITUDE = 351.329
  FIRST_STANDARD_PARALLEL = "N/A"
  LINE_FIRST_PIXEL = 1
  LINE_LAST_PIXEL = 14225
  LINE_PROJECTION_OFFSET = -5052.875
  MAP_PROJECTION_ROTATION = 0.0
  MAP_PROJECTION_TYPE = SINUSOIDAL
  MAP_RESOLUTION = 1185.42760773333
  MAP_SCALE = 0.05
  MAXIMUM_LATITUDE = -4.25838
  MINIMUM_LATITUDE = -16.2733
  POSITIVE_LONGITUDE_DIRECTION = EAST
  REFERENCE_LATITUDE = "N/A"
  REFERENCE_LONGITUDE = "N/A"
  SAMPLE_FIRST_PIXEL = 1
  SAMPLE_LAST_PIXEL = 2324
  SAMPLE_PROJECTION_OFFSET = 796.125
  SECOND_STANDARD_PARALLEL = "N/A"
  WESTERNMOST_LONGITUDE = 349.324
END_OBJECT = IMAGE_MAP_PROJECTION
END
