PDS_VERSION_ID = PDS3
/* FILE DATA ELEMENTS */
RECORD_TYPE = UNDEFINED
/* POINTERS TO DATA OBJECTS */
^IMAGE = ("H9339_0000_S14.TIF")
/* IDENTIFICATION DATA ELEMENTS */
DATA_SET_ID = "MEX-M-HRSC-4-REFDR-MAPPROJECT-EXT3-V4.0"
DATA_SET_NAME = "MARS EXPRESS HRSC MAP PROJECTED REFDR EXTENSION3 V4.0"
DETECTOR_ID = MEX_HRSC_S1
EVENT_TYPE = "MARS-REGIONAL-MAPPING-Fl"
INSTRUMENT_HOST_ID = MEX
INSTRUMENT_HOST_NAME = "MARS EXPRESS"
INSTRUMENT_ID = HRSC
INSTRUMENT_NAME = "HIGH RESOLUTION STEREO CAMERA"
MISSION_NAME = "MARS EXPRESS"
MISSION_PHASE_NAME = ME_Phase_23
PROCESSING_LEVEL_ID = 4
PRODUCT_CREATION_TIME = 2023-02-04T05:05:37.000Z
PRODUCT_ID = "H9339_0000_S14.TIF"
RELEASE_ID = 0006
REVISION_ID = 0000
/* QUALITY DATA ELEMENTS */
DATA_QUALITY_ID = 1
DATA_QUALITY_DESC = "Data calculated based on original SPICE kernels"
/* TIME DATA ELEMENTS */
SPACECRAFT_CLOCK_START_COUNT = "1/0251848408.08254"
SPACECRAFT_CLOCK_STOP_COUNT = "1/0251848644.64683"
START_TIME = 2011-04-25T21:53:31.056Z
STOP_TIME = 2011-04-25T21:56:01.551Z
/* ORBITAL DATA ELEMENTS */
ASCENDING_NODE_LONGITUDE = 38.95
MAXIMUM_RESOLUTION = 0.0311
FOOTPRINT_POINT_LATITUDE = (2.37105,2.37385,2.37587,2.37811, 2.37952,2.3814,2.38145,2.37879,2.12287, 1.77967,1.5297,1.27515,0.937077, 0.654389,0.353236,0.0501747,-0.253409, -0.455779,-0.65736,-0.861784,-1.06106, -1.26254,-1.46561,-1.76931,-1.9714, -2.17273,-2.37104,-2.58198,-2.78974, -2.99215,-3.19413,-3.58542,-3.78842, -3.99042,-4.19397,-4.39369,-4.59614, -4.89832,-5.10021,-5.30282,-5.60576, -5.80712,-6.00768,-6.31717,-6.52383, -6.72906,-6.93356,-7.13831,-7.34326, -7.44615,-7.48151,-7.48445,-7.49052, -7.49666,-7.50111,-7.50363,-7.50378, -7.5033,-7.19244,-6.98527,-6.67364, -6.36394,-6.05455,-5.85328,-5.65099, -5.34799,-5.14579,-4.94021,-4.74058, -4.53911,-4.33776,-4.13753,-3.93585, -3.73473,-3.53453,-3.33258,-3.12981, -2.92887,-2.72713,-2.52461,-2.2211, -1.91623,-1.71273,-1.51143,-1.30581, -1.10197,-0.897142,-0.502351,-0.300208, -0.0976828,0.105125,0.308235,0.51381, 0.715537,1.07587,1.40928,1.74662, 2.25488,2.33968,2.37105)
FOOTPRINT_POINT_LONGITUDE = (92.1385,91.8909,91.6928,91.4329,91.235 ,90.8757,90.8633,90.8587,90.8544, 90.8481,90.8455,90.8415,90.8364,90.8321 ,90.8279,90.8229,90.8176,90.814,90.8107 ,90.8064,90.8036,90.8002,90.7961, 90.7903,90.7864,90.7828,90.78,90.7732, 90.7674,90.7632,90.759,90.7546,90.75, 90.7457,90.7408,90.737,90.7323,90.7257, 90.7211,90.7162,90.709,90.7043,90.6999, 90.692,90.6871,90.6825,90.6781,90.6735, 90.6689,90.6665,90.6658,90.9957,91.3974 ,91.6277,91.887,92.1318,92.1462,92.1514 ,92.1499,92.1487,92.1467,92.1454,92.144 ,92.1432,92.1422,92.1409,92.1401, 92.1383,92.1383,92.1378,92.1374,92.1374 ,92.1369,92.1367,92.1369,92.1365,92.136 ,92.136,92.1358,92.1355,92.1351,92.1344 ,92.1339,92.1341,92.133,92.1326,92.1318 ,92.1348,92.135,92.1351,92.1351,92.1351 ,92.1343,92.1348,92.1344,92.1367, 92.1378,92.139,92.1392,92.1385)
ORBIT_NUMBER = 9339
ORBITAL_ECCENTRICITY = 0.578
ORBITAL_INCLINATION = 86.85
ORBITAL_SEMIMAJOR_AXIS = 8858.18
PERIAPSIS_ALTITUDE = 346.45
PERIAPSIS_ARGUMENT_ANGLE = 166.01
PERIAPSIS_TIME = 2011-04-25T21:51:04.000Z
SPACECRAFT_ORIENTATION = (0.0,-1.0,0.0)
^MEX_ORIENTATION_DESC = "MEX_ORIENTATION_DESC.TXT"
SPACECRAFT_POINTING_MODE = NADIR
^MEX_POINTING_DESC = "MEX_POINTING_DESC.TXT"
RIGHT_ASCENSION = -1e+32
DECLINATION = -1e+32
OFFSET_ANGLE = -1e+32
SPACECRAFT_SOLAR_DISTANCE = 2.09015e+08
TARGET_NAME = MARS
/* CAMERA DATA ELEMENTS */
DETECTOR_TEMPERATURE = 17.351
FOCAL_PLANE_TEMPERATURE = 8.5833
INST_CMPRS_NAME = "DISCRETE COSINE TRANSFORMATION (DCT)"
INST_CMPRS_RATIO = 7.97645
INST_CMPRS_QUALITY = 0
INST_CMPRS_QUANTZ_TBL_ID = 0
INSTRUMENT_TEMPERATURE = 11.234
LENS_TEMPERATURE = 9.195
MACROPIXEL_SIZE = 2
MISSING_FRAMES = 0
PIXEL_SUBSAMPLING_FLAG = N
SIGNAL_CHAIN_ID = 1
/* RADIOMETRIC DATA ELEMENTS */
BANDWIDTH = 180.0
CENTER_FILTER_WAVELENGTH = 677.0
RADIANCE_OFFSET = 2.63877
RADIANCE_SCALING_FACTOR = 0.0110017
REFLECTANCE_SCALING_FACTOR = 0.000250759
MEX:REFLECTANCE_OFFSET = 0.0601449
/* IMAGE OBJECT DEFINITIONS */
OBJECT = IMAGE
  INTERCHANGE_FORMAT = BINARY
  LINES = 23449
  LINE_SAMPLES = 3651
  SAMPLE_TYPE = UNSIGNED_INTEGER
  SAMPLE_BITS = 8
  BANDS = 1
  BAND_STORAGE_TYPE = BAND_SEQUENTIAL
  MAXIMUM = 255
  MEAN = 107.447
  MINIMUM = 1
  STANDARD_DEVIATION = 30.8119
END_OBJECT = IMAGE
/* MAP OBJECT DEFINITIONS */
OBJECT = IMAGE_MAP_PROJECTION
  ^DATA_SET_MAP_PROJECTION_CATALOG= "DSMAP.CAT"
  A_AXIS_RADIUS = 3396.0
  B_AXIS_RADIUS = 3396.0
  C_AXIS_RADIUS = 3396.0
  CENTER_LATITUDE = 0.0
  CENTER_LONGITUDE = 91.0
  COORDINATE_SYSTEM_NAME = PLANETOGRAPHIC
  COORDINATE_SYSTEM_TYPE = "BODY-FIXED ROTATING"
  EASTERNMOST_LONGITUDE = 92.1514
  FIRST_STANDARD_PARALLEL = "N/A"
  LINE_FIRST_PIXEL = 1
  LINE_LAST_PIXEL = 23449
  LINE_PROJECTION_OFFSET = 5655.75
  MAP_PROJECTION_ROTATION = 0.0
  MAP_PROJECTION_TYPE = SINUSOIDAL
  MAP_RESOLUTION = 2370.85521546667
  MAP_SCALE = 0.025
  MAXIMUM_LATITUDE = 2.38145
  MINIMUM_LATITUDE = -7.50378
  POSITIVE_LONGITUDE_DIRECTION = EAST
  REFERENCE_LATITUDE = "N/A"
  REFERENCE_LONGITUDE = "N/A"
  SAMPLE_FIRST_PIXEL = 1
  SAMPLE_LAST_PIXEL = 3651
  SAMPLE_PROJECTION_OFFSET = 866.75
  SECOND_STANDARD_PARALLEL = "N/A"
  WESTERNMOST_LONGITUDE = 90.6658
END_OBJECT = IMAGE_MAP_PROJECTION
END
