PDS_VERSION_ID = PDS3
/* FILE DATA ELEMENTS */
RECORD_TYPE = UNDEFINED
/* POINTERS TO DATA OBJECTS */
^IMAGE = ("H9338_0000_BL4.TIF")
/* IDENTIFICATION DATA ELEMENTS */
DATA_SET_ID = "MEX-M-HRSC-4-REFDR-MAPPROJECT-EXT3-V4.0"
DATA_SET_NAME = "MARS EXPRESS HRSC MAP PROJECTED REFDR EXTENSION3 V4.0"
DETECTOR_ID = MEX_HRSC_BLUE
EVENT_TYPE = "MARS-REGIONAL-MAPPING-Vo-Fl-Eo"
INSTRUMENT_HOST_ID = MEX
INSTRUMENT_HOST_NAME = "MARS EXPRESS"
INSTRUMENT_ID = HRSC
INSTRUMENT_NAME = "HIGH RESOLUTION STEREO CAMERA"
MISSION_NAME = "MARS EXPRESS"
MISSION_PHASE_NAME = ME_Phase_23
PROCESSING_LEVEL_ID = 4
PRODUCT_CREATION_TIME = 2023-02-04T05:05:37.000Z
PRODUCT_ID = "H9338_0000_BL4.TIF"
RELEASE_ID = 0006
REVISION_ID = 0000
/* QUALITY DATA ELEMENTS */
DATA_QUALITY_ID = 1
DATA_QUALITY_DESC = "Data calculated based on original SPICE kernels"
/* TIME DATA ELEMENTS */
SPACECRAFT_CLOCK_START_COUNT = "1/0251823305.07311"
SPACECRAFT_CLOCK_STOP_COUNT = "1/0251823816.51904"
START_TIME = 2011-04-25T14:55:50.523Z
STOP_TIME = 2011-04-25T15:02:23.994Z
/* ORBITAL DATA ELEMENTS */
ASCENDING_NODE_LONGITUDE = 38.96
MAXIMUM_RESOLUTION = 0.0659
FOOTPRINT_POINT_LATITUDE = (-2.85303,-2.85328,-2.85308,-2.8526, -2.85258,-2.84914,-3.60211,-4.35869, -5.13178,-5.91068,-6.30521,-6.69857, -7.10015,-7.70242,-8.31511,-8.72339, -9.13892,-9.55437,-10.1875,-10.6108, -11.0412,-11.4717,-11.9096,-12.3473, -12.7926,-13.4658,-14.1479,-14.8378, -15.5406,-16.0136,-16.4927,-16.9751, -17.4616,-17.955,-18.454,-18.9576, -19.4659,-19.9809,-20.5004,-21.0264, -21.5593,-22.097,-22.6413,-23.1914, -23.7392,-24.2842,-24.8268,-25.3661, -25.6343,-25.6999,-25.7016,-25.7007, -25.6923,-25.6837,-25.6833,-25.6817, -25.1454,-24.6056,-24.0643,-23.5193, -22.971,-22.151,-21.6129,-21.0812, -20.5556,-20.0354,-19.521,-19.0105, -18.5077,-18.0084,-17.5172,-17.0293, -16.5461,-16.0665,-15.5942,-14.8924, -14.2005,-13.5178,-13.0669,-12.6221, -11.9613,-11.522,-11.0926,-10.6609, -10.2378,-9.60379,-9.18838,-8.77178, -8.36236,-7.74878,-7.34869,-6.94715, -6.35205,-5.95781,-5.56397,-4.79132, -4.02641,-3.0792,-2.89415,-2.85303)
FOOTPRINT_POINT_LONGITUDE = (195.282,194.707,194.279,193.857, 193.844,193.841,193.825,193.807,193.789 ,193.77,193.76,193.751,193.74,193.725, 193.708,193.697,193.686,193.674,193.657 ,193.644,193.632,193.619,193.606, 193.592,193.579,193.558,193.536,193.513 ,193.489,193.473,193.456,193.439, 193.422,193.404,193.385,193.366,193.347 ,193.327,193.307,193.286,193.265, 193.242,193.219,193.195,193.172,193.148 ,193.123,193.099,193.086,193.083, 193.533,194.14,195.112,195.783,195.809, 195.818,195.792,195.768,195.741,195.717 ,195.694,195.664,195.643,195.623, 195.603,195.586,195.57,195.559,195.541, 195.527,195.508,195.497,195.484,195.472 ,195.46,195.444,195.429,195.416,195.407 ,195.398,195.386,195.381,195.371, 195.365,195.359,195.352,195.345,195.34, 195.339,195.333,195.326,195.322,195.317 ,195.314,195.312,195.308,195.302, 195.297,195.297,195.282)
ORBIT_NUMBER = 9338
ORBITAL_ECCENTRICITY = 0.577
ORBITAL_INCLINATION = 86.85
ORBITAL_SEMIMAJOR_AXIS = 8848.56
PERIAPSIS_ALTITUDE = 347.08
PERIAPSIS_ARGUMENT_ANGLE = 166.18
PERIAPSIS_TIME = 2011-04-25T14:51:25.000Z
SPACECRAFT_ORIENTATION = (0.0,-1.0,0.0)
^MEX_ORIENTATION_DESC = "MEX_ORIENTATION_DESC.TXT"
SPACECRAFT_POINTING_MODE = ACROSSTRACK
^MEX_POINTING_DESC = "MEX_POINTING_DESC.TXT"
RIGHT_ASCENSION = -1e+32
DECLINATION = -1e+32
OFFSET_ANGLE = 0.8
SPACECRAFT_SOLAR_DISTANCE = 2.08987e+08
TARGET_NAME = MARS
/* CAMERA DATA ELEMENTS */
DETECTOR_TEMPERATURE = 18.3705
FOCAL_PLANE_TEMPERATURE = 8.3794
INST_CMPRS_NAME = "DISCRETE COSINE TRANSFORMATION (DCT)"
INST_CMPRS_RATIO = 7.06745
INST_CMPRS_QUALITY = 0
INST_CMPRS_QUANTZ_TBL_ID = 0
INSTRUMENT_TEMPERATURE = 12.4574
LENS_TEMPERATURE = 8.5833
MACROPIXEL_SIZE = 4
MISSING_FRAMES = 0
PIXEL_SUBSAMPLING_FLAG = N
SIGNAL_CHAIN_ID = 2
/* RADIOMETRIC DATA ELEMENTS */
BANDWIDTH = 76.0
CENTER_FILTER_WAVELENGTH = 444.0
RADIANCE_OFFSET = 0.463352
RADIANCE_SCALING_FACTOR = 0.00143548
REFLECTANCE_SCALING_FACTOR = 6.44157e-05
MEX:REFLECTANCE_OFFSET = 0.0207924
/* IMAGE OBJECT DEFINITIONS */
OBJECT = IMAGE
  INTERCHANGE_FORMAT = BINARY
  LINES = 27086
  LINE_SAMPLES = 2886
  SAMPLE_TYPE = UNSIGNED_INTEGER
  SAMPLE_BITS = 8
  BANDS = 1
  BAND_STORAGE_TYPE = BAND_SEQUENTIAL
  MAXIMUM = 255
  MEAN = 118.224
  MINIMUM = 1
  STANDARD_DEVIATION = 21.6908
END_OBJECT = IMAGE
/* MAP OBJECT DEFINITIONS */
OBJECT = IMAGE_MAP_PROJECTION
  ^DATA_SET_MAP_PROJECTION_CATALOG= "DSMAP.CAT"
  A_AXIS_RADIUS = 3396.0
  B_AXIS_RADIUS = 3396.0
  C_AXIS_RADIUS = 3396.0
  CENTER_LATITUDE = 0.0
  CENTER_LONGITUDE = 194.0
  COORDINATE_SYSTEM_NAME = PLANETOGRAPHIC
  COORDINATE_SYSTEM_TYPE = "BODY-FIXED ROTATING"
  EASTERNMOST_LONGITUDE = 195.818
  FIRST_STANDARD_PARALLEL = "N/A"
  LINE_FIRST_PIXEL = 1
  LINE_LAST_PIXEL = 27086
  LINE_PROJECTION_OFFSET = -3370.875
  MAP_PROJECTION_ROTATION = 0.0
  MAP_PROJECTION_TYPE = SINUSOIDAL
  MAP_RESOLUTION = 1185.42760773333
  MAP_SCALE = 0.05
  MAXIMUM_LATITUDE = -2.84914
  MINIMUM_LATITUDE = -25.7016
  POSITIVE_LONGITUDE_DIRECTION = EAST
  REFERENCE_LATITUDE = "N/A"
  REFERENCE_LONGITUDE = "N/A"
  SAMPLE_FIRST_PIXEL = 1
  SAMPLE_LAST_PIXEL = 2886
  SAMPLE_PROJECTION_OFFSET = 970.125
  SECOND_STANDARD_PARALLEL = "N/A"
  WESTERNMOST_LONGITUDE = 193.083
END_OBJECT = IMAGE_MAP_PROJECTION
END
