PDS_VERSION_ID = PDS3
/* FILE DATA ELEMENTS */
RECORD_TYPE = UNDEFINED
/* POINTERS TO DATA OBJECTS */
^IMAGE = ("H9335_0000_RE4.TIF")
/* IDENTIFICATION DATA ELEMENTS */
DATA_SET_ID = "MEX-M-HRSC-4-REFDR-MAPPROJECT-EXT3-V4.0"
DATA_SET_NAME = "MARS EXPRESS HRSC MAP PROJECTED REFDR EXTENSION3 V4.0"
DETECTOR_ID = MEX_HRSC_RED
EVENT_TYPE = "MARS-REGIONAL-MAPPING-Im-Fl"
INSTRUMENT_HOST_ID = MEX
INSTRUMENT_HOST_NAME = "MARS EXPRESS"
INSTRUMENT_ID = HRSC
INSTRUMENT_NAME = "HIGH RESOLUTION STEREO CAMERA"
MISSION_NAME = "MARS EXPRESS"
MISSION_PHASE_NAME = ME_Phase_23
PROCESSING_LEVEL_ID = 4
PRODUCT_CREATION_TIME = 2023-02-04T05:05:37.000Z
PRODUCT_ID = "H9335_0000_RE4.TIF"
RELEASE_ID = 0006
REVISION_ID = 0000
/* QUALITY DATA ELEMENTS */
DATA_QUALITY_ID = 1
DATA_QUALITY_DESC = "Data calculated based on original SPICE kernels"
/* TIME DATA ELEMENTS */
SPACECRAFT_CLOCK_START_COUNT = "1/0251747865.07293"
SPACECRAFT_CLOCK_STOP_COUNT = "1/0251748159.19598"
START_TIME = 2011-04-24T17:59:08.005Z
STOP_TIME = 2011-04-24T18:02:27.159Z
/* ORBITAL DATA ELEMENTS */
ASCENDING_NODE_LONGITUDE = 39.02
MAXIMUM_RESOLUTION = 0.0809
FOOTPRINT_POINT_LATITUDE = (-9.70871,-9.72255,-9.73025,-9.73729, -9.74364,-9.7494,-9.75462,-9.75493, -9.75875,-10.1455,-10.4352,-10.7284, -11.1244,-11.626,-12.029,-12.4307, -12.6349,-12.9416,-13.1454,-13.3526, -13.56,-13.766,-13.9759,-14.2889, -14.6061,-14.8181,-15.03,-15.3516, -15.567,-15.7813,-15.9992,-16.326, -16.5455,-16.7677,-17.1009,-17.3242, -17.5467,-17.7725,-18.1117,-18.3397, -18.5672,-18.7971,-19.1424,-19.4922, -19.8444,-20.0796,-20.317,-20.4359, -20.5413,-20.5366,-20.5325,-20.5277, -20.5156,-20.5051,-20.4903,-20.4816, -20.4807,-20.4791,-20.2418,-20.0055, -19.7709,-19.5368,-19.3044,-19.0731, -18.8432,-18.6124,-18.3854,-18.1569, -17.9278,-17.5917,-17.3675,-17.1452, -16.8114,-16.5915,-16.3718,-16.1533, -15.9364,-15.7172,-15.5029,-15.2891, -15.0744,-14.8627,-14.6489,-14.4321, -14.2211,-13.9074,-13.6985,-13.4922, -13.0858,-12.7787,-12.5727,-12.168, -11.865,-11.6625,-11.2652,-10.7685, -10.2768,-9.88645,-9.78762,-9.70871)
FOOTPRINT_POINT_LONGITUDE = (142.24,141.81,141.548,141.288,141.031, 140.775,140.52,140.504,140.5,140.489, 140.479,140.47,140.458,140.442,140.429, 140.415,140.409,140.398,140.391,140.384 ,140.377,140.37,140.362,140.351,140.34, 140.332,140.324,140.312,140.304,140.296 ,140.288,140.275,140.267,140.258, 140.245,140.236,140.227,140.218,140.205 ,140.195,140.186,140.176,140.161, 140.146,140.131,140.12,140.11,140.105, 140.1,140.501,140.747,140.972,141.493, 141.836,142.272,142.504,142.527,142.535 ,142.525,142.516,142.506,142.497, 142.488,142.479,142.47,142.462,142.454, 142.446,142.44,142.428,142.421,142.413, 142.403,142.397,142.389,142.383,142.376 ,142.371,142.365,142.358,142.352, 142.346,142.342,142.339,142.335,142.326 ,142.322,142.316,142.302,142.296, 142.292,142.283,142.278,142.274,142.267 ,142.259,142.251,142.246,142.246, 142.24)
ORBIT_NUMBER = 9335
ORBITAL_ECCENTRICITY = 0.577
ORBITAL_INCLINATION = 86.84
ORBITAL_SEMIMAJOR_AXIS = 8853.98
PERIAPSIS_ALTITUDE = 346.84
PERIAPSIS_ARGUMENT_ANGLE = 166.73
PERIAPSIS_TIME = 2011-04-24T17:52:28.000Z
SPACECRAFT_ORIENTATION = (0.0,-1.0,0.0)
^MEX_ORIENTATION_DESC = "MEX_ORIENTATION_DESC.TXT"
SPACECRAFT_POINTING_MODE = ACROSSTRACK
^MEX_POINTING_DESC = "MEX_POINTING_DESC.TXT"
RIGHT_ASCENSION = -1e+32
DECLINATION = -1e+32
OFFSET_ANGLE = 0.8
SPACECRAFT_SOLAR_DISTANCE = 2.08903e+08
TARGET_NAME = MARS
/* CAMERA DATA ELEMENTS */
DETECTOR_TEMPERATURE = 18.5744
FOCAL_PLANE_TEMPERATURE = 8.7872
INST_CMPRS_NAME = "DISCRETE COSINE TRANSFORMATION (DCT)"
INST_CMPRS_RATIO = 10.0837
INST_CMPRS_QUALITY = 0
INST_CMPRS_QUANTZ_TBL_ID = 0
INSTRUMENT_TEMPERATURE = 11.234
LENS_TEMPERATURE = 8.9911
MACROPIXEL_SIZE = 4
MISSING_FRAMES = 0
PIXEL_SUBSAMPLING_FLAG = N
SIGNAL_CHAIN_ID = 2
/* RADIOMETRIC DATA ELEMENTS */
BANDWIDTH = 48.0
CENTER_FILTER_WAVELENGTH = 748.0
RADIANCE_OFFSET = 0.578562
RADIANCE_SCALING_FACTOR = 0.00426272
REFLECTANCE_SCALING_FACTOR = 0.000424525
MEX:REFLECTANCE_OFFSET = 0.057619
/* IMAGE OBJECT DEFINITIONS */
OBJECT = IMAGE
  INTERCHANGE_FORMAT = BINARY
  LINES = 12775
  LINE_SAMPLES = 2481
  SAMPLE_TYPE = UNSIGNED_INTEGER
  SAMPLE_BITS = 8
  BANDS = 1
  BAND_STORAGE_TYPE = BAND_SEQUENTIAL
  MAXIMUM = 255
  MEAN = 98.6239
  MINIMUM = 1
  STANDARD_DEVIATION = 40.8153
END_OBJECT = IMAGE
/* MAP OBJECT DEFINITIONS */
OBJECT = IMAGE_MAP_PROJECTION
  ^DATA_SET_MAP_PROJECTION_CATALOG= "DSMAP.CAT"
  A_AXIS_RADIUS = 3396.0
  B_AXIS_RADIUS = 3396.0
  C_AXIS_RADIUS = 3396.0
  CENTER_LATITUDE = 0.0
  CENTER_LONGITUDE = 141.0
  COORDINATE_SYSTEM_NAME = PLANETOGRAPHIC
  COORDINATE_SYSTEM_TYPE = "BODY-FIXED ROTATING"
  EASTERNMOST_LONGITUDE = 142.535
  FIRST_STANDARD_PARALLEL = "N/A"
  LINE_FIRST_PIXEL = 1
  LINE_LAST_PIXEL = 12775
  LINE_PROJECTION_OFFSET = -11540.625
  MAP_PROJECTION_ROTATION = 0.0
  MAP_PROJECTION_TYPE = SINUSOIDAL
  MAP_RESOLUTION = 1185.42760773333
  MAP_SCALE = 0.05
  MAXIMUM_LATITUDE = -9.70871
  MINIMUM_LATITUDE = -20.5413
  POSITIVE_LONGITUDE_DIRECTION = EAST
  REFERENCE_LATITUDE = "N/A"
  REFERENCE_LONGITUDE = "N/A"
  SAMPLE_FIRST_PIXEL = 1
  SAMPLE_LAST_PIXEL = 2481
  SAMPLE_PROJECTION_OFFSET = 892.875
  SECOND_STANDARD_PARALLEL = "N/A"
  WESTERNMOST_LONGITUDE = 140.1
END_OBJECT = IMAGE_MAP_PROJECTION
END
