PDS_VERSION_ID = PDS3
/* FILE DATA ELEMENTS */
RECORD_TYPE = UNDEFINED
/* POINTERS TO DATA OBJECTS */
^IMAGE = ("H9335_0000_P14.TIF")
/* IDENTIFICATION DATA ELEMENTS */
DATA_SET_ID = "MEX-M-HRSC-4-REFDR-MAPPROJECT-EXT3-V4.0"
DATA_SET_NAME = "MARS EXPRESS HRSC MAP PROJECTED REFDR EXTENSION3 V4.0"
DETECTOR_ID = MEX_HRSC_P1
EVENT_TYPE = "MARS-REGIONAL-MAPPING-Im-Fl"
INSTRUMENT_HOST_ID = MEX
INSTRUMENT_HOST_NAME = "MARS EXPRESS"
INSTRUMENT_ID = HRSC
INSTRUMENT_NAME = "HIGH RESOLUTION STEREO CAMERA"
MISSION_NAME = "MARS EXPRESS"
MISSION_PHASE_NAME = ME_Phase_23
PROCESSING_LEVEL_ID = 4
PRODUCT_CREATION_TIME = 2023-02-04T05:05:37.000Z
PRODUCT_ID = "H9335_0000_P14.TIF"
RELEASE_ID = 0006
REVISION_ID = 0000
/* QUALITY DATA ELEMENTS */
DATA_QUALITY_ID = 1
DATA_QUALITY_DESC = "Data calculated based on original SPICE kernels"
/* TIME DATA ELEMENTS */
SPACECRAFT_CLOCK_START_COUNT = "1/0251747865.07293"
SPACECRAFT_CLOCK_STOP_COUNT = "1/0251748159.19598"
START_TIME = 2011-04-24T17:58:01.802Z
STOP_TIME = 2011-04-24T18:00:53.888Z
/* ORBITAL DATA ELEMENTS */
ASCENDING_NODE_LONGITUDE = 39.02
MAXIMUM_RESOLUTION = 0.0727
FOOTPRINT_POINT_LATITUDE = (-9.77581,-9.7623,-9.7541,-9.74603, -9.7381,-9.73029,-9.72258,-9.7221, -9.72092,-10.0113,-10.6006,-10.9966, -11.4879,-11.791,-12.1961,-12.4998, -12.7063,-12.9129,-13.2226,-13.4286, -13.7439,-13.9543,-14.1645,-14.3749, -14.5897,-14.8047,-15.0191,-15.233, -15.4509,-15.6695,-15.8879,-16.1061, -16.3278,-16.5494,-16.8818,-17.1073, -17.4452,-17.6709,-17.9022,-18.2455, -18.4751,-18.8256,-19.0592,-19.2948, -19.531,-19.7675,-20.006,-20.369, -20.4893,-20.4921,-20.498,-20.5039, -20.5127,-20.525,-20.5295,-20.5416, -20.5421,-20.5409,-20.3004,-19.9396, -19.7022,-19.465,-19.1115,-18.8783, -18.6442,-18.4118,-18.1822,-17.8395, -17.612,-17.3871,-17.1601,-16.9351, -16.714,-16.4922,-16.1597,-15.9406, -15.7236,-15.5049,-15.2869,-15.0717, -14.8575,-14.6439,-14.4334,-14.2242, -14.0132,-13.8031,-13.5924,-13.2793, -13.0694,-12.8633,-12.5555,-12.0499, -11.6461,-11.3474,-10.8531,-10.4576, -10.1672,-9.87893,-9.78299,-9.77581)
FOOTPRINT_POINT_LONGITUDE = (142.166,141.773,141.534,141.297, 141.061,140.828,140.596,140.582,140.578 ,140.571,140.556,140.546,140.533, 140.525,140.514,140.506,140.5,140.495, 140.486,140.481,140.472,140.466,140.46, 140.454,140.448,140.442,140.435,140.429 ,140.423,140.416,140.41,140.403,140.396 ,140.39,140.379,140.372,140.362,140.355 ,140.348,140.337,140.329,140.318,140.31 ,140.303,140.295,140.287,140.279, 140.267,140.263,140.262,140.571,140.804 ,141.137,141.611,141.83,142.352,142.372 ,142.379,142.372,142.361,142.354, 142.347,142.337,142.331,142.324,142.317 ,142.311,142.304,142.298,142.294, 142.287,142.282,142.278,142.273,142.267 ,142.261,142.257,142.252,142.248, 142.243,142.238,142.235,142.235,142.232 ,142.227,142.224,142.22,142.213,142.206 ,142.203,142.2,142.192,142.187,142.184, 142.178,142.174,142.171,142.17,142.17, 142.166)
ORBIT_NUMBER = 9335
ORBITAL_ECCENTRICITY = 0.577
ORBITAL_INCLINATION = 86.84
ORBITAL_SEMIMAJOR_AXIS = 8853.98
PERIAPSIS_ALTITUDE = 346.84
PERIAPSIS_ARGUMENT_ANGLE = 166.73
PERIAPSIS_TIME = 2011-04-24T17:52:28.000Z
SPACECRAFT_ORIENTATION = (0.0,-1.0,0.0)
^MEX_ORIENTATION_DESC = "MEX_ORIENTATION_DESC.TXT"
SPACECRAFT_POINTING_MODE = ACROSSTRACK
^MEX_POINTING_DESC = "MEX_POINTING_DESC.TXT"
RIGHT_ASCENSION = -1e+32
DECLINATION = -1e+32
OFFSET_ANGLE = 0.8
SPACECRAFT_SOLAR_DISTANCE = 2.08903e+08
TARGET_NAME = MARS
/* CAMERA DATA ELEMENTS */
DETECTOR_TEMPERATURE = 17.5549
FOCAL_PLANE_TEMPERATURE = 8.7872
INST_CMPRS_NAME = "DISCRETE COSINE TRANSFORMATION (DCT)"
INST_CMPRS_RATIO = 8.54809
INST_CMPRS_QUALITY = 0
INST_CMPRS_QUANTZ_TBL_ID = 0
INSTRUMENT_TEMPERATURE = 11.234
LENS_TEMPERATURE = 8.9911
MACROPIXEL_SIZE = 4
MISSING_FRAMES = 0
PIXEL_SUBSAMPLING_FLAG = N
SIGNAL_CHAIN_ID = 3
/* RADIOMETRIC DATA ELEMENTS */
BANDWIDTH = 174.0
CENTER_FILTER_WAVELENGTH = 675.0
RADIANCE_OFFSET = 2.34028
RADIANCE_SCALING_FACTOR = 0.0143921
REFLECTANCE_SCALING_FACTOR = 0.000337831
MEX:REFLECTANCE_OFFSET = 0.0549343
/* IMAGE OBJECT DEFINITIONS */
OBJECT = IMAGE
  INTERCHANGE_FORMAT = BINARY
  LINES = 12775
  LINE_SAMPLES = 2481
  SAMPLE_TYPE = UNSIGNED_INTEGER
  SAMPLE_BITS = 8
  BANDS = 1
  BAND_STORAGE_TYPE = BAND_SEQUENTIAL
  MAXIMUM = 255
  MEAN = 98.0819
  MINIMUM = 1
  STANDARD_DEVIATION = 37.9379
END_OBJECT = IMAGE
/* MAP OBJECT DEFINITIONS */
OBJECT = IMAGE_MAP_PROJECTION
  ^DATA_SET_MAP_PROJECTION_CATALOG= "DSMAP.CAT"
  A_AXIS_RADIUS = 3396.0
  B_AXIS_RADIUS = 3396.0
  C_AXIS_RADIUS = 3396.0
  CENTER_LATITUDE = 0.0
  CENTER_LONGITUDE = 141.0
  COORDINATE_SYSTEM_NAME = PLANETOGRAPHIC
  COORDINATE_SYSTEM_TYPE = "BODY-FIXED ROTATING"
  EASTERNMOST_LONGITUDE = 142.379
  FIRST_STANDARD_PARALLEL = "N/A"
  LINE_FIRST_PIXEL = 1
  LINE_LAST_PIXEL = 12775
  LINE_PROJECTION_OFFSET = -11540.625
  MAP_PROJECTION_ROTATION = 0.0
  MAP_PROJECTION_TYPE = SINUSOIDAL
  MAP_RESOLUTION = 1185.42760773333
  MAP_SCALE = 0.05
  MAXIMUM_LATITUDE = -9.72092
  MINIMUM_LATITUDE = -20.5421
  POSITIVE_LONGITUDE_DIRECTION = EAST
  REFERENCE_LATITUDE = "N/A"
  REFERENCE_LONGITUDE = "N/A"
  SAMPLE_FIRST_PIXEL = 1
  SAMPLE_LAST_PIXEL = 2481
  SAMPLE_PROJECTION_OFFSET = 892.875
  SECOND_STANDARD_PARALLEL = "N/A"
  WESTERNMOST_LONGITUDE = 140.262
END_OBJECT = IMAGE_MAP_PROJECTION
END
