PDS_VERSION_ID = PDS3
/* FILE DATA ELEMENTS */
RECORD_TYPE = UNDEFINED
/* POINTERS TO DATA OBJECTS */
^IMAGE = ("H9333_0000_P24.TIF")
/* IDENTIFICATION DATA ELEMENTS */
DATA_SET_ID = "MEX-M-HRSC-4-REFDR-MAPPROJECT-EXT3-V4.0"
DATA_SET_NAME = "MARS EXPRESS HRSC MAP PROJECTED REFDR EXTENSION3 V4.0"
DETECTOR_ID = MEX_HRSC_P2
EVENT_TYPE = "MARS-REGIONAL-MAPPING-Te-Fl"
INSTRUMENT_HOST_ID = MEX
INSTRUMENT_HOST_NAME = "MARS EXPRESS"
INSTRUMENT_ID = HRSC
INSTRUMENT_NAME = "HIGH RESOLUTION STEREO CAMERA"
MISSION_NAME = "MARS EXPRESS"
MISSION_PHASE_NAME = ME_Phase_23
PROCESSING_LEVEL_ID = 4
PRODUCT_CREATION_TIME = 2023-02-04T05:05:37.000Z
PRODUCT_ID = "H9333_0000_P24.TIF"
RELEASE_ID = 0006
REVISION_ID = 0000
/* QUALITY DATA ELEMENTS */
DATA_QUALITY_ID = 1
DATA_QUALITY_DESC = "Data calculated based on original SPICE kernels"
/* TIME DATA ELEMENTS */
SPACECRAFT_CLOCK_START_COUNT = "1/0251697436.08254"
SPACECRAFT_CLOCK_STOP_COUNT = "1/0251697649.32274"
START_TIME = 2011-04-24T03:58:23.812Z
STOP_TIME = 2011-04-24T04:00:31.236Z
/* ORBITAL DATA ELEMENTS */
ASCENDING_NODE_LONGITUDE = 39.06
MAXIMUM_RESOLUTION = 0.0721
FOOTPRINT_POINT_LATITUDE = (-5.80625,-5.79701,-5.78738,-5.77732, -5.76678,-5.75577,-5.74432,-5.73691, -5.73616,-5.71918,-5.92818,-6.21285, -6.4245,-6.70722,-7.13112,-7.34691, -7.49088,-7.77885,-7.99484,-8.28565, -8.43277,-8.57933,-8.72461,-8.86937, -9.01644,-9.16456,-9.31354,-9.46228, -9.68494,-9.83317,-9.98207,-10.2053, -10.4309,-10.5827,-10.8114,-10.9644, -11.118,-11.2709,-11.4239,-11.5767, -11.732,-11.8881,-12.0438,-12.199, -12.3543,-12.5909,-12.8278,-12.9859, -13.0648,-13.1415,-13.1531,-13.1606, -13.1755,-13.1849,-13.1976,-13.2067, -13.2125,-13.2193,-13.2198,-13.2189, -12.982,-12.7446,-12.5861,-12.4285, -12.273,-12.1174,-11.9615,-11.8054, -11.5736,-11.4208,-11.2678,-11.1143, -10.9604,-10.8078,-10.6575,-10.5067, -10.3556,-10.2042,-10.0528,-9.90352, -9.75498,-9.53185,-9.38309,-9.234, -9.01297,-8.86662,-8.64727,-8.50084, -8.35419,-8.20775,-7.99236,-7.70455, -7.48818,-7.2003,-6.91744,-6.56386, -6.2088,-5.93137,-5.86193,-5.80625)
FOOTPRINT_POINT_LONGITUDE = (344.989,344.763,344.535,344.304, 344.072,343.837,343.6,343.45,343.435, 343.414,343.409,343.407,343.399,343.391 ,343.378,343.372,343.368,343.359, 343.352,343.344,343.34,343.335,343.33, 343.324,343.32,343.315,343.31,343.305, 343.297,343.292,343.287,343.276,343.267 ,343.262,343.257,343.25,343.245,343.239 ,343.233,343.227,343.221,343.215,343.21 ,343.203,343.197,343.188,343.178, 343.172,343.169,343.166,343.418,343.58, 343.918,344.148,344.464,344.673,344.846 ,345.036,345.053,345.059,345.056, 345.052,345.05,345.048,345.046,345.044, 345.043,345.041,345.038,345.036,345.035 ,345.033,345.031,345.029,345.028, 345.026,345.025,345.023,345.022,345.02, 345.019,345.017,345.015,345.014,345.012 ,345.01,345.009,345.007,345.006,345.005 ,345.003,345.001,344.999,344.997, 344.995,344.993,344.99,344.988,344.988, 344.989)
ORBIT_NUMBER = 9333
ORBITAL_ECCENTRICITY = 0.577
ORBITAL_INCLINATION = 86.85
ORBITAL_SEMIMAJOR_AXIS = 8850.33
PERIAPSIS_ALTITUDE = 346.65
PERIAPSIS_ARGUMENT_ANGLE = 167.04
PERIAPSIS_TIME = 2011-04-24T03:53:04.000Z
SPACECRAFT_ORIENTATION = (0.0,-1.0,0.0)
^MEX_ORIENTATION_DESC = "MEX_ORIENTATION_DESC.TXT"
SPACECRAFT_POINTING_MODE = ACROSSTRACK
^MEX_POINTING_DESC = "MEX_POINTING_DESC.TXT"
RIGHT_ASCENSION = -1e+32
DECLINATION = -1e+32
OFFSET_ANGLE = -0.95
SPACECRAFT_SOLAR_DISTANCE = 2.08848e+08
TARGET_NAME = MARS
/* CAMERA DATA ELEMENTS */
DETECTOR_TEMPERATURE = 18.5744
FOCAL_PLANE_TEMPERATURE = 8.3794
INST_CMPRS_NAME = "DISCRETE COSINE TRANSFORMATION (DCT)"
INST_CMPRS_RATIO = 11.6959
INST_CMPRS_QUALITY = 0
INST_CMPRS_QUANTZ_TBL_ID = 0
INSTRUMENT_TEMPERATURE = 11.234
LENS_TEMPERATURE = 8.7872
MACROPIXEL_SIZE = 4
MISSING_FRAMES = 0
PIXEL_SUBSAMPLING_FLAG = N
SIGNAL_CHAIN_ID = 3
/* RADIOMETRIC DATA ELEMENTS */
BANDWIDTH = 177.0
CENTER_FILTER_WAVELENGTH = 676.5
RADIANCE_OFFSET = 2.64697
RADIANCE_SCALING_FACTOR = 0.00881764
REFLECTANCE_SCALING_FACTOR = 0.000203924
MEX:REFLECTANCE_OFFSET = 0.0612159
/* IMAGE OBJECT DEFINITIONS */
OBJECT = IMAGE
  INTERCHANGE_FORMAT = BINARY
  LINES = 8816
  LINE_SAMPLES = 2084
  SAMPLE_TYPE = UNSIGNED_INTEGER
  SAMPLE_BITS = 8
  BANDS = 1
  BAND_STORAGE_TYPE = BAND_SEQUENTIAL
  MAXIMUM = 255
  MEAN = 80.4706
  MINIMUM = 1
  STANDARD_DEVIATION = 19.1555
END_OBJECT = IMAGE
/* MAP OBJECT DEFINITIONS */
OBJECT = IMAGE_MAP_PROJECTION
  ^DATA_SET_MAP_PROJECTION_CATALOG= "DSMAP.CAT"
  A_AXIS_RADIUS = 3396.0
  B_AXIS_RADIUS = 3396.0
  C_AXIS_RADIUS = 3396.0
  CENTER_LATITUDE = 0.0
  CENTER_LONGITUDE = 344.0
  COORDINATE_SYSTEM_NAME = PLANETOGRAPHIC
  COORDINATE_SYSTEM_TYPE = "BODY-FIXED ROTATING"
  EASTERNMOST_LONGITUDE = 345.059
  FIRST_STANDARD_PARALLEL = "N/A"
  LINE_FIRST_PIXEL = 1
  LINE_LAST_PIXEL = 8816
  LINE_PROJECTION_OFFSET = -6835.125
  MAP_PROJECTION_ROTATION = 0.0
  MAP_PROJECTION_TYPE = SINUSOIDAL
  MAP_RESOLUTION = 1185.42760773333
  MAP_SCALE = 0.05
  MAXIMUM_LATITUDE = -5.71918
  MINIMUM_LATITUDE = -13.2198
  POSITIVE_LONGITUDE_DIRECTION = EAST
  REFERENCE_LATITUDE = "N/A"
  REFERENCE_LONGITUDE = "N/A"
  SAMPLE_FIRST_PIXEL = 1
  SAMPLE_LAST_PIXEL = 2084
  SAMPLE_PROJECTION_OFFSET = 908.625
  SECOND_STANDARD_PARALLEL = "N/A"
  WESTERNMOST_LONGITUDE = 343.166
END_OBJECT = IMAGE_MAP_PROJECTION
END
