PDS_VERSION_ID = PDS3
/* FILE DATA ELEMENTS */
RECORD_TYPE = UNDEFINED
/* POINTERS TO DATA OBJECTS */
^IMAGE = ("H9329_0000_S24.TIF")
/* IDENTIFICATION DATA ELEMENTS */
DATA_SET_ID = "MEX-M-HRSC-4-REFDR-MAPPROJECT-EXT3-V4.0"
DATA_SET_NAME = "MARS EXPRESS HRSC MAP PROJECTED REFDR EXTENSION3 V4.0"
DETECTOR_ID = MEX_HRSC_S2
EVENT_TYPE = "MARS-REGIONAL-MAPPING-Im-Fl"
INSTRUMENT_HOST_ID = MEX
INSTRUMENT_HOST_NAME = "MARS EXPRESS"
INSTRUMENT_ID = HRSC
INSTRUMENT_NAME = "HIGH RESOLUTION STEREO CAMERA"
MISSION_NAME = "MARS EXPRESS"
MISSION_PHASE_NAME = ME_Phase_23
PROCESSING_LEVEL_ID = 4
PRODUCT_CREATION_TIME = 2023-02-04T05:05:37.000Z
PRODUCT_ID = "H9329_0000_S24.TIF"
RELEASE_ID = 0006
REVISION_ID = 0000
/* QUALITY DATA ELEMENTS */
DATA_QUALITY_ID = 1
DATA_QUALITY_DESC = "Data calculated based on original SPICE kernels"
/* TIME DATA ELEMENTS */
SPACECRAFT_CLOCK_START_COUNT = "1/0251596582.09062"
SPACECRAFT_CLOCK_STOP_COUNT = "1/0251596904.30406"
START_TIME = 2011-04-22T23:57:31.057Z
STOP_TIME = 2011-04-23T00:01:45.417Z
/* ORBITAL DATA ELEMENTS */
ASCENDING_NODE_LONGITUDE = 39.14
MAXIMUM_RESOLUTION = 0.0318
FOOTPRINT_POINT_LATITUDE = (2.81303,2.81588,2.81891,2.82381, 2.82396,2.8205,2.5274,2.08904,1.79361, 1.5023,1.21178,0.777319,0.339135, -0.238181,-0.814086,-1.24396,-1.6728, -2.24296,-2.8094,-3.3856,-3.67532, -3.96443,-4.25289,-4.54755,-4.84227, -5.13568,-5.57966,-5.87908,-6.17803, -6.62838,-6.93294,-7.23632,-7.54246, -7.85278,-8.15969,-8.47002,-8.78749, -9.10043,-9.41638,-9.73542,-10.0543, -10.5304,-11.0251,-11.3539,-11.6783, -12.0147,-12.1808,-12.1953,-12.1989, -12.2075,-12.21,-12.2097,-12.2097, -12.2092,-11.8765,-11.5457,-11.2179, -10.8898,-10.5685,-10.2455,-9.92313, -9.60431,-9.28441,-8.97064,-8.65641, -8.34277,-8.03452,-7.72567,-7.41707, -7.11072,-6.81008,-6.50525,-6.20738, -5.75712,-5.45684,-5.16298,-4.86783, -4.57261,-4.27764,-3.989,-3.69981, -3.40978,-3.11952,-2.55236,-1.83878, -1.26723,-0.693006,-0.405071,-0.115467, 0.173667,0.462523,0.752997,1.04301, 1.33357,1.77416,2.06918,2.35713,2.65074 ,2.79961,2.81303)
FOOTPRINT_POINT_LONGITUDE = (35.0556,34.5588,34.2023,33.7562, 33.7435,33.7403,33.7355,33.728,33.724, 33.7188,33.7135,33.7052,33.698,33.6867, 33.6752,33.6661,33.6569,33.6444,33.631, 33.6183,33.6114,33.6044,33.5973,33.5901 ,33.5826,33.5749,33.5633,33.5551, 33.5469,33.5341,33.5254,33.5166,33.5078 ,33.4989,33.489,33.4797,33.4708,33.4608 ,33.4506,33.4403,33.4301,33.4114, 33.3974,33.3861,33.3737,33.3626,33.3566 ,33.3561,33.725,34.2701,34.6042,35.1498 ,35.1675,35.1737,35.1679,35.1622, 35.1568,35.1516,35.1461,35.141,35.137, 35.1326,35.1284,35.1243,35.1204,35.1166 ,35.1129,35.1092,35.1056,35.1033,35.099 ,35.096,35.0928,35.0892,35.0866,35.0842 ,35.0823,35.0802,35.0783,35.0764, 35.0745,35.0728,35.0711,35.0679,35.0649 ,35.0624,35.0603,35.0594,35.0589, 35.0582,35.0573,35.0569,35.0562,35.0555 ,35.0559,35.0565,35.0548,35.0548, 35.0554,35.0556)
ORBIT_NUMBER = 9329
ORBITAL_ECCENTRICITY = 0.578
ORBITAL_INCLINATION = 86.84
ORBITAL_SEMIMAJOR_AXIS = 8858.27
PERIAPSIS_ALTITUDE = 345.82
PERIAPSIS_ARGUMENT_ANGLE = 167.77
PERIAPSIS_TIME = 2011-04-22T23:54:31.000Z
SPACECRAFT_ORIENTATION = (0.0,-1.0,0.0)
^MEX_ORIENTATION_DESC = "MEX_ORIENTATION_DESC.TXT"
SPACECRAFT_POINTING_MODE = NADIR
^MEX_POINTING_DESC = "MEX_POINTING_DESC.TXT"
RIGHT_ASCENSION = -1e+32
DECLINATION = -1e+32
OFFSET_ANGLE = -1e+32
SPACECRAFT_SOLAR_DISTANCE = 2.08739e+08
TARGET_NAME = MARS
/* CAMERA DATA ELEMENTS */
DETECTOR_TEMPERATURE = 18.5744
FOCAL_PLANE_TEMPERATURE = 8.5833
INST_CMPRS_NAME = "DISCRETE COSINE TRANSFORMATION (DCT)"
INST_CMPRS_RATIO = 14.8739
INST_CMPRS_QUALITY = 0
INST_CMPRS_QUANTZ_TBL_ID = 0
INSTRUMENT_TEMPERATURE = 11.234
LENS_TEMPERATURE = 7.5638
MACROPIXEL_SIZE = 2
MISSING_FRAMES = 0
PIXEL_SUBSAMPLING_FLAG = N
SIGNAL_CHAIN_ID = 1
/* RADIOMETRIC DATA ELEMENTS */
BANDWIDTH = 178.0
CENTER_FILTER_WAVELENGTH = 679.0
RADIANCE_OFFSET = 2.1968
RADIANCE_SCALING_FACTOR = 0.0148368
REFLECTANCE_SCALING_FACTOR = 0.000342356
MEX:REFLECTANCE_OFFSET = 0.0506908
/* IMAGE OBJECT DEFINITIONS */
OBJECT = IMAGE
  INTERCHANGE_FORMAT = BINARY
  LINES = 35586
  LINE_SAMPLES = 3895
  SAMPLE_TYPE = UNSIGNED_INTEGER
  SAMPLE_BITS = 8
  BANDS = 1
  BAND_STORAGE_TYPE = BAND_SEQUENTIAL
  MAXIMUM = 255
  MEAN = 89.6586
  MINIMUM = 1
  STANDARD_DEVIATION = 29.6028
END_OBJECT = IMAGE
/* MAP OBJECT DEFINITIONS */
OBJECT = IMAGE_MAP_PROJECTION
  ^DATA_SET_MAP_PROJECTION_CATALOG= "DSMAP.CAT"
  A_AXIS_RADIUS = 3396.0
  B_AXIS_RADIUS = 3396.0
  C_AXIS_RADIUS = 3396.0
  CENTER_LATITUDE = 0.0
  CENTER_LONGITUDE = 34.0
  COORDINATE_SYSTEM_NAME = PLANETOGRAPHIC
  COORDINATE_SYSTEM_TYPE = "BODY-FIXED ROTATING"
  EASTERNMOST_LONGITUDE = 35.1737
  FIRST_STANDARD_PARALLEL = "N/A"
  LINE_FIRST_PIXEL = 1
  LINE_LAST_PIXEL = 35586
  LINE_PROJECTION_OFFSET = 6676.75
  MAP_PROJECTION_ROTATION = 0.0
  MAP_PROJECTION_TYPE = SINUSOIDAL
  MAP_RESOLUTION = 2370.85521546667
  MAP_SCALE = 0.025
  MAXIMUM_LATITUDE = 2.82396
  MINIMUM_LATITUDE = -12.21
  POSITIVE_LONGITUDE_DIRECTION = EAST
  REFERENCE_LATITUDE = "N/A"
  REFERENCE_LONGITUDE = "N/A"
  SAMPLE_FIRST_PIXEL = 1
  SAMPLE_LAST_PIXEL = 3895
  SAMPLE_PROJECTION_OFFSET = 1326.25
  SECOND_STANDARD_PARALLEL = "N/A"
  WESTERNMOST_LONGITUDE = 33.3561
END_OBJECT = IMAGE_MAP_PROJECTION
END
