PDS_VERSION_ID = PDS3
/* FILE DATA ELEMENTS */
RECORD_TYPE = UNDEFINED
/* POINTERS TO DATA OBJECTS */
^IMAGE = ("H9329_0000_BL4.TIF")
/* IDENTIFICATION DATA ELEMENTS */
DATA_SET_ID = "MEX-M-HRSC-4-REFDR-MAPPROJECT-EXT3-V4.0"
DATA_SET_NAME = "MARS EXPRESS HRSC MAP PROJECTED REFDR EXTENSION3 V4.0"
DETECTOR_ID = MEX_HRSC_BLUE
EVENT_TYPE = "MARS-REGIONAL-MAPPING-Im-Fl"
INSTRUMENT_HOST_ID = MEX
INSTRUMENT_HOST_NAME = "MARS EXPRESS"
INSTRUMENT_ID = HRSC
INSTRUMENT_NAME = "HIGH RESOLUTION STEREO CAMERA"
MISSION_NAME = "MARS EXPRESS"
MISSION_PHASE_NAME = ME_Phase_23
PROCESSING_LEVEL_ID = 4
PRODUCT_CREATION_TIME = 2023-02-04T05:05:37.000Z
PRODUCT_ID = "H9329_0000_BL4.TIF"
RELEASE_ID = 0006
REVISION_ID = 0000
/* QUALITY DATA ELEMENTS */
DATA_QUALITY_ID = 1
DATA_QUALITY_DESC = "Data calculated based on original SPICE kernels"
/* TIME DATA ELEMENTS */
SPACECRAFT_CLOCK_START_COUNT = "1/0251596582.09062"
SPACECRAFT_CLOCK_STOP_COUNT = "1/0251596904.30406"
START_TIME = 2011-04-22T23:57:02.846Z
STOP_TIME = 2011-04-23T00:01:03.952Z
/* ORBITAL DATA ELEMENTS */
ASCENDING_NODE_LONGITUDE = 39.14
MAXIMUM_RESOLUTION = 0.0584
FOOTPRINT_POINT_LATITUDE = (2.80107,2.80524,2.81109,2.81118,2.8098 ,2.05898,1.55859,1.11309,0.666886, 0.369355,0.0729183,-0.223877,-0.519995, -0.816029,-1.25937,-1.70195,-1.99654, -2.29095,-2.58495,-2.87836,-3.31864, -3.61144,-3.90397,-4.19609,-4.48786, -5.0702,-5.36863,-5.6667,-5.96426, -6.26147,-6.56372,-6.86782,-7.17143, -7.47476,-7.7844,-8.09425,-8.40368, -8.87424,-9.19011,-9.50539,-9.8251, -10.1472,-10.4677,-10.7934,-11.1212, -11.4483,-11.9471,-12.1136,-12.1834, -12.1908,-12.1943,-12.1978,-12.1979, -12.1968,-11.8635,-11.53,-11.203, -10.8752,-10.5491,-10.228,-9.90571, -9.58451,-9.26912,-8.95315,-8.48153, -8.17212,-7.86211,-7.39955,-7.09558, -6.64026,-6.33634,-6.03914,-5.74138, -5.44325,-5.14483,-4.852,-4.26879, -3.97663,-3.68414,-3.39126,-3.09807, -2.80465,-2.51063,-2.21632,-1.92168, -1.62679,-1.33164,-1.03629,-0.740357, -0.444161,-0.147558,0.149236,0.446137, 0.743512,1.04102,1.33881,1.87255, 2.62277,2.74829,2.80107)
FOOTPRINT_POINT_LONGITUDE = (35.0371,34.5161,33.782,33.7701,33.768, 33.7567,33.75,33.7428,33.7356,33.7312, 33.7256,33.7208,33.7154,33.7102,33.702, 33.6935,33.6876,33.6819,33.676,33.6696, 33.661,33.6548,33.6486,33.6422,33.6358, 33.6225,33.6157,33.6087,33.6015,33.5943 ,33.5866,33.5789,33.5711,33.5634, 33.5554,33.547,33.5385,33.5266,33.5177, 33.5087,33.4997,33.4906,33.48,33.4717, 33.4619,33.4519,33.4365,33.4311,33.429, 34.1044,34.5133,35.0957,35.1114,35.1166 ,35.1122,35.1078,35.1035,35.0997, 35.0952,35.0913,35.0884,35.0851,35.0819 ,35.0789,35.0745,35.0716,35.069,35.0649 ,35.0635,35.0589,35.0567,35.0547, 35.0531,35.0514,35.0497,35.0486,35.0459 ,35.0447,35.0435,35.0424,35.0414, 35.0402,35.0395,35.0388,35.0382,35.0375 ,35.0369,35.036,35.0358,35.0355,35.0354 ,35.0353,35.0349,35.0349,35.0348, 35.0347,35.0367,35.0361,35.0366, 35.0371)
ORBIT_NUMBER = 9329
ORBITAL_ECCENTRICITY = 0.578
ORBITAL_INCLINATION = 86.84
ORBITAL_SEMIMAJOR_AXIS = 8858.27
PERIAPSIS_ALTITUDE = 345.82
PERIAPSIS_ARGUMENT_ANGLE = 167.77
PERIAPSIS_TIME = 2011-04-22T23:54:31.000Z
SPACECRAFT_ORIENTATION = (0.0,-1.0,0.0)
^MEX_ORIENTATION_DESC = "MEX_ORIENTATION_DESC.TXT"
SPACECRAFT_POINTING_MODE = NADIR
^MEX_POINTING_DESC = "MEX_POINTING_DESC.TXT"
RIGHT_ASCENSION = -1e+32
DECLINATION = -1e+32
OFFSET_ANGLE = -1e+32
SPACECRAFT_SOLAR_DISTANCE = 2.08739e+08
TARGET_NAME = MARS
/* CAMERA DATA ELEMENTS */
DETECTOR_TEMPERATURE = 18.3705
FOCAL_PLANE_TEMPERATURE = 8.5833
INST_CMPRS_NAME = "DISCRETE COSINE TRANSFORMATION (DCT)"
INST_CMPRS_RATIO = 8.7063
INST_CMPRS_QUALITY = 0
INST_CMPRS_QUANTZ_TBL_ID = 0
INSTRUMENT_TEMPERATURE = 11.234
LENS_TEMPERATURE = 7.5638
MACROPIXEL_SIZE = 4
MISSING_FRAMES = 0
PIXEL_SUBSAMPLING_FLAG = N
SIGNAL_CHAIN_ID = 2
/* RADIOMETRIC DATA ELEMENTS */
BANDWIDTH = 76.0
CENTER_FILTER_WAVELENGTH = 444.0
RADIANCE_OFFSET = 0.38922
RADIANCE_SCALING_FACTOR = 0.00122108
REFLECTANCE_SCALING_FACTOR = 5.4665e-05
MEX:REFLECTANCE_OFFSET = 0.0174245
/* IMAGE OBJECT DEFINITIONS */
OBJECT = IMAGE
  INTERCHANGE_FORMAT = BINARY
  LINES = 17793
  LINE_SAMPLES = 1948
  SAMPLE_TYPE = UNSIGNED_INTEGER
  SAMPLE_BITS = 8
  BANDS = 1
  BAND_STORAGE_TYPE = BAND_SEQUENTIAL
  MAXIMUM = 255
  MEAN = 104.436
  MINIMUM = 1
  STANDARD_DEVIATION = 23.6404
END_OBJECT = IMAGE
/* MAP OBJECT DEFINITIONS */
OBJECT = IMAGE_MAP_PROJECTION
  ^DATA_SET_MAP_PROJECTION_CATALOG= "DSMAP.CAT"
  A_AXIS_RADIUS = 3396.0
  B_AXIS_RADIUS = 3396.0
  C_AXIS_RADIUS = 3396.0
  CENTER_LATITUDE = 0.0
  CENTER_LONGITUDE = 34.0
  COORDINATE_SYSTEM_NAME = PLANETOGRAPHIC
  COORDINATE_SYSTEM_TYPE = "BODY-FIXED ROTATING"
  EASTERNMOST_LONGITUDE = 35.1166
  FIRST_STANDARD_PARALLEL = "N/A"
  LINE_FIRST_PIXEL = 1
  LINE_LAST_PIXEL = 17793
  LINE_PROJECTION_OFFSET = 3338.125
  MAP_PROJECTION_ROTATION = 0.0
  MAP_PROJECTION_TYPE = SINUSOIDAL
  MAP_RESOLUTION = 1185.42760773333
  MAP_SCALE = 0.05
  MAXIMUM_LATITUDE = 2.81118
  MINIMUM_LATITUDE = -12.1979
  POSITIVE_LONGITUDE_DIRECTION = EAST
  REFERENCE_LATITUDE = "N/A"
  REFERENCE_LONGITUDE = "N/A"
  SAMPLE_FIRST_PIXEL = 1
  SAMPLE_LAST_PIXEL = 1948
  SAMPLE_PROJECTION_OFFSET = 662.875
  SECOND_STANDARD_PARALLEL = "N/A"
  WESTERNMOST_LONGITUDE = 33.429
END_OBJECT = IMAGE_MAP_PROJECTION
END
