PDS_VERSION_ID = PDS3
/* FILE DATA ELEMENTS */
RECORD_TYPE = UNDEFINED
/* POINTERS TO DATA OBJECTS */
^IMAGE = ("H9328_0000_IR4.TIF")
/* IDENTIFICATION DATA ELEMENTS */
DATA_SET_ID = "MEX-M-HRSC-4-REFDR-MAPPROJECT-EXT3-V4.0"
DATA_SET_NAME = "MARS EXPRESS HRSC MAP PROJECTED REFDR EXTENSION3 V4.0"
DETECTOR_ID = MEX_HRSC_IR
EVENT_TYPE = "MARS-REGIONAL-MAPPING-Im-Fl"
INSTRUMENT_HOST_ID = MEX
INSTRUMENT_HOST_NAME = "MARS EXPRESS"
INSTRUMENT_ID = HRSC
INSTRUMENT_NAME = "HIGH RESOLUTION STEREO CAMERA"
MISSION_NAME = "MARS EXPRESS"
MISSION_PHASE_NAME = ME_Phase_23
PROCESSING_LEVEL_ID = 4
PRODUCT_CREATION_TIME = 2023-02-04T05:05:37.000Z
PRODUCT_ID = "H9328_0000_IR4.TIF"
RELEASE_ID = 0006
REVISION_ID = 0000
/* QUALITY DATA ELEMENTS */
DATA_QUALITY_ID = 1
DATA_QUALITY_DESC = "Data calculated based on original SPICE kernels"
/* TIME DATA ELEMENTS */
SPACECRAFT_CLOCK_START_COUNT = "1/0251571566.09133"
SPACECRAFT_CLOCK_STOP_COUNT = "1/0251571900.61916"
START_TIME = 2011-04-22T16:59:35.467Z
STOP_TIME = 2011-04-22T17:03:07.166Z
/* ORBITAL DATA ELEMENTS */
ASCENDING_NODE_LONGITUDE = 39.15
MAXIMUM_RESOLUTION = 0.1386
FOOTPRINT_POINT_LATITUDE = (-8.09056,-8.07345,-8.0608,-8.04875, -8.04838,-8.0519,-8.51955,-9.11568, -9.8384,-10.326,-10.5762,-10.9478, -11.1939,-11.5654,-11.9456,-12.1993, -12.4555,-12.7129,-12.9685,-13.227, -13.4879,-13.7526,-14.0158,-14.2772, -14.5436,-14.9479,-15.2176,-15.6278, -15.9014,-16.175,-16.4537,-16.7323, -17.0108,-17.293,-17.5764,-17.8603, -18.1482,-18.4373,-18.7256,-19.0196, -19.3128,-19.6081,-19.9087,-20.2086, -20.5115,-20.8159,-21.276,-21.4311, -21.5361,-21.5455,-21.5495,-21.5565, -21.5668,-21.5747,-21.5755,-21.573, -21.2651,-20.959,-20.6548,-20.3501, -20.0511,-19.7514,-19.4543,-19.0138, -18.7203,-18.4308,-17.9999,-17.7155, -17.2892,-17.0064,-16.7273,-16.449, -16.1719,-15.8983,-15.6237,-15.2136, -14.9454,-14.6778,-14.2782,-14.0156, -13.7522,-13.4889,-13.2293,-12.9721, -12.7145,-12.3281,-12.0753,-11.6965, -11.4435,-11.1905,-10.9434,-10.5722, -10.3251,-10.082,-9.60543,-9.00136, -8.75923,-8.28538,-8.16841,-8.09056)
FOOTPRINT_POINT_LONGITUDE = (137.796,137.228,136.79,136.355,136.342 ,136.335,136.324,136.311,136.293, 136.282,136.275,136.266,136.26,136.251, 136.241,136.234,136.227,136.221,136.214 ,136.207,136.2,136.192,136.185,136.178, 136.171,136.159,136.151,136.139,136.131 ,136.123,136.114,136.106,136.097, 136.089,136.08,136.071,136.062,136.053, 136.044,136.035,136.025,136.016,136.005 ,135.995,135.985,135.975,135.959, 135.953,135.95,136.447,136.756,137.182, 137.476,137.985,138.005,138.018,138.011 ,138.003,137.994,137.986,137.979, 137.971,137.964,137.954,137.947,137.94, 137.932,137.926,137.917,137.911,137.905 ,137.9,137.895,137.89,137.885,137.877, 137.872,137.868,137.863,137.859,137.855 ,137.851,137.847,137.844,137.841, 137.836,137.832,137.827,137.824,137.82, 137.817,137.813,137.811,137.811,137.81, 137.804,137.801,137.795,137.795, 137.796)
ORBIT_NUMBER = 9328
ORBITAL_ECCENTRICITY = 0.578
ORBITAL_INCLINATION = 86.84
ORBITAL_SEMIMAJOR_AXIS = 8855.22
PERIAPSIS_ALTITUDE = 345.93
PERIAPSIS_ARGUMENT_ANGLE = 167.94
PERIAPSIS_TIME = 2011-04-22T16:54:53.000Z
SPACECRAFT_ORIENTATION = (0.0,-1.0,0.0)
^MEX_ORIENTATION_DESC = "MEX_ORIENTATION_DESC.TXT"
SPACECRAFT_POINTING_MODE = ACROSSTRACK
^MEX_POINTING_DESC = "MEX_POINTING_DESC.TXT"
RIGHT_ASCENSION = -1e+32
DECLINATION = -1e+32
OFFSET_ANGLE = 0.458
SPACECRAFT_SOLAR_DISTANCE = 2.08712e+08
TARGET_NAME = MARS
/* CAMERA DATA ELEMENTS */
DETECTOR_TEMPERATURE = 17.1471
FOCAL_PLANE_TEMPERATURE = 8.5833
INST_CMPRS_NAME = "DISCRETE COSINE TRANSFORMATION (DCT)"
INST_CMPRS_RATIO = 10.752
INST_CMPRS_QUALITY = 0
INST_CMPRS_QUANTZ_TBL_ID = 0
INSTRUMENT_TEMPERATURE = 11.234
LENS_TEMPERATURE = 8.7872
MACROPIXEL_SIZE = 8
MISSING_FRAMES = 0
PIXEL_SUBSAMPLING_FLAG = N
SIGNAL_CHAIN_ID = 2
/* RADIOMETRIC DATA ELEMENTS */
BANDWIDTH = 81.0
CENTER_FILTER_WAVELENGTH = 955.5
RADIANCE_OFFSET = 0.452288
RADIANCE_SCALING_FACTOR = 0.00361558
REFLECTANCE_SCALING_FACTOR = 0.000339785
MEX:REFLECTANCE_OFFSET = 0.0425052
/* IMAGE OBJECT DEFINITIONS */
OBJECT = IMAGE
  INTERCHANGE_FORMAT = BINARY
  LINES = 8005
  LINE_SAMPLES = 1227
  SAMPLE_TYPE = UNSIGNED_INTEGER
  SAMPLE_BITS = 8
  BANDS = 1
  BAND_STORAGE_TYPE = BAND_SEQUENTIAL
  MAXIMUM = 255
  MEAN = 78.5562
  MINIMUM = 1
  STANDARD_DEVIATION = 39.3653
END_OBJECT = IMAGE
/* MAP OBJECT DEFINITIONS */
OBJECT = IMAGE_MAP_PROJECTION
  ^DATA_SET_MAP_PROJECTION_CATALOG= "DSMAP.CAT"
  A_AXIS_RADIUS = 3396.0
  B_AXIS_RADIUS = 3396.0
  C_AXIS_RADIUS = 3396.0
  CENTER_LATITUDE = 0.0
  CENTER_LONGITUDE = 137.0
  COORDINATE_SYSTEM_NAME = PLANETOGRAPHIC
  COORDINATE_SYSTEM_TYPE = "BODY-FIXED ROTATING"
  EASTERNMOST_LONGITUDE = 138.018
  FIRST_STANDARD_PARALLEL = "N/A"
  LINE_FIRST_PIXEL = 1
  LINE_LAST_PIXEL = 8005
  LINE_PROJECTION_OFFSET = -4775.1875
  MAP_PROJECTION_ROTATION = 0.0
  MAP_PROJECTION_TYPE = SINUSOIDAL
  MAP_RESOLUTION = 592.713803866667
  MAP_SCALE = 0.1
  MAXIMUM_LATITUDE = -8.04838
  MINIMUM_LATITUDE = -21.5755
  POSITIVE_LONGITUDE_DIRECTION = EAST
  REFERENCE_LATITUDE = "N/A"
  REFERENCE_LONGITUDE = "N/A"
  SAMPLE_FIRST_PIXEL = 1
  SAMPLE_LAST_PIXEL = 1227
  SAMPLE_PROJECTION_OFFSET = 628.0625
  SECOND_STANDARD_PARALLEL = "N/A"
  WESTERNMOST_LONGITUDE = 135.95
END_OBJECT = IMAGE_MAP_PROJECTION
END
